From mboxrd@z Thu Jan 1 00:00:00 1970 Return-Path: Received: from mails.dpdk.org (mails.dpdk.org [217.70.189.124]) by inbox.dpdk.org (Postfix) with ESMTP id 9973448AA2 for ; Tue, 4 Nov 2025 10:24:21 +0100 (CET) Received: from mails.dpdk.org (localhost [127.0.0.1]) by mails.dpdk.org (Postfix) with ESMTP id 92EB740285; Tue, 4 Nov 2025 10:24:21 +0100 (CET) Received: from mail-pg1-f225.google.com (mail-pg1-f225.google.com [209.85.215.225]) by mails.dpdk.org (Postfix) with ESMTP id 77FFE40285 for ; Tue, 4 Nov 2025 10:24:20 +0100 (CET) Received: by mail-pg1-f225.google.com with SMTP id 41be03b00d2f7-b99dc8f439cso1002523a12.0 for ; Tue, 04 Nov 2025 01:24:20 -0800 (PST) DKIM-Signature: v=1; a=rsa-sha256; c=relaxed/relaxed; d=iol.unh.edu; s=unh-iol; t=1762248259; x=1762853059; darn=dpdk.org; h=references:in-reply-to:cc:to:from:subject:message-id:date:from:to :cc:subject:date:message-id:reply-to; bh=gonEaRyYsXXeR+PnVrNFGynB1Hfo8GgbfUJl7Nv0+Eo=; b=DV+69HDKg1CzLGtE6IzKPnCZibwMUpNElY8fkF4Fugq65VdL8Qn0GjEJL6znXy7vFB exqTbvp4MvPlM+odDiquN7+m9TrjE5oELrTMwzd+zcnqRDPrIG3v/zEVzW3+eHn9MIpd Jug6PzfrEIDgV2ar38PELYDxhR2LLQn3KQlh8= X-Google-DKIM-Signature: v=1; a=rsa-sha256; c=relaxed/relaxed; d=1e100.net; s=20230601; t=1762248259; x=1762853059; h=references:in-reply-to:cc:to:from:subject:message-id:date :x-gm-message-state:from:to:cc:subject:date:message-id:reply-to; bh=gonEaRyYsXXeR+PnVrNFGynB1Hfo8GgbfUJl7Nv0+Eo=; b=K9qx3CxpOrMemctyUSNku/zyN3Lbzj9GN2DaiNXK03OAPrNRDwOuIG0Tryi8kFNCbO nLnToCm/L2LX6M7IdbS+PNssibJGKPOBP3+9vR+PMYKVJkl2JKinDXagvQuRB4trHzMD WH4UqYLwtBjVk2kZgZcqr7DtP6zuymqb1nrINl3l963PNFFUDq1BcN79RQdRnCEo5Py2 Gcv5y6T77F33YrwMMRKv0Re1A/qtXwE+tz/HO6/xcUyHqZS39fZYQ5KnvQvPLJV6TcNE 3bPUPUnkufGocDF2GNk5ch+iBP5uHQmu9YDWAj6x5vDPYZ2wsoxn63Fcxdq9KdX0kWC9 T8dg== X-Gm-Message-State: AOJu0YxaGZxNndJQQRhDmlLNy5NXBxfLcLDVDTXE1dZMp0jLzstiKk26 HZMzJqjlAP7pb3fPkYIvHAXyH9IM/WUSdxmhL2FzyJ1fe+k1iTVOSKbvWri4/x1MNNeKKxwoEJ7 JwBvaOAPjOVT77V68bvi92z76R/Wt+5hmXLI42k+2f1em X-Gm-Gg: ASbGnctXUQhLXUtUSrbmqmcvlheYa/FonVpicVPKCSj42s9p9zYa4W46xUu5zcqtnJ6 v0lu9mCm74YV58eIQg6DRT/rIpvC1YDSw2R9RnPMYnsRRRG2E2sOUV/9islQoaS1uqwYBVP/qCu 0vTZTaQ3AZb4oATSchxxPRYRYieAIH6rf9DRSsqCcoLEq6rZY2AYPeHmtlhZV0pMT12iICCixH6 dxAGlTj3iEquVirmjXWJua0ZYmvAozWRZFtcFlIHbanXAVJHwkzdh+tLgUlqwTBY8YjjkACwjmm FrVFybe36LCXZtX+NmVZKn7dD0VEtqHALUlNjWCYUiq/Kg86JfOJAtHZhFC/iZVEZiWLolGP5Yw wQTTHO4g/eJNhPs7e95A4SbRomPtXdMw= X-Google-Smtp-Source: AGHT+IEPC5F5WsBbFJdC0/rr5+OEQtNJKoq+Xr1MQJkgeLY3Oyf2fiUWzMzB2fOdcdMW/6r/nWNuDw8jekmh X-Received: by 2002:a17:902:e803:b0:295:5a15:63db with SMTP id d9443c01a7336-2955a16fd56mr150981305ad.61.1762248259683; Tue, 04 Nov 2025 01:24:19 -0800 (PST) Received: from postal.iol.unh.edu (postal.iol.unh.edu. [132.177.123.84]) by smtp-relay.gmail.com with ESMTPS id d9443c01a7336-29601a6a75csm1629155ad.65.2025.11.04.01.24.19 (version=TLS1_2 cipher=ECDHE-ECDSA-AES128-GCM-SHA256 bits=128/128); Tue, 04 Nov 2025 01:24:19 -0800 (PST) X-Relaying-Domain: iol.unh.edu Date: Tue, 04 Nov 2025 01:24:19 -0800 (PST) Message-ID: <6909c643.170a0220.966b.8c90SMTPIN_ADDED_MISSING@mx.google.com> Received: from [172.21.0.3] (unknown [172.18.0.240]) by postal.iol.unh.edu (Postfix) with ESMTP id E47996051830; Tue, 4 Nov 2025 04:24:18 -0500 (EST) Subject: |SUCCESS| pw158418 [PATCH] vhost: fix use-after-free race during cle From: dpdklab@iol.unh.edu To: Test Report Cc: dpdk-test-reports@iol.unh.edu, Chenbo Xia , Maxime Coquelin In-Reply-To: <20251104080931.8102-1-shperetz@nvidia.com> References: <20251104080931.8102-1-shperetz@nvidia.com> Content-Type: text/plain X-BeenThere: test-report@dpdk.org X-Mailman-Version: 2.1.29 Precedence: list List-Id: automatic DPDK test reports List-Unsubscribe: , List-Archive: List-Post: List-Help: List-Subscribe: , Errors-To: test-report-bounces@dpdk.org Test-Label: iol-compile-amd64-testing Test-Status: SUCCESS http://dpdk.org/patch/158418 _Testing PASS_ Submitter: Shani Peretz Date: Tuesday, November 04 2025 08:09:31 DPDK git baseline: Repo:dpdk-next-virtio Branch: master CommitID:6b37c26a95388aa41bb5267c7c42f604fd571a38 158418 --> testing pass Upstream job id: Windows-Compile-DPDK-VS#7412 Test environment and result as below: +-------------------------------+--------------------+------------------+-------------------+ | Environment | dpdk_meson_compile | dpdk_compile_ovs | dpdk_msvc_compile | +===============================+====================+==================+===================+ | CentOS Stream 10 | PASS | SKIPPED | SKIPPED | +-------------------------------+--------------------+------------------+-------------------+ | CentOS Stream 9 | PASS | SKIPPED | SKIPPED | +-------------------------------+--------------------+------------------+-------------------+ | Debian GNU/Linux 12 | PASS | SKIPPED | SKIPPED | +-------------------------------+--------------------+------------------+-------------------+ | FreeBSD 14.2 | PASS | SKIPPED | SKIPPED | +-------------------------------+--------------------+------------------+-------------------+ | Fedora Linux 42 | PASS | PASS | SKIPPED | +-------------------------------+--------------------+------------------+-------------------+ | openSUSE Leap 15.6 | PASS | SKIPPED | SKIPPED | +-------------------------------+--------------------+------------------+-------------------+ | Red Hat Enterprise Linux 8.10 | PASS | SKIPPED | SKIPPED | +-------------------------------+--------------------+------------------+-------------------+ | Red Hat Enterprise Linux 9.5 | PASS | SKIPPED | SKIPPED | +-------------------------------+--------------------+------------------+-------------------+ | Ubuntu 20.04 | PASS | SKIPPED | SKIPPED | +-------------------------------+--------------------+------------------+-------------------+ | Ubuntu 22.04 | PASS | SKIPPED | SKIPPED | +-------------------------------+--------------------+------------------+-------------------+ | Ubuntu 24.04 | PASS | PASS | SKIPPED | +-------------------------------+--------------------+------------------+-------------------+ | Alpine Linux 3.22.0 | PASS | SKIPPED | SKIPPED | +-------------------------------+--------------------+------------------+-------------------+ | Windows Server 2022 | SKIPPED | SKIPPED | PASS | +-------------------------------+--------------------+------------------+-------------------+ CentOS Stream 10 Kernel: 5.15 Compiler: gcc gcc (GCC) 14.2.1 20250110 (Red Hat 14.2.1-8) CentOS Stream 9 Kernel: 5.15 Compiler: gcc gcc (GCC) 11.5.0 20240719 (Red Hat 11.5.0-11) Debian GNU/Linux 12 Kernel: 5.15 Compiler: gcc gcc (Debian 12.2.0-14+deb12u1) 12.2.0 FreeBSD 14.2 Kernel: 14.2-RELEASE Compiler: clang 18.1.6 Fedora Linux 42 Kernel: 5.15 Compiler: clang gcc (GCC) 15.2.1 20250808 (Red Hat 15.2.1-1) openSUSE Leap 15.6 Kernel: 5.15 Compiler: gcc gcc (SUSE Linux) 7.5.0 Red Hat Enterprise Linux 8.10 Kernel: 5.15 Compiler: gcc gcc (GCC) 8.5.0 20210514 (Red Hat 8.5.0-22) Red Hat Enterprise Linux 9.5 Kernel: 5.15 Compiler: gcc gcc (GCC) 11.5.0 20240719 (Red Hat 11.5.0-2) Ubuntu 20.04 Kernel: 5.15 Compiler: gcc gcc (Ubuntu 9.4.0-1ubuntu1~20.04.2) 9.4.0 Ubuntu 22.04 Kernel: 5.15 Compiler: gcc gcc (Ubuntu 11.4.0-1ubuntu1~22.04) 11.4.0 Ubuntu 24.04 Kernel: 5.15 Compiler: gcc gcc (Ubuntu 13.3.0-6ubuntu2~24.04) 13.3.0 Alpine Linux 3.22.0 Kernel: 5.15 Compiler: gcc gcc (Alpine 14.2.0) 14.2.0 Windows Server 2022 Kernel: 10.0.20348.2031 Compiler: clang 15.0.7, gcc 14.1.0 (MinGW), and MSVC VS 19.39.33521 To view detailed results, visit: https://lab.dpdk.org/results/dashboard/patchsets/34454/ UNH-IOL DPDK Community Lab To manage your email subscriptions, visit: https://lab.dpdk.org/results/dashboard/preferences/subscriptions/