From mboxrd@z Thu Jan 1 00:00:00 1970 Return-Path: Received: from mails.dpdk.org (mails.dpdk.org [217.70.189.124]) by inbox.dpdk.org (Postfix) with ESMTP id 5E07148AA2 for ; Tue, 4 Nov 2025 10:27:17 +0100 (CET) Received: from mails.dpdk.org (localhost [127.0.0.1]) by mails.dpdk.org (Postfix) with ESMTP id 4011140285; Tue, 4 Nov 2025 10:27:17 +0100 (CET) Received: from mail-io1-f98.google.com (mail-io1-f98.google.com [209.85.166.98]) by mails.dpdk.org (Postfix) with ESMTP id B347740285 for ; Tue, 4 Nov 2025 10:27:16 +0100 (CET) Received: by mail-io1-f98.google.com with SMTP id ca18e2360f4ac-93e7d3648a8so219181439f.2 for ; Tue, 04 Nov 2025 01:27:16 -0800 (PST) DKIM-Signature: v=1; a=rsa-sha256; c=relaxed/relaxed; d=iol.unh.edu; s=unh-iol; t=1762248436; x=1762853236; darn=dpdk.org; h=references:in-reply-to:cc:to:from:subject:message-id:date:from:to :cc:subject:date:message-id:reply-to; bh=ato6AhsmK+bJBawRgYjeh1uRGp03in20Wdzp+k7pnmA=; b=OFM2SHUjA2GJZsJRExo6MkZ8kqbaLj4BSP/aFpXQ/hUTW9PZXQS3FMR5QfaBkBB9In XI8piGXgVCkuuuLccDc0eH6SM0xARQEOgS5HQ+f1T9yQ2O1b7dOzjF2Vh+zBL4ZtPsZD g06MKgWxt4jc+AfPIoG8Jev4XcH/9JdZWLLHI= X-Google-DKIM-Signature: v=1; a=rsa-sha256; c=relaxed/relaxed; d=1e100.net; s=20230601; t=1762248436; x=1762853236; h=references:in-reply-to:cc:to:from:subject:message-id:date :x-gm-message-state:from:to:cc:subject:date:message-id:reply-to; bh=ato6AhsmK+bJBawRgYjeh1uRGp03in20Wdzp+k7pnmA=; b=vN1XrR/XfFQLW3+8bbEtT46IM/GI5es/eEoG2mVsQp5gxxJaG+15ZUNJykE4iSSkPI P8ufU+OLBSNX+TCIFlTy8e5DT01FkncshqM1suz22gfZ3GUXCDyrLHRAJoylWLGtVENt DN+vbq9lXsqmpA4w9za00HwytcGvAkz/qd0t+4gD3gkaDtQol2dfiFuUyQ52/2i0RJZ/ /o9jWB8QEVpC7MaYdz0ro2mcNYzcDN/BPLg1lincHHFfG8hT3kVrEtFuYo0TmHlUwHbv e6J75ZysL0fjiCJdj5wPTV0/vvj4L/NeUh0OGMwbafQzBuN76B97n4IrXIXvs4KB67r1 pfSQ== X-Gm-Message-State: AOJu0YxqT9lbWrgQjm2j8BKxMCaNJcmVbb0QgWdTiJPcA8FYJdhGUBW3 kifRqjcacSBKMmr+4rXWYkdYU8kzaalqpuztYKsruSQDevk4nUmxgg+Vny4BxTE2ZmZKq0XwN+Q ZF/pUlzsACKvGk6Y//EpMwyAvFHrK37kwi9T9iFtZ33F/ X-Gm-Gg: ASbGncumsJxDFkMpjijr0q9RNKKfEAPtCfTRU0W5X87X4tebgS4puEmNS0iP3zMWFKS JlXy4opk1uxIa/doS4OufxZFgXZU+MSR/oBdjXQjE/ajJb7eT/p6XZBjPxBDYgy0xjCcP8fnYA2 LPc/LT0ESzYaQPd56X6EsfDF0suZWjbv8mMNskTmMWhANEeJykxXOl8rBAqlhey6hXt1vjY+cPr Gm9H8jpJtyReuxht550oWaLZyaV1+U7udFA5piUKitttnzNq81w83UUKGLdNylw4fV/pslKkt1E 1yqtYVWSYnN1VhrwpYiQ0LA5sDY6tWD0cuv2kVgX5r+1OYA37WI1GeQoLIHOIqm+c3UhRzYfPVE /RAWtIFdyvo+AX80rXhAB7SVnHFAlKF0= X-Google-Smtp-Source: AGHT+IE8xUuFt6pY5E8+GrJ3bWKZnpQXRYbUlQ92LJn25x+W969PeVc/pO0ctVihj093e6A8YzhoUx9TvyUb X-Received: by 2002:a05:6602:29cf:b0:948:50a2:194d with SMTP id ca18e2360f4ac-94850a219bemr681292339f.2.1762248436000; Tue, 04 Nov 2025 01:27:16 -0800 (PST) Received: from postal.iol.unh.edu (postal.iol.unh.edu. [132.177.123.84]) by smtp-relay.gmail.com with ESMTPS id ca18e2360f4ac-94854fbb4basm16133239f.1.2025.11.04.01.27.15 (version=TLS1_2 cipher=ECDHE-ECDSA-AES128-GCM-SHA256 bits=128/128); Tue, 04 Nov 2025 01:27:15 -0800 (PST) X-Relaying-Domain: iol.unh.edu Date: Tue, 04 Nov 2025 01:27:15 -0800 (PST) Message-ID: <6909c6f3.050a0220.83cb.93aeSMTPIN_ADDED_MISSING@mx.google.com> Received: from [172.21.0.2] (unknown [172.18.0.240]) by postal.iol.unh.edu (Postfix) with ESMTP id 7914F6051830; Tue, 4 Nov 2025 04:27:15 -0500 (EST) Subject: |SUCCESS| pw158411 [PATCH] net/nfp: fix use after free From: dpdklab@iol.unh.edu To: Test Report Cc: dpdk-test-reports@iol.unh.edu, Stephen Hemminger In-Reply-To: <20251104052915.270245-1-stephen@networkplumber.org> References: <20251104052915.270245-1-stephen@networkplumber.org> Content-Type: text/plain X-BeenThere: test-report@dpdk.org X-Mailman-Version: 2.1.29 Precedence: list List-Id: automatic DPDK test reports List-Unsubscribe: , List-Archive: List-Post: List-Help: List-Subscribe: , Errors-To: test-report-bounces@dpdk.org Test-Label: iol-compile-amd64-testing Test-Status: SUCCESS http://dpdk.org/patch/158411 _Testing PASS_ Submitter: Stephen Hemminger Date: Tuesday, November 04 2025 05:29:15 DPDK git baseline: Repo:dpdk-next-net Branch: master CommitID:80dea84c15d0ba5b8b092db744e26319a6f23a04 158411 --> testing pass Upstream job id: Windows-Compile-DPDK-Native#32094 Test environment and result as below: +-------------------------------+--------------------+------------------+-------------------+-------------------------+----------------------+ | Environment | dpdk_meson_compile | dpdk_compile_ovs | dpdk_msvc_compile | dpdk_llvm_clang_compile | dpdk_mingw64_compile | +===============================+====================+==================+===================+=========================+======================+ | Ubuntu 20.04 | PASS | SKIPPED | SKIPPED | SKIPPED | SKIPPED | +-------------------------------+--------------------+------------------+-------------------+-------------------------+----------------------+ | FreeBSD 14.2 | PASS | SKIPPED | SKIPPED | SKIPPED | SKIPPED | +-------------------------------+--------------------+------------------+-------------------+-------------------------+----------------------+ | CentOS Stream 9 | PASS | SKIPPED | SKIPPED | SKIPPED | SKIPPED | +-------------------------------+--------------------+------------------+-------------------+-------------------------+----------------------+ | CentOS Stream 10 | PASS | SKIPPED | SKIPPED | SKIPPED | SKIPPED | +-------------------------------+--------------------+------------------+-------------------+-------------------------+----------------------+ | Debian GNU/Linux 12 | PASS | SKIPPED | SKIPPED | SKIPPED | SKIPPED | +-------------------------------+--------------------+------------------+-------------------+-------------------------+----------------------+ | Fedora Linux 42 | PASS | PASS | SKIPPED | SKIPPED | SKIPPED | +-------------------------------+--------------------+------------------+-------------------+-------------------------+----------------------+ | openSUSE Leap 15.6 | PASS | SKIPPED | SKIPPED | SKIPPED | SKIPPED | +-------------------------------+--------------------+------------------+-------------------+-------------------------+----------------------+ | Red Hat Enterprise Linux 8.10 | PASS | SKIPPED | SKIPPED | SKIPPED | SKIPPED | +-------------------------------+--------------------+------------------+-------------------+-------------------------+----------------------+ | Red Hat Enterprise Linux 9.5 | PASS | SKIPPED | SKIPPED | SKIPPED | SKIPPED | +-------------------------------+--------------------+------------------+-------------------+-------------------------+----------------------+ | Ubuntu 22.04 | PASS | SKIPPED | SKIPPED | SKIPPED | SKIPPED | +-------------------------------+--------------------+------------------+-------------------+-------------------------+----------------------+ | Ubuntu 24.04 | PASS | PASS | SKIPPED | SKIPPED | SKIPPED | +-------------------------------+--------------------+------------------+-------------------+-------------------------+----------------------+ | Alpine Linux 3.22.0 | PASS | SKIPPED | SKIPPED | SKIPPED | SKIPPED | +-------------------------------+--------------------+------------------+-------------------+-------------------------+----------------------+ | Windows Server 2022 | SKIPPED | SKIPPED | PASS | PASS | PASS | +-------------------------------+--------------------+------------------+-------------------+-------------------------+----------------------+ Ubuntu 20.04 Kernel: 4.19 Compiler: gcc gcc (Ubuntu 9.4.0-1ubuntu1~20.04.2) 9.4.0 FreeBSD 14.2 Kernel: 14.2-RELEASE Compiler: clang 18.1.6 CentOS Stream 9 Kernel: 5.15 Compiler: gcc gcc (GCC) 11.5.0 20240719 (Red Hat 11.5.0-11) CentOS Stream 10 Kernel: 5.15 Compiler: gcc gcc (GCC) 14.2.1 20250110 (Red Hat 14.2.1-8) Debian GNU/Linux 12 Kernel: 5.15 Compiler: gcc gcc (Debian 12.2.0-14+deb12u1) 12.2.0 Fedora Linux 42 Kernel: 5.15 Compiler: clang gcc (GCC) 15.2.1 20250808 (Red Hat 15.2.1-1) openSUSE Leap 15.6 Kernel: 5.15 Compiler: gcc gcc (SUSE Linux) 7.5.0 Red Hat Enterprise Linux 8.10 Kernel: 5.15 Compiler: gcc gcc (GCC) 8.5.0 20210514 (Red Hat 8.5.0-22) Red Hat Enterprise Linux 9.5 Kernel: 5.15 Compiler: gcc gcc (GCC) 11.5.0 20240719 (Red Hat 11.5.0-2) Ubuntu 22.04 Kernel: 5.15 Compiler: gcc gcc (Ubuntu 11.4.0-1ubuntu1~22.04) 11.4.0 Ubuntu 24.04 Kernel: 5.15 Compiler: gcc gcc (Ubuntu 13.3.0-6ubuntu2~24.04) 13.3.0 Alpine Linux 3.22.0 Kernel: 5.15 Compiler: gcc gcc (Alpine 14.2.0) 14.2.0 Windows Server 2022 Kernel: 10.0.20348.2031 Compiler: clang 15.0.7, gcc 14.1.0 (MinGW), and MSVC VS 19.39.33521 To view detailed results, visit: https://lab.dpdk.org/results/dashboard/patchsets/34452/ UNH-IOL DPDK Community Lab To manage your email subscriptions, visit: https://lab.dpdk.org/results/dashboard/preferences/subscriptions/