From mboxrd@z Thu Jan 1 00:00:00 1970 Return-Path: Received: from mails.dpdk.org (mails.dpdk.org [217.70.189.124]) by inbox.dpdk.org (Postfix) with ESMTP id 8FC6648AA2 for ; Tue, 4 Nov 2025 10:29:03 +0100 (CET) Received: from mails.dpdk.org (localhost [127.0.0.1]) by mails.dpdk.org (Postfix) with ESMTP id 7092140285; Tue, 4 Nov 2025 10:29:03 +0100 (CET) Received: from mail-oi1-f227.google.com (mail-oi1-f227.google.com [209.85.167.227]) by mails.dpdk.org (Postfix) with ESMTP id 9FD3040285 for ; Tue, 4 Nov 2025 10:29:02 +0100 (CET) Received: by mail-oi1-f227.google.com with SMTP id 5614622812f47-44f9b3b3c1fso1605966b6e.0 for ; Tue, 04 Nov 2025 01:29:02 -0800 (PST) DKIM-Signature: v=1; a=rsa-sha256; c=relaxed/relaxed; d=iol.unh.edu; s=unh-iol; t=1762248541; x=1762853341; darn=dpdk.org; h=cc:to:from:subject:message-id:date:from:to:cc:subject:date :message-id:reply-to; bh=BUhP1raPGz+4UKwKqUPIg1qGVvs2qqwB2/6DweQX2Bo=; b=AZyV+Jkv7S6psv/ljngytpIMmplj4EVadfSo8vl4m9mIgsNiUts5wo+PiUcNivohEO N8Vrjs95az1jckg16P3i3XcBAYgnV8VCoF/coQMV33WKZTyqp1jq9r6eIz+0n1BlOzAO /CnMwINQiOSmezUKJChSU2plIohze85n6UN2Y= X-Google-DKIM-Signature: v=1; a=rsa-sha256; c=relaxed/relaxed; d=1e100.net; s=20230601; t=1762248541; x=1762853341; h=cc:to:from:subject:message-id:date:x-gm-message-state:from:to:cc :subject:date:message-id:reply-to; bh=BUhP1raPGz+4UKwKqUPIg1qGVvs2qqwB2/6DweQX2Bo=; b=rPE8CIPc2uSNmRNZ/zd68RLFU3lHW+72u+3GmAb7qr1hLjeV/ciTBGEeF8CCAFXCbt W+cdQhzxpbZkpvg3+h60jwsaYqlbhNf4bhQyLfiSlpDP64cI2vEfeo9vUpDS7wJ1sQ1z kAUVqJ2DUHXMwJ5ME9+Ll3OBSADMLWgoeaoPZy/I6s6H/408AL1GzyPcVEnqsIMpdKw3 wY3FBQ07WM0WaZT0/Lq/oznVxmSzZ/Nddd1x3qjiB6RsKctCzSGL/Fz1+6OUi3Kbd1Um aRXI3FNw/qV3iCy4du3k72ML/6rPCUWVCs11DyslLVX/EDPQbDhfOdxo6V4g61sDaxHU LTuw== X-Gm-Message-State: AOJu0YwXrJOI+E6gbtZ0JfAy28fBjGDpfjjfxJc44DeFZwFUEl0cPN3p R/ILkO/Dsp8QbOHVn0MIiVPBktnKmqKvKJSWBTbcVAYCpVvRJOwNTki8bvlDJhPQn47BBXYVJjn OIsNfJG1xh8RZ86AnpAefIlx/mnFFBbrAVoN/ X-Gm-Gg: ASbGncuQeyLHyWfB0/Bhdvu727Vqa7I9Nxkea7aAm1J2+SfyzfQH11CF/TqOTfcCezz t+CtD/5Cmk4+fvUmZqV7lsDBTVrtaxW8Y4pYZlO93DyxBRkJCOewzzs/WtDQCIoNuct63xtiJoc /L9dDHFL2r/wX2rd2OBGdwreqChqf32gp7cQ5bcxvzWmKPu1ZX/kblkIW+hCj/6tYTg/uAHnQVt kuhAxEKI4NhOhs+7mITWg6a4/HCJz6GRLY+lPvMVFLwsrb99aWhKUYohmc19jYGAM69KFaf80Q7 2l/vprkHoBGUffvgppN08szKNyuO1CNhMLoXV3kO9A0BMoG5whysZvJygKg5M7IgiJl8g97EOcW 4DKOauDdnxdGsTdqr258r0vG7dRoWdtU= X-Google-Smtp-Source: AGHT+IHtAD+xQHHsNCdcWImxUuZWwdh8Pf5JMdMrjFIezR7JWdLXhuSkrzRP5dV1rUQcbCY8qFtPMz0Pm1kO X-Received: by 2002:a05:6808:c143:b0:44d:9f05:7159 with SMTP id 5614622812f47-44fdc01064bmr1130220b6e.29.1762248541640; Tue, 04 Nov 2025 01:29:01 -0800 (PST) Received: from postal.iol.unh.edu (postal.iol.unh.edu. [132.177.123.84]) by smtp-relay.gmail.com with ESMTPS id 006d021491bc7-656ad3cc721sm82375eaf.0.2025.11.04.01.29.01 (version=TLS1_2 cipher=ECDHE-ECDSA-AES128-GCM-SHA256 bits=128/128); Tue, 04 Nov 2025 01:29:01 -0800 (PST) X-Relaying-Domain: iol.unh.edu Date: Tue, 04 Nov 2025 01:29:01 -0800 (PST) Message-ID: <6909c75d.050a0220.14a5e0.494aSMTPIN_ADDED_MISSING@mx.google.com> Received: from [172.21.0.2] (unknown [172.18.0.240]) by postal.iol.unh.edu (Postfix) with ESMTP id 1F6336051830; Tue, 4 Nov 2025 04:29:01 -0500 (EST) Subject: |SUCCESS| [GIT MASTER] b287e404643aeab5bb5db084c142789df187844e From: dpdklab@iol.unh.edu To: Test Report Cc: dpdk-test-reports@iol.unh.edu, Xueming Li , Christian Ehrhardt , Kevin Traynor , Luca Boccassi Content-Type: text/plain X-BeenThere: test-report@dpdk.org X-Mailman-Version: 2.1.29 Precedence: list List-Id: automatic DPDK test reports List-Unsubscribe: , List-Archive: List-Post: List-Help: List-Subscribe: , Errors-To: test-report-bounces@dpdk.org _Testing PASS_ Branch: tags/v24.11 b287e404643aeab5bb5db084c142789df187844e --> testing pass Upstream job id: Generic-DPDK-Compile-Meson#440400 Test environment and result as below: +------------------------------+--------------------+ | Environment | dpdk_meson_compile | +==============================+====================+ | Ubuntu 22.04 | PASS | +------------------------------+--------------------+ | Ubuntu 20.04 | PASS | +------------------------------+--------------------+ | Red Hat Enterprise Linux 9.5 | PASS | +------------------------------+--------------------+ | Fedora Linux 42 | PASS | +------------------------------+--------------------+ | Debian GNU/Linux 12 | PASS | +------------------------------+--------------------+ | CentOS Stream 10 | PASS | +------------------------------+--------------------+ | CentOS Stream 9 | PASS | +------------------------------+--------------------+ | Ubuntu 24.04 | PASS | +------------------------------+--------------------+ Ubuntu 22.04 Kernel: 5.4 Compiler: gcc gcc (Ubuntu 11.4.0-1ubuntu1~22.04) 11.4.0 Ubuntu 20.04 Kernel: 5.4 Compiler: gcc gcc (Ubuntu 9.4.0-1ubuntu1~20.04.2) 9.4.0 Red Hat Enterprise Linux 9.5 Kernel: 5.4 Compiler: gcc gcc (GCC) 11.5.0 20240719 (Red Hat 11.5.0-2) Fedora Linux 42 Kernel: 5.4 Compiler: clang gcc (GCC) 15.2.1 20250808 (Red Hat 15.2.1-1) Debian GNU/Linux 12 Kernel: 5.4 Compiler: gcc gcc (Debian 12.2.0-14+deb12u1) 12.2.0 CentOS Stream 10 Kernel: 5.4 Compiler: gcc gcc (GCC) 14.2.1 20250110 (Red Hat 14.2.1-8) CentOS Stream 9 Kernel: 5.4 Compiler: gcc gcc (GCC) 11.5.0 20240719 (Red Hat 11.5.0-11) Ubuntu 24.04 Kernel: 5.4 Compiler: gcc gcc (Ubuntu 13.3.0-6ubuntu2~24.04) 13.3.0 To view detailed results, visit: https://lab.dpdk.org/results/dashboard/tarballs/35441/ UNH-IOL DPDK Community Lab To manage your email subscriptions, visit: https://lab.dpdk.org/results/dashboard/preferences/subscriptions/