From mboxrd@z Thu Jan 1 00:00:00 1970 Return-Path: Received: from mails.dpdk.org (mails.dpdk.org [217.70.189.124]) by inbox.dpdk.org (Postfix) with ESMTP id 740BE48A9C for ; Tue, 4 Nov 2025 10:36:41 +0100 (CET) Received: from mails.dpdk.org (localhost [127.0.0.1]) by mails.dpdk.org (Postfix) with ESMTP id 6F67340285; Tue, 4 Nov 2025 10:36:41 +0100 (CET) Received: from mail-io1-f100.google.com (mail-io1-f100.google.com [209.85.166.100]) by mails.dpdk.org (Postfix) with ESMTP id AF42B40285 for ; Tue, 4 Nov 2025 10:36:40 +0100 (CET) Received: by mail-io1-f100.google.com with SMTP id ca18e2360f4ac-94822ad1baeso393928939f.2 for ; Tue, 04 Nov 2025 01:36:40 -0800 (PST) DKIM-Signature: v=1; a=rsa-sha256; c=relaxed/relaxed; d=iol.unh.edu; s=unh-iol; t=1762249000; x=1762853800; darn=dpdk.org; h=references:in-reply-to:cc:to:from:subject:message-id:date:from:to :cc:subject:date:message-id:reply-to; bh=7uq2OR3OhB4I97iLaNhSxY0G4DZuEKqFDV/7NtG2iI4=; b=NR3kRnxhwsVIBPCqZDUxxXME2xloHP//MZ2j4KP2sn8tY4o4pwXNc+Ap/FLZvhHIeY lT/GVVCHQtSjnyAfdCjuVgLlLyvXUG2nRfngAXO/vA22+m/0vmdDS2+WIqeYZpdWl49d uUb+XbX+KtmQLYG2GBYGGlxF/VTc7BiU501Bc= X-Google-DKIM-Signature: v=1; a=rsa-sha256; c=relaxed/relaxed; d=1e100.net; s=20230601; t=1762249000; x=1762853800; h=references:in-reply-to:cc:to:from:subject:message-id:date :x-gm-message-state:from:to:cc:subject:date:message-id:reply-to; bh=7uq2OR3OhB4I97iLaNhSxY0G4DZuEKqFDV/7NtG2iI4=; b=iN/jy1Q4Iaahylb8ZzLWwZM4FdrrvDmNVhAEta+mozWVsuIFlVAi7EVyMt9b4VGaiT Kx6Zr/QTJ2w++cJmSgB+thnN0FS1jNuXcYsjg9TpZYn2LMtnvnb1fs1g78EOSNS7rKpp rG41AvwzlNizZ3LnibQRviOxZEbTUXFy4EtrnSuWB1E+X2wBc7TKzg/RM0zuQqBV+Qrk sAKCOAwPduLAYjc0YTMWkaihEYTQrW7qOF+KmtsWOWnhiOHb8/Zikg+QFD9oZ2L3Jewq QkplYeqAAYqcgtejXJfqOwDp8zCOCHoZuSbsBt4tS8d1kf3Cmrkq7TH58HMxhbokAOMI EgmA== X-Gm-Message-State: AOJu0YzfTCaxR4i33iZvl36Izt9nTT6yH5fJX2rCy3ZbjaZerO3qaFbV AfeI4/htZRUE1vKiLTuZMPir31OifVhMFHV0m+bmFPW9G8L7WLwjJLs5WkbrtD7VFgnYpBJHvRP IXWgasM6A6yqxI+90o52bFL6+riHOXhE6xGQaoxmbvAWn X-Gm-Gg: ASbGnctfVgVRuu6kcnZeF9zPfwDfhFcmSNU95DekjPBLIK2Ez+k3jQUSJRh9Kj0wN/I RDkyxHeTPo0c+mDCCxdmqMsSClUWp137K+4hm9y9n2vz5OCKHh6gq8L6VMZKQd4q2YU3nALIP0O w41Ejs5IN5wMrqDqx55TI7P+z7jTE66ciN2XN0f2mXBbEhpUzhJVl4S58VAIavJPhasGbvjp4Uv Hvx19+/x5XYu8OXxHUxqDKCg4T2rYiaM/JyM+ROLONpSrlbKZ3KDXeY9P8QTIAC0wSBU/SvTxsf LopGxSFQbsLEnwCs7gwntxWlOPasUbnMeHboxLgMetbsPb/m5SJRe1cHyBBI7lromPV7G7QxBGo WGBVUBwwUS5KgyoK+8kNTCeAn6TfF7/I= X-Google-Smtp-Source: AGHT+IEX362uB56VYr06hT0Nq1NaEt0pTtdS4LNaH1MwLuaMXv3oIMAejb5W2C0PhyLymC/k4bF7PwyZ6BGA X-Received: by 2002:a05:6e02:250d:b0:433:2aac:c540 with SMTP id e9e14a558f8ab-4332aacc817mr110930825ab.14.1762249000045; Tue, 04 Nov 2025 01:36:40 -0800 (PST) Received: from postal.iol.unh.edu (postal.iol.unh.edu. [132.177.123.84]) by smtp-relay.gmail.com with ESMTPS id 8926c6da1cb9f-5b7225aad73sm302896173.9.2025.11.04.01.36.39 (version=TLS1_2 cipher=ECDHE-ECDSA-AES128-GCM-SHA256 bits=128/128); Tue, 04 Nov 2025 01:36:40 -0800 (PST) X-Relaying-Domain: iol.unh.edu Date: Tue, 04 Nov 2025 01:36:40 -0800 (PST) Message-ID: <6909c928.050a0220.142596.087fSMTPIN_ADDED_MISSING@mx.google.com> Received: from [172.21.0.2] (unknown [172.18.0.240]) by postal.iol.unh.edu (Postfix) with ESMTP id 8E7DB6051830; Tue, 4 Nov 2025 04:36:39 -0500 (EST) Subject: |SUCCESS| pw158413-158417 [PATCH] [v7,6/6] net/cnxk: report link mod From: dpdklab@iol.unh.edu To: Test Report Cc: dpdk-test-reports@iol.unh.edu In-Reply-To: <20251104080901.1610706-6-skori@marvell.com> References: <20251104080901.1610706-6-skori@marvell.com> Content-Type: text/plain X-BeenThere: test-report@dpdk.org X-Mailman-Version: 2.1.29 Precedence: list List-Id: automatic DPDK test reports List-Unsubscribe: , List-Archive: List-Post: List-Help: List-Subscribe: , Errors-To: test-report-bounces@dpdk.org Test-Label: iol-unit-amd64-testing Test-Status: SUCCESS http://dpdk.org/patch/158417 _Testing PASS_ Submitter: Sunil Kumar Kori Date: Tuesday, November 04 2025 08:08:54 DPDK git baseline: Repo:dpdk-next-net-mrvl Branch: master CommitID:39b54f2dcf44ad1f91eabc7080cd5dea763607fd 158413-158417 --> testing pass Upstream job id: Generic-Unit-Test-DPDK#388332 Test environment and result as below: +-------------------------------+----------------+ | Environment | dpdk_unit_test | +===============================+================+ | CentOS Stream 9 | PASS | +-------------------------------+----------------+ | CentOS Stream 10 | PASS | +-------------------------------+----------------+ | Debian GNU/Linux 12 | PASS | +-------------------------------+----------------+ | Fedora Linux 41 | PASS | +-------------------------------+----------------+ | Fedora Linux 40 | PASS | +-------------------------------+----------------+ | Fedora Linux 42 | PASS | +-------------------------------+----------------+ | Red Hat Enterprise Linux 8.10 | PASS | +-------------------------------+----------------+ | Red Hat Enterprise Linux 9.5 | PASS | +-------------------------------+----------------+ | Ubuntu 24.04 | PASS | +-------------------------------+----------------+ | Ubuntu 22.04 | PASS | +-------------------------------+----------------+ | Ubuntu 20.04 | PASS | +-------------------------------+----------------+ CentOS Stream 9 Kernel: 5.15 Compiler: gcc gcc (GCC) 11.5.0 20240719 (Red Hat 11.5.0-11) CentOS Stream 10 Kernel: 5.15 Compiler: gcc gcc (GCC) 14.2.1 20250110 (Red Hat 14.2.1-8) Debian GNU/Linux 12 Kernel: 5.15 Compiler: gcc gcc (Debian 12.2.0-14+deb12u1) 12.2.0 Fedora Linux 41 Kernel: 5.15 Compiler: clang gcc (GCC) 14.3.1 20250523 (Red Hat 14.3.1-1) Fedora Linux 40 Kernel: 5.15 Compiler: gcc gcc (GCC) 14.2.1 20240912 (Red Hat 14.2.1-3) Fedora Linux 42 Kernel: 5.15 Compiler: clang gcc (GCC) 15.2.1 20250808 (Red Hat 15.2.1-1) Red Hat Enterprise Linux 8.10 Kernel: 5.15 Compiler: gcc gcc (GCC) 8.5.0 20210514 (Red Hat 8.5.0-22) Red Hat Enterprise Linux 9.5 Kernel: 5.15 Compiler: gcc gcc (GCC) 11.5.0 20240719 (Red Hat 11.5.0-2) Ubuntu 24.04 Kernel: 5.15 Compiler: gcc gcc (Ubuntu 13.3.0-6ubuntu2~24.04) 13.3.0 Ubuntu 22.04 Kernel: 5.15 Compiler: gcc gcc (Ubuntu 11.4.0-1ubuntu1~22.04) 11.4.0 Ubuntu 20.04 Kernel: 5.15 Compiler: gcc gcc (Ubuntu 9.4.0-1ubuntu1~20.04.2) 9.4.0 To view detailed results, visit: https://lab.dpdk.org/results/dashboard/patchsets/34455/ UNH-IOL DPDK Community Lab To manage your email subscriptions, visit: https://lab.dpdk.org/results/dashboard/preferences/subscriptions/