From mboxrd@z Thu Jan 1 00:00:00 1970 Return-Path: Received: from mails.dpdk.org (mails.dpdk.org [217.70.189.124]) by inbox.dpdk.org (Postfix) with ESMTP id 88D5F48A9C for ; Tue, 4 Nov 2025 10:37:12 +0100 (CET) Received: from mails.dpdk.org (localhost [127.0.0.1]) by mails.dpdk.org (Postfix) with ESMTP id 7E67340285; Tue, 4 Nov 2025 10:37:12 +0100 (CET) Received: from mail-io1-f98.google.com (mail-io1-f98.google.com [209.85.166.98]) by mails.dpdk.org (Postfix) with ESMTP id 4DEA240285 for ; Tue, 4 Nov 2025 10:37:11 +0100 (CET) Received: by mail-io1-f98.google.com with SMTP id ca18e2360f4ac-93e9b5bafa5so200341139f.3 for ; Tue, 04 Nov 2025 01:37:11 -0800 (PST) DKIM-Signature: v=1; a=rsa-sha256; c=relaxed/relaxed; d=iol.unh.edu; s=unh-iol; t=1762249030; x=1762853830; darn=dpdk.org; h=references:in-reply-to:cc:to:from:subject:message-id:date:from:to :cc:subject:date:message-id:reply-to; bh=awsdtCOkYTv7QlUrDyTe0Iq/NSE24x173dns2pTsLSU=; b=htc79uI4tUH6QjHcY/UHJdCzIzMQQQzpAbcOF6wzdF6SIFXd8/kDjo/GeKiXs+62Ld vzj/NCMXZtL6/ZNTT7scz/MvChi+R9J2qjZABCw7G/zHLhHNctVZD1hoh0xrAoKFs4Vm De27WwwhNweMrCPf965TV9P0Y0xfWd4Gpoe6g= X-Google-DKIM-Signature: v=1; a=rsa-sha256; c=relaxed/relaxed; d=1e100.net; s=20230601; t=1762249030; x=1762853830; h=references:in-reply-to:cc:to:from:subject:message-id:date :x-gm-message-state:from:to:cc:subject:date:message-id:reply-to; bh=awsdtCOkYTv7QlUrDyTe0Iq/NSE24x173dns2pTsLSU=; b=ItKRDa3id3RzgLYG2onLdlXCGGGWikOuXLPfyT8tdI+qq+pi6I4m7IEPfIyKgdkjkV BEcOYDcfjCNdD9qZlvalTAcBLhKZ2gWpHvIBGmIs39TjPTaEezV9mTujLw+xzJRh3k3b 261UgHRO28jg8Z5GeTucQOUgtLhJTQG5r3yw6c/1Z3DTdxjO3G2UpcbF9NK4s8LO2wcf 3ilxo6awxP/rPBgWkv63PQDPqFxwe7JjPQHWPlFpxG1LDQv0If+mCU0IRMxgJzC4TR3g CrChv6gxJgDvPs57dtMd638WFIXnW29HqEZ7xFqcC3VjUK7kHwhB6EMDvHkPDPnMNkl5 XL3Q== X-Gm-Message-State: AOJu0Yzg8viwoUU2U1UuYpGrZ4SA3tIKf/TTSTZlNNbpoE4CE6Hu6+V/ +7P3Y8TK/Di0UOYasdlHpBR8q0xNF54DHsEzaBLmOYUEdbFdEh9X1KP3ck2d7J/mcIFqhRWx5fM 0lzJlX4zwxmu9P0WivBJBHWtO+qXH5H6uDXvp9znbQYuH920T2aHD09eWiYlJ X-Gm-Gg: ASbGncvGKsGmtXrMKZkbejQl5CacW6IkLL4+k+W6y/i73qfL8R3buXtPLZC75ShjRiA aoIOupyM4Y76R5QszUBdI4qTdCG5SLkOYXT4/CtXz5TPpQAnai/tUyBGAZwhKOYy/ibII2nFP/p +evvAcQWGlbMV2RntEC+GKBYzWv09gXAfIFUJrN3kPXqLTiOsARZ6d4qovpWOvDrDkZWES+WAGO rQEbfvUzcvgxuonsaHe9Ly5dmfhjv9HWzcR4LMU3FrGavO7ycvaPGmdEvqjgMcCsGRv7mTU912D apTV+Qsya+RF/tS8z7ewwoDjVMFM4V6JDhFI3Ina7I469PrhrglnHWhwvWJihek9/LwPAJO9yvG PKIQpircl X-Google-Smtp-Source: AGHT+IFbZr29RDHrbCSR8EDjgbvz5heH+iG+2IRaOlTKlfEDUsjnUmOsHLQFJnOIkiUnpQuMlOoDrtwVWQ4l X-Received: by 2002:a05:6e02:1606:b0:430:aedb:3719 with SMTP id e9e14a558f8ab-4330d125bc1mr217796825ab.4.1762249030536; Tue, 04 Nov 2025 01:37:10 -0800 (PST) Received: from postal.iol.unh.edu (postal.iol.unh.edu. [2606:4100:3880:1234::84]) by smtp-relay.gmail.com with ESMTPS id e9e14a558f8ab-43335b3d9c7sm2109565ab.24.2025.11.04.01.37.10 (version=TLS1_2 cipher=ECDHE-ECDSA-AES128-GCM-SHA256 bits=128/128); Tue, 04 Nov 2025 01:37:10 -0800 (PST) X-Relaying-Domain: iol.unh.edu Date: Tue, 04 Nov 2025 01:37:10 -0800 (PST) Message-ID: <6909c946.050a0220.24e3dc.c3b8SMTPIN_ADDED_MISSING@mx.google.com> Received: from [172.21.0.2] (unknown [172.18.0.240]) by postal.iol.unh.edu (Postfix) with ESMTP id 0FA7C6051830; Tue, 4 Nov 2025 04:37:10 -0500 (EST) Subject: |SUCCESS| pw158411 [PATCH] net/nfp: fix use after free From: dpdklab@iol.unh.edu To: Test Report Cc: dpdk-test-reports@iol.unh.edu, Stephen Hemminger In-Reply-To: <20251104052915.270245-1-stephen@networkplumber.org> References: <20251104052915.270245-1-stephen@networkplumber.org> Content-Type: text/plain X-BeenThere: test-report@dpdk.org X-Mailman-Version: 2.1.29 Precedence: list List-Id: automatic DPDK test reports List-Unsubscribe: , List-Archive: List-Post: List-Help: List-Subscribe: , Errors-To: test-report-bounces@dpdk.org Test-Label: iol-unit-amd64-testing Test-Status: SUCCESS http://dpdk.org/patch/158411 _Testing PASS_ Submitter: Stephen Hemminger Date: Tuesday, November 04 2025 05:29:15 DPDK git baseline: Repo:dpdk-next-net Branch: master CommitID:80dea84c15d0ba5b8b092db744e26319a6f23a04 158411 --> testing pass Upstream job id: Generic-VM-Unit-Test-DPDK#32267 Test environment and result as below: +-------------------------------+----------------+ | Environment | dpdk_unit_test | +===============================+================+ | CentOS Stream 9 | PASS | +-------------------------------+----------------+ | Debian GNU/Linux 12 | PASS | +-------------------------------+----------------+ | CentOS Stream 10 | PASS | +-------------------------------+----------------+ | Fedora Linux 40 | PASS | +-------------------------------+----------------+ | Fedora Linux 41 | PASS | +-------------------------------+----------------+ | Fedora Linux 42 | PASS | +-------------------------------+----------------+ | Ubuntu 20.04 | PASS | +-------------------------------+----------------+ | Red Hat Enterprise Linux 8.10 | PASS | +-------------------------------+----------------+ | Ubuntu 24.04 | PASS | +-------------------------------+----------------+ | Red Hat Enterprise Linux 9.5 | PASS | +-------------------------------+----------------+ | Ubuntu 22.04 | PASS | +-------------------------------+----------------+ | Windows Server 2022 | PASS | +-------------------------------+----------------+ CentOS Stream 9 Kernel: 5.15 Compiler: gcc gcc (GCC) 11.5.0 20240719 (Red Hat 11.5.0-11) Debian GNU/Linux 12 Kernel: 5.15 Compiler: gcc gcc (Debian 12.2.0-14+deb12u1) 12.2.0 CentOS Stream 10 Kernel: 5.15 Compiler: gcc gcc (GCC) 14.2.1 20250110 (Red Hat 14.2.1-8) Fedora Linux 40 Kernel: 5.15 Compiler: gcc gcc (GCC) 14.2.1 20240912 (Red Hat 14.2.1-3) Fedora Linux 41 Kernel: 5.15 Compiler: clang gcc (GCC) 14.3.1 20250523 (Red Hat 14.3.1-1) Fedora Linux 42 Kernel: 5.15 Compiler: gcc gcc (GCC) 15.2.1 20250808 (Red Hat 15.2.1-1) Ubuntu 20.04 Kernel: 5.15 Compiler: gcc gcc (Ubuntu 9.4.0-1ubuntu1~20.04.2) 9.4.0 Red Hat Enterprise Linux 8.10 Kernel: 5.15 Compiler: gcc gcc (GCC) 8.5.0 20210514 (Red Hat 8.5.0-22) Ubuntu 24.04 Kernel: 5.15 Compiler: gcc gcc (Ubuntu 13.3.0-6ubuntu2~24.04) 13.3.0 Red Hat Enterprise Linux 9.5 Kernel: 5.15 Compiler: gcc gcc (GCC) 11.5.0 20240719 (Red Hat 11.5.0-2) Ubuntu 22.04 Kernel: 5.15 Compiler: gcc gcc (Ubuntu 11.4.0-1ubuntu1~22.04) 11.4.0 Windows Server 2022 Kernel: 10.0.20348.2031 Compiler: clang 15.0.7, gcc 14.1.0 (MinGW), and MSVC VS 19.39.33521 To view detailed results, visit: https://lab.dpdk.org/results/dashboard/patchsets/34452/ UNH-IOL DPDK Community Lab To manage your email subscriptions, visit: https://lab.dpdk.org/results/dashboard/preferences/subscriptions/