From mboxrd@z Thu Jan 1 00:00:00 1970 Return-Path: Received: from mails.dpdk.org (mails.dpdk.org [217.70.189.124]) by inbox.dpdk.org (Postfix) with ESMTP id B391648AA2 for ; Tue, 4 Nov 2025 11:02:36 +0100 (CET) Received: from mails.dpdk.org (localhost [127.0.0.1]) by mails.dpdk.org (Postfix) with ESMTP id AD706402E8; Tue, 4 Nov 2025 11:02:36 +0100 (CET) Received: from mail-pg1-f225.google.com (mail-pg1-f225.google.com [209.85.215.225]) by mails.dpdk.org (Postfix) with ESMTP id 4ADBE402E8 for ; Tue, 4 Nov 2025 11:02:35 +0100 (CET) Received: by mail-pg1-f225.google.com with SMTP id 41be03b00d2f7-b8c0c0cdd61so5227693a12.2 for ; Tue, 04 Nov 2025 02:02:35 -0800 (PST) DKIM-Signature: v=1; a=rsa-sha256; c=relaxed/relaxed; d=iol.unh.edu; s=unh-iol; t=1762250554; x=1762855354; darn=dpdk.org; h=references:in-reply-to:cc:to:from:subject:message-id:date:from:to :cc:subject:date:message-id:reply-to; bh=5txGLbmDTj2pmAqLM416eahBusTYA/ZejGB0EpH53Oo=; b=HnNl3h7oXcSkfmho/NWCJPnYRKZ9ZZ+wQQCi4t3q+urqB6Drp+mzNu3wBCgG2U+h3f LK303niCV/2253Zw3U+E1VSgFS9h7VgM6UwEc/JAMbDUfsxbOZP4jtoeTkxPykQwKlc4 ZrpnBXGVYQpnz9tVFacbEWh+NVQZAWMOF7G/4= X-Google-DKIM-Signature: v=1; a=rsa-sha256; c=relaxed/relaxed; d=1e100.net; s=20230601; t=1762250554; x=1762855354; h=references:in-reply-to:cc:to:from:subject:message-id:date :x-gm-message-state:from:to:cc:subject:date:message-id:reply-to; bh=5txGLbmDTj2pmAqLM416eahBusTYA/ZejGB0EpH53Oo=; b=GlVGC6FxTyun3VrRB5OtkGau1lFbuEHtG3KZEyuk2Pl5hWYFWSb1lAT0lgHnGBnAuS xX9yos7np+2wjJ9noibuXQGdrrdOD17Jf4klyHeVomOdYZNBpLVWjIKVGinrGmIiGUEZ Il/tWZLlRZPRrzObjWPAfhsI8+PVOgJM7cMn+ZxTBZPtF5iyHNlSYN3+nWyylJGCn2RR nCiCQUzZoRHfFwYHv3JIcvuPeDFbgBYzY7x7qaX+z+tSCZgKmgVtMOPu+x1mSKSGH3lS vowHgYFWTFUUBWcE5cWsgDXSBA15z+Iv8tnblTK24LI0ozBxjBtalLgKTxCLifXli4BA yvKw== X-Gm-Message-State: AOJu0YznhN7hzPKWLjWYZgYVybzFcb7Qx0g1hgbTWH3j3rq3imSvjYlA iQ/GneMyB9/21cGdvAlVRrrPSzUF2wdZOrIRNFzbxZ9UUNJdrYOBL2cbCG4STD2JiUTisO7mDfW VL3HGFrVj3kzFjzB+1o3dyGA5cdG3U1ZfJuA5tiL+guyq X-Gm-Gg: ASbGncvTvKEy+a8otULYtm4kmKjMbjvCcd0BmGy/1sMCmQpYWNizfkHTr2OKbvDzBEw G2s0pU/MAx/eizZda3grJsQSbXWlOg8knCLcMWpeuPAio84ntSn3HVhSowm8n0ptSVGS6QVHR3f 4S6eJvMft3Uw1vpWx5pRUkCoyWLa50XpX5jmBxcavWeJegYhpcUX8VJgszB7r6V6W0TLdJscPvq 4hAOQoUxCCb2HGVUETS1W0aYh8icIqptWM7aw4W1rz1kwlQJqO1QVJ5jsG0OjFuvoTRx+BGSNP5 vJ9J6k3vwYAXxcAlpts/9g3tigCDi0fIW/aKF+Xfbv+P2UWzEmR0X3Ei/TzS711dUiR5fhlqyq2 X8DAHQTwR8di/KM9rcvUGChFjB1SekFY= X-Google-Smtp-Source: AGHT+IGSUkTZtJhA7vuVJdOWdHX64W9wxnL6BJUQ6vB3JFp/TR7E1htVIoLCuP/Y0oYF8aFFmsyjf/Q2XJ7f X-Received: by 2002:a17:90b:1f8b:b0:340:d81d:7874 with SMTP id 98e67ed59e1d1-340d81d79fcmr12339569a91.26.1762250554523; Tue, 04 Nov 2025 02:02:34 -0800 (PST) Received: from postal.iol.unh.edu (postal.iol.unh.edu. [132.177.123.84]) by smtp-relay.gmail.com with ESMTPS id 98e67ed59e1d1-3415a1c19a1sm289987a91.3.2025.11.04.02.02.34 (version=TLS1_2 cipher=ECDHE-ECDSA-AES128-GCM-SHA256 bits=128/128); Tue, 04 Nov 2025 02:02:34 -0800 (PST) X-Relaying-Domain: iol.unh.edu Date: Tue, 04 Nov 2025 02:02:34 -0800 (PST) Message-ID: <6909cf3a.170a0220.94fb.fd36SMTPIN_ADDED_MISSING@mx.google.com> Received: from [172.21.0.3] (unknown [172.18.0.240]) by postal.iol.unh.edu (Postfix) with ESMTP id A94656051830; Tue, 4 Nov 2025 05:02:33 -0500 (EST) Subject: |SUCCESS| pw158411 [PATCH] net/nfp: fix use after free From: dpdklab@iol.unh.edu To: Test Report Cc: dpdk-test-reports@iol.unh.edu, Stephen Hemminger In-Reply-To: <20251104052915.270245-1-stephen@networkplumber.org> References: <20251104052915.270245-1-stephen@networkplumber.org> Content-Type: text/plain X-BeenThere: test-report@dpdk.org X-Mailman-Version: 2.1.29 Precedence: list List-Id: automatic DPDK test reports List-Unsubscribe: , List-Archive: List-Post: List-Help: List-Subscribe: , Errors-To: test-report-bounces@dpdk.org Test-Label: iol-unit-amd64-testing Test-Status: SUCCESS http://dpdk.org/patch/158411 _Testing PASS_ Submitter: Stephen Hemminger Date: Tuesday, November 04 2025 05:29:15 DPDK git baseline: Repo:dpdk-next-net Branch: master CommitID:80dea84c15d0ba5b8b092db744e26319a6f23a04 158411 --> testing pass Upstream job id: Generic-VM-Unit-Test-DPDK#32268 Test environment and result as below: +-------------------------------+----------------+ | Environment | dpdk_unit_test | +===============================+================+ | CentOS Stream 9 | PASS | +-------------------------------+----------------+ | Debian GNU/Linux 12 | PASS | +-------------------------------+----------------+ | CentOS Stream 10 | PASS | +-------------------------------+----------------+ | Fedora Linux 40 | PASS | +-------------------------------+----------------+ | Fedora Linux 41 | PASS | +-------------------------------+----------------+ | Fedora Linux 42 | PASS | +-------------------------------+----------------+ | Ubuntu 20.04 | PASS | +-------------------------------+----------------+ | Red Hat Enterprise Linux 8.10 | PASS | +-------------------------------+----------------+ | Ubuntu 24.04 | PASS | +-------------------------------+----------------+ | Red Hat Enterprise Linux 9.5 | PASS | +-------------------------------+----------------+ | Ubuntu 22.04 | PASS | +-------------------------------+----------------+ | Windows Server 2022 | PASS | +-------------------------------+----------------+ CentOS Stream 9 Kernel: 5.15 Compiler: gcc gcc (GCC) 11.5.0 20240719 (Red Hat 11.5.0-11) Debian GNU/Linux 12 Kernel: 5.15 Compiler: gcc gcc (Debian 12.2.0-14+deb12u1) 12.2.0 CentOS Stream 10 Kernel: 5.15 Compiler: gcc gcc (GCC) 14.2.1 20250110 (Red Hat 14.2.1-8) Fedora Linux 40 Kernel: 5.15 Compiler: gcc gcc (GCC) 14.2.1 20240912 (Red Hat 14.2.1-3) Fedora Linux 41 Kernel: 5.15 Compiler: clang gcc (GCC) 14.3.1 20250523 (Red Hat 14.3.1-1) Fedora Linux 42 Kernel: 5.15 Compiler: gcc gcc (GCC) 15.2.1 20250808 (Red Hat 15.2.1-1) Ubuntu 20.04 Kernel: 5.15 Compiler: gcc gcc (Ubuntu 9.4.0-1ubuntu1~20.04.2) 9.4.0 Red Hat Enterprise Linux 8.10 Kernel: 5.15 Compiler: gcc gcc (GCC) 8.5.0 20210514 (Red Hat 8.5.0-22) Ubuntu 24.04 Kernel: 5.15 Compiler: gcc gcc (Ubuntu 13.3.0-6ubuntu2~24.04) 13.3.0 Red Hat Enterprise Linux 9.5 Kernel: 5.15 Compiler: gcc gcc (GCC) 11.5.0 20240719 (Red Hat 11.5.0-2) Ubuntu 22.04 Kernel: 5.15 Compiler: gcc gcc (Ubuntu 11.4.0-1ubuntu1~22.04) 11.4.0 Windows Server 2022 Kernel: 10.0.20348.2031 Compiler: clang 15.0.7, gcc 14.1.0 (MinGW), and MSVC VS 19.39.33521 To view detailed results, visit: https://lab.dpdk.org/results/dashboard/patchsets/34452/ UNH-IOL DPDK Community Lab To manage your email subscriptions, visit: https://lab.dpdk.org/results/dashboard/preferences/subscriptions/