From mboxrd@z Thu Jan 1 00:00:00 1970 Return-Path: Received: from mails.dpdk.org (mails.dpdk.org [217.70.189.124]) by inbox.dpdk.org (Postfix) with ESMTP id BC84848AA2 for ; Tue, 4 Nov 2025 11:27:44 +0100 (CET) Received: from mails.dpdk.org (localhost [127.0.0.1]) by mails.dpdk.org (Postfix) with ESMTP id A707140285; Tue, 4 Nov 2025 11:27:44 +0100 (CET) Received: from mail-oi1-f226.google.com (mail-oi1-f226.google.com [209.85.167.226]) by mails.dpdk.org (Postfix) with ESMTP id 6FB1E40285 for ; Tue, 4 Nov 2025 11:27:43 +0100 (CET) Received: by mail-oi1-f226.google.com with SMTP id 5614622812f47-44dad158d96so1569159b6e.2 for ; Tue, 04 Nov 2025 02:27:43 -0800 (PST) DKIM-Signature: v=1; a=rsa-sha256; c=relaxed/relaxed; d=iol.unh.edu; s=unh-iol; t=1762252062; x=1762856862; darn=dpdk.org; h=references:in-reply-to:cc:to:from:subject:message-id:date:from:to :cc:subject:date:message-id:reply-to; bh=NksbP1duVEK+vNSXuKwNUjYOhwV3eLqkc04Ylx8fvnA=; b=eHL8BqMmQWg5CDUw6wdwagP8towhi4bjM4eht2nNmmzzM0Tm2I1IGAhPXRGB2f5u92 1PgWfnOFKeU0bqTVFv+S4pxPqHnlXvldJTY3HIT46CdLIQ5Wk5TpFuf0iLkGJCSUPBFb FcBPdvG7edex7q9JG2XmE5aybi4LQMxXjUryQ= X-Google-DKIM-Signature: v=1; a=rsa-sha256; c=relaxed/relaxed; d=1e100.net; s=20230601; t=1762252062; x=1762856862; h=references:in-reply-to:cc:to:from:subject:message-id:date :x-gm-message-state:from:to:cc:subject:date:message-id:reply-to; bh=NksbP1duVEK+vNSXuKwNUjYOhwV3eLqkc04Ylx8fvnA=; b=Jsd3bPBcgeGt/PczR7VmWb1DOjqOWTtM5dl5saDk5+pdd5FBCbrfdLmEp1FXhwAMy4 vrCyegTnJk+ZNRdme7HYYo5zrqLbCeV5rGhmV8WbdWyYtGLvjecopK774amBjS1BwrMj 1aixdv/nFZh8fl3eZtxEQu6jwCxcwuirkoTIwSJNOUG/nYAk5UrEU/CFeXgKdVJCFA84 DxlUYOlUGfcHtLJo1j0CecykOvEE03rMIEI1+4+xIm+rW/26mEQyE1gGi5YkkCni7qrE Hg45lXAF4LWdwP1Url995l/LntygndTsKFxkMpi0XlsjdJuutd5npUlLooGgjk095viC 7+kQ== X-Gm-Message-State: AOJu0YzIFVf0khrAe094D0c5jmZ8SeuICZ3KZA5qdtvNW5vVP+R3q65F 3c2hRySn+EVEJN8dpzqJqH0k7HLyEaRZhR+Hie+eqFz5ddkTICOel6+tEB21/jj0B7EL0+czABR NoF4W+ghOpp34A5Jym/dOGgj3jhmMMpIjRhmUOeHdbFgj X-Gm-Gg: ASbGncsogHlWBdYVN7VxWERLm195xZpcDA6iieGLCw9vkB+KziRTCqJ8OKlo52fHR4Z kNGJX26qCzKLcRlmVJyPbWT6voMKML0J0e0+DBoln1qZ2C7+sfzj3xHf7EeINXbefvM7XLy6MxD NpS77XeJuXaCZhZbI3N71Fh3IWGR1dR7HcZOulfJ2nO7dQ8xY+enlrCrlxRV0yxmtbEYoqbJEb0 QykWXHYwc+PGATklCapGNNA94c2hWo2Q6oqLLb1dUdj0aCjxl1m7TQXIqphOPCjEyUwmg7S6V5t OG1RMs5CckQnFZiJRKrgPzxASib4xmFOhQVnCMmboasrQ/QJzRAymU7hA1v7/7erx1aUnbHE0ca A6mTG3H54Aa6Fo16hLVcv1qH4KOfY8Tk= X-Google-Smtp-Source: AGHT+IF2iaUCTgiUKtbRCStVfYL4HzfoDl/nYBwfy1XWi0UkzNceBhi7+hwFRxTlRyrmYKYSysxm6bYTRCCD X-Received: by 2002:a05:6808:308b:b0:44f:e382:2d3 with SMTP id 5614622812f47-44fe382054fmr327792b6e.38.1762252062633; Tue, 04 Nov 2025 02:27:42 -0800 (PST) Received: from postal.iol.unh.edu (postal.iol.unh.edu. [132.177.123.84]) by smtp-relay.gmail.com with ESMTPS id 586e51a60fabf-3dff6d57ddcsm234625fac.11.2025.11.04.02.27.42 (version=TLS1_2 cipher=ECDHE-ECDSA-AES128-GCM-SHA256 bits=128/128); Tue, 04 Nov 2025 02:27:42 -0800 (PST) X-Relaying-Domain: iol.unh.edu Date: Tue, 04 Nov 2025 02:27:42 -0800 (PST) Message-ID: <6909d51e.050a0220.267217.cb02SMTPIN_ADDED_MISSING@mx.google.com> Received: from [172.21.0.3] (unknown [172.18.0.240]) by postal.iol.unh.edu (Postfix) with ESMTP id 23DF760003E8; Tue, 4 Nov 2025 05:27:42 -0500 (EST) Subject: |SUCCESS| pw158410 [PATCH] [v2,1/1] dmadev: add domain_id field to a From: dpdklab@iol.unh.edu To: Test Report Cc: dpdk-test-reports@iol.unh.edu In-Reply-To: <20251104052146.2308361-1-vattunuru@marvell.com> References: <20251104052146.2308361-1-vattunuru@marvell.com> Content-Type: text/plain X-BeenThere: test-report@dpdk.org X-Mailman-Version: 2.1.29 Precedence: list List-Id: automatic DPDK test reports List-Unsubscribe: , List-Archive: List-Post: List-Help: List-Subscribe: , Errors-To: test-report-bounces@dpdk.org Test-Label: iol-compile-amd64-testing Test-Status: SUCCESS http://dpdk.org/patch/158410 _Testing PASS_ Submitter: Vamsi Krishna Date: Tuesday, November 04 2025 05:21:46 DPDK git baseline: Repo:dpdk Branch: master CommitID:8c4861d00aabcf54ef9d6f1df2a4cfb37c06f6c2 158410 --> testing pass Upstream job id: Windows-Compile-DPDK-Native#32095 Test environment and result as below: +-------------------------------+--------------------+------------------+-------------------+-------------------------+ | Environment | dpdk_meson_compile | dpdk_compile_ovs | dpdk_msvc_compile | dpdk_llvm_clang_compile | +===============================+====================+==================+===================+=========================+ | FreeBSD 14.2 | PASS | SKIPPED | SKIPPED | SKIPPED | +-------------------------------+--------------------+------------------+-------------------+-------------------------+ | Ubuntu 20.04 | PASS | SKIPPED | SKIPPED | SKIPPED | +-------------------------------+--------------------+------------------+-------------------+-------------------------+ | CentOS Stream 9 | PASS | SKIPPED | SKIPPED | SKIPPED | +-------------------------------+--------------------+------------------+-------------------+-------------------------+ | CentOS Stream 10 | PASS | SKIPPED | SKIPPED | SKIPPED | +-------------------------------+--------------------+------------------+-------------------+-------------------------+ | Debian GNU/Linux 12 | PASS | SKIPPED | SKIPPED | SKIPPED | +-------------------------------+--------------------+------------------+-------------------+-------------------------+ | Fedora Linux 42 | PASS | PASS | SKIPPED | SKIPPED | +-------------------------------+--------------------+------------------+-------------------+-------------------------+ | openSUSE Leap 15.6 | PASS | SKIPPED | SKIPPED | SKIPPED | +-------------------------------+--------------------+------------------+-------------------+-------------------------+ | Red Hat Enterprise Linux 8.10 | PASS | SKIPPED | SKIPPED | SKIPPED | +-------------------------------+--------------------+------------------+-------------------+-------------------------+ | Red Hat Enterprise Linux 9.5 | PASS | SKIPPED | SKIPPED | SKIPPED | +-------------------------------+--------------------+------------------+-------------------+-------------------------+ | Ubuntu 22.04 | PASS | SKIPPED | SKIPPED | SKIPPED | +-------------------------------+--------------------+------------------+-------------------+-------------------------+ | Ubuntu 24.04 | PASS | PASS | SKIPPED | SKIPPED | +-------------------------------+--------------------+------------------+-------------------+-------------------------+ | Alpine Linux 3.22.0 | PASS | SKIPPED | SKIPPED | SKIPPED | +-------------------------------+--------------------+------------------+-------------------+-------------------------+ | Windows Server 2022 | SKIPPED | SKIPPED | PASS | PASS | +-------------------------------+--------------------+------------------+-------------------+-------------------------+ FreeBSD 14.2 Kernel: 14.2-RELEASE Compiler: clang 18.1.6 Ubuntu 20.04 Kernel: 4.19 Compiler: gcc gcc (Ubuntu 9.4.0-1ubuntu1~20.04.2) 9.4.0 CentOS Stream 9 Kernel: 5.15 Compiler: gcc gcc (GCC) 11.5.0 20240719 (Red Hat 11.5.0-11) CentOS Stream 10 Kernel: 5.15 Compiler: gcc gcc (GCC) 14.2.1 20250110 (Red Hat 14.2.1-8) Debian GNU/Linux 12 Kernel: 5.15 Compiler: gcc gcc (Debian 12.2.0-14+deb12u1) 12.2.0 Fedora Linux 42 Kernel: 5.15 Compiler: clang gcc (GCC) 15.2.1 20250808 (Red Hat 15.2.1-1) openSUSE Leap 15.6 Kernel: 5.15 Compiler: gcc gcc (SUSE Linux) 7.5.0 Red Hat Enterprise Linux 8.10 Kernel: 5.15 Compiler: gcc gcc (GCC) 8.5.0 20210514 (Red Hat 8.5.0-22) Red Hat Enterprise Linux 9.5 Kernel: 5.15 Compiler: gcc gcc (GCC) 11.5.0 20240719 (Red Hat 11.5.0-2) Ubuntu 22.04 Kernel: 5.15 Compiler: gcc gcc (Ubuntu 11.4.0-1ubuntu1~22.04) 11.4.0 Ubuntu 24.04 Kernel: 5.15 Compiler: gcc gcc (Ubuntu 13.3.0-6ubuntu2~24.04) 13.3.0 Alpine Linux 3.22.0 Kernel: 5.15 Compiler: gcc gcc (Alpine 14.2.0) 14.2.0 Windows Server 2022 Kernel: 10.0.20348.2031 Compiler: clang 15.0.7, gcc 14.1.0 (MinGW), and MSVC VS 19.39.33521 To view detailed results, visit: https://lab.dpdk.org/results/dashboard/patchsets/34453/ UNH-IOL DPDK Community Lab To manage your email subscriptions, visit: https://lab.dpdk.org/results/dashboard/preferences/subscriptions/