From mboxrd@z Thu Jan 1 00:00:00 1970 Return-Path: Received: from mails.dpdk.org (mails.dpdk.org [217.70.189.124]) by inbox.dpdk.org (Postfix) with ESMTP id F000148A98 for ; Tue, 4 Nov 2025 11:40:47 +0100 (CET) Received: from mails.dpdk.org (localhost [127.0.0.1]) by mails.dpdk.org (Postfix) with ESMTP id E97E240285; Tue, 4 Nov 2025 11:40:47 +0100 (CET) Received: from mail-pl1-f226.google.com (mail-pl1-f226.google.com [209.85.214.226]) by mails.dpdk.org (Postfix) with ESMTP id 29CE740285 for ; Tue, 4 Nov 2025 11:40:47 +0100 (CET) Received: by mail-pl1-f226.google.com with SMTP id d9443c01a7336-26d0fbe238bso42566085ad.3 for ; Tue, 04 Nov 2025 02:40:47 -0800 (PST) DKIM-Signature: v=1; a=rsa-sha256; c=relaxed/relaxed; d=iol.unh.edu; s=unh-iol; t=1762252846; x=1762857646; darn=dpdk.org; h=cc:to:from:subject:message-id:date:from:to:cc:subject:date :message-id:reply-to; bh=wq8ji52slKPnZ3EHT8Qqdrb01IGKx8b8d/fnQbJcmC0=; b=DX9GdRhHAo+vNMw263jb43i+JhuM+QMAP8kIM14/3WHGLSXEPm7kkVMKoSyIRs3rcz U7oBMqIpH7GRmKns0tAasBHyDDUAXzKV1xliURDjgeG4URzFTtxRL/ZOkLmqfPJJUZfV 9A0fb5pWrD78jZo2I/9Vu+o40+/42x+NKeBKc= X-Google-DKIM-Signature: v=1; a=rsa-sha256; c=relaxed/relaxed; d=1e100.net; s=20230601; t=1762252846; x=1762857646; h=cc:to:from:subject:message-id:date:x-gm-message-state:from:to:cc :subject:date:message-id:reply-to; bh=wq8ji52slKPnZ3EHT8Qqdrb01IGKx8b8d/fnQbJcmC0=; b=kIHbCtZkViDjp+sTe+Lz7eU1sfPkjWyHtH9zoBhY6jCOKYsADm7mC1EjMPDZy13CGD lrEDMwL7TPJEdod4kghWNk8noOLpKIdvA8nJRCRu3syzJWrRuB+ahXaldw03Q6bTsV8H I7C/Td7B/q1Bgntjy8mgNiABOxWOMBzFIwb4rjPX0fjIVm8zco0DBHHfhRT1Y/o1pO3v M+8EzaByUIYuIukWS9X1wfqUgrlAo0K0Ma1nY5znSKiC0kBSXC/pwFcLCroHMGLvNHzZ zcw5vGvsYdQrCEMmgwgVb1R/YZCvyCF2NfVrrkT91Onu2e6FPeOypm/zgWwXp4t8mVWW nNOQ== X-Gm-Message-State: AOJu0YzNco3urJqxJaei12NkoGU6Aq7tbhs7AaKiSOcdgiJTAYiO/Ick iMsRJiKkY2NyY08WHrdKUDfpJUyO6JXp5RgELFvBbae7pFZtRBMwg4s5XV/shEJ0dOIdA8jH1jx 5jYIcpQK02hvb3FEOjuASCrnsXz3zaJdrhkuVqVjutboHcI648Mwq X-Gm-Gg: ASbGncvImOplEXCLteEx62/q5w8I6VSzyt3eQGZWkYRXvdR6V2GIaZnjXao7NDGzyRN 4nySPA6lN38JYNyNB1GlzHAvkQBE54OKJQFpfptWYhWr2yLMDSJC7hD3fVNqeL13r7I812hqOG0 48hAk+jqaCJQB4lOWmQbV6WrFME9G6lJV4nNMv/Wv2UqKwda5FWNeTLScLGYM54VMTf+vwi/lhL RKnlCYs9yo0dhR8j2EW0Wk1dfzjyJQoBK82hdPPVIDlaiqfiu1Mpz5v6zolRIA+NXBuojjRzWgn r8GzMnvyk6wHEp4dPN1NjU1UxwLTjpFb+aD7OsGnTJV+fV2TDHP4OabZhnfY8YpwMNvgLNkOHem i2Co+VVci X-Google-Smtp-Source: AGHT+IHw70By568rFjXw/j9osy0a1opH/oAbTWiZINzXK/qvTKKl0fjtkGaCrqIAHBuWZ4B8qtjhMZMnw/Dr X-Received: by 2002:a17:903:41ce:b0:295:915d:1eed with SMTP id d9443c01a7336-295915d2757mr108541205ad.47.1762252846379; Tue, 04 Nov 2025 02:40:46 -0800 (PST) Received: from postal.iol.unh.edu (postal.iol.unh.edu. [2606:4100:3880:1234::84]) by smtp-relay.gmail.com with ESMTPS id d9443c01a7336-29601a1a368sm1988425ad.40.2025.11.04.02.40.46 (version=TLS1_2 cipher=ECDHE-ECDSA-AES128-GCM-SHA256 bits=128/128); Tue, 04 Nov 2025 02:40:46 -0800 (PST) X-Relaying-Domain: iol.unh.edu Date: Tue, 04 Nov 2025 02:40:46 -0800 (PST) Message-ID: <6909d82e.170a0220.15a5f8.ae06SMTPIN_ADDED_MISSING@mx.google.com> Received: from [172.21.0.17] (unknown [172.18.0.240]) by postal.iol.unh.edu (Postfix) with ESMTP id 96C386051830; Tue, 4 Nov 2025 05:40:45 -0500 (EST) Subject: |SUCCESS| [GIT MASTER] 9784db2c5af1eecd02fc21132b59b5b266039b87 From: dpdklab@iol.unh.edu To: Test Report Cc: dpdk-test-reports@iol.unh.edu, Xueming Li , Christian Ehrhardt , Kevin Traynor , Luca Boccassi Content-Type: text/plain X-BeenThere: test-report@dpdk.org X-Mailman-Version: 2.1.29 Precedence: list List-Id: automatic DPDK test reports List-Unsubscribe: , List-Archive: List-Post: List-Help: List-Subscribe: , Errors-To: test-report-bounces@dpdk.org _Testing PASS_ Branch: tags/v22.11 9784db2c5af1eecd02fc21132b59b5b266039b87 --> testing pass Upstream job id: Generic-Unit-Test-DPDK#388207 Test environment and result as below: +-----------------+--------------+------------------------------+---------------------------+----------------+ | Environment | lpm_autotest | cryptodev_sw_snow3g_autotest | cryptodev_sw_zuc_autotest | dpdk_unit_test | +=================+==============+==============================+===========================+================+ | Ubuntu 20.04 | PASS | SKIPPED | SKIPPED | SKIPPED | +-----------------+--------------+------------------------------+---------------------------+----------------+ | Debian 12 (arm) | SKIPPED | PASS | PASS | SKIPPED | +-----------------+--------------+------------------------------+---------------------------+----------------+ | Ubuntu 22.04 | SKIPPED | SKIPPED | SKIPPED | PASS | +-----------------+--------------+------------------------------+---------------------------+----------------+ Ubuntu 20.04 Kernel: 5.4 Compiler: gcc gcc (Ubuntu 9.4.0-1ubuntu1~20.04.2) 9.4.0 Debian 12 (arm) Kernel: Depends on container host Compiler: gcc (Debian 12.2.0-14) 12.2.0 Ubuntu 22.04 Kernel: 5.15 Compiler: gcc gcc (Ubuntu 11.4.0-1ubuntu1~22.04.2) 11.4.0 To view detailed results, visit: https://lab.dpdk.org/results/dashboard/tarballs/35442/ UNH-IOL DPDK Community Lab To manage your email subscriptions, visit: https://lab.dpdk.org/results/dashboard/preferences/subscriptions/