From mboxrd@z Thu Jan 1 00:00:00 1970 Return-Path: Received: from mails.dpdk.org (mails.dpdk.org [217.70.189.124]) by inbox.dpdk.org (Postfix) with ESMTP id 1EAAA48AA2 for ; Tue, 4 Nov 2025 11:41:45 +0100 (CET) Received: from mails.dpdk.org (localhost [127.0.0.1]) by mails.dpdk.org (Postfix) with ESMTP id 15F9B40285; Tue, 4 Nov 2025 11:41:45 +0100 (CET) Received: from mail-pl1-f227.google.com (mail-pl1-f227.google.com [209.85.214.227]) by mails.dpdk.org (Postfix) with ESMTP id 40F6240285 for ; Tue, 4 Nov 2025 11:41:44 +0100 (CET) Received: by mail-pl1-f227.google.com with SMTP id d9443c01a7336-294fb21b160so37944845ad.1 for ; Tue, 04 Nov 2025 02:41:44 -0800 (PST) DKIM-Signature: v=1; a=rsa-sha256; c=relaxed/relaxed; d=iol.unh.edu; s=unh-iol; t=1762252903; x=1762857703; darn=dpdk.org; h=cc:to:from:subject:message-id:date:from:to:cc:subject:date :message-id:reply-to; bh=IfpZtVZsBwPYkCUCddrtMmtWETf7Uz6mORUQ8EE0GO0=; b=iVhCegL/xiVcmjVFdkk5/O2KFUh/PyfZwtm75wFcI2cfOyBuZPKmcbXIctb3pI/fOA Dxf43nE2tLbS3XK5mtl8qDLIUC/V0e+Fskv0aRPpN+KHhbc/cmoftVzJ0bho7scyD0Yq UznGuWQOu0OxKtn2RsNOfxxmxYw00MRfoJgi4= X-Google-DKIM-Signature: v=1; a=rsa-sha256; c=relaxed/relaxed; d=1e100.net; s=20230601; t=1762252903; x=1762857703; h=cc:to:from:subject:message-id:date:x-gm-message-state:from:to:cc :subject:date:message-id:reply-to; bh=IfpZtVZsBwPYkCUCddrtMmtWETf7Uz6mORUQ8EE0GO0=; b=GPjU/8TpjmE8N7vIOQKhr3HzboVw9l4Qs2mVZ2rSJsszbv7fnUv0lg5BwtfPzJQoLa mp8cBR8H03jOq1yU2AC1Tf+CTQXYufUTpEa7MwfruirwHEeC23JjtzQWL24ese85dOqN SPA0x30sD4myLVSzZZRjXeTOdEC6Ja99vJozHME3ZhnvU3ATa5h7ggv8yWCj8jMazEVx 6XCH07A+/5Y6ghfGf+DdOO9TOHFJ2TxBE/xcneJXI/DjkWWve8YUpbfl6t7E+HJl1mBJ FBPSPmewGsML6E2e5HOq0T9Zh/dh+NUk2a4axmTtmN4pREak4zso8z5kuChRdlw0nm8t 46TA== X-Gm-Message-State: AOJu0YyYb85iKk8WBmWl5+gWNkmWb8kIqopxkgNbJCOCBnvBQendwXo4 +5tBmJsZskCA/2xJVPkNLHFMma97dsmD/YnDIVZLXwPYOa+A3IDvnDxsOZC5h9R78Ok9Jzmzfqq q4cZbg/pktuPb++rrmfh7ea2N37vwr63h77gESNIal6d8PtG9YwB3 X-Gm-Gg: ASbGncveM8bml1rCUYnK4+FPD53q2bSeYYoquMDhTFHNa4pmCoAOoYvKhBZiFXfnZ1P PckgAh5ULBBQNPcuaCVIujuQLvlCqNmitstcEnkXzcMDxb1sRp/WQTdfgRPpH2j1XgpaiH7nWAU UVMaaRdGjjs04OeeU8KnGqA0PbeXZkcO6yOF6QgyABW4oJ2W3fj+bmkc2mi6yNCVYFwz64aT6Vx DXqRMrhC7mwL1NKfnHzRLcGEizF5ahcyWKf0YCJI1ecHn4iD5HOZvvuzcYh55DqZ1twUFYewOQn FMlsBGwdwVOobsKpTUcXmw6AP/a4h8Caz3vRBrNpxN4IJrCdHjnj6EBMYXwqQ3NVlsjUO2Gbwen 9vLo6wxa2 X-Google-Smtp-Source: AGHT+IGEOXHaAHzfElu1zVHlOGpbmyGJ3slu8GOpPZb3sF+S52ZKbVfGhSjBBwkXwaQkBYGaOMsRzI6m0q7q X-Received: by 2002:a17:903:1a67:b0:295:ac70:10c4 with SMTP id d9443c01a7336-295ac7012admr87969085ad.47.1762252903447; Tue, 04 Nov 2025 02:41:43 -0800 (PST) Received: from postal.iol.unh.edu (postal.iol.unh.edu. [2606:4100:3880:1234::84]) by smtp-relay.gmail.com with ESMTPS id d9443c01a7336-29601a3c2bfsm2010665ad.47.2025.11.04.02.41.43 (version=TLS1_2 cipher=ECDHE-ECDSA-AES128-GCM-SHA256 bits=128/128); Tue, 04 Nov 2025 02:41:43 -0800 (PST) X-Relaying-Domain: iol.unh.edu Date: Tue, 04 Nov 2025 02:41:43 -0800 (PST) Message-ID: <6909d867.170a0220.189d2e.b2b0SMTPIN_ADDED_MISSING@mx.google.com> Received: from [172.21.0.2] (unknown [172.18.0.240]) by postal.iol.unh.edu (Postfix) with ESMTP id AF2406051830; Tue, 4 Nov 2025 05:41:42 -0500 (EST) Subject: |SUCCESS| [GIT MASTER] 9784db2c5af1eecd02fc21132b59b5b266039b87 From: dpdklab@iol.unh.edu To: Test Report Cc: dpdk-test-reports@iol.unh.edu, Xueming Li , Christian Ehrhardt , Kevin Traynor , Luca Boccassi Content-Type: text/plain X-BeenThere: test-report@dpdk.org X-Mailman-Version: 2.1.29 Precedence: list List-Id: automatic DPDK test reports List-Unsubscribe: , List-Archive: List-Post: List-Help: List-Subscribe: , Errors-To: test-report-bounces@dpdk.org _Testing PASS_ Branch: tags/v22.11 9784db2c5af1eecd02fc21132b59b5b266039b87 --> testing pass Upstream job id: Generic-Unit-Test-DPDK#388208 Test environment and result as below: +-----------------+--------------+------------------------------+---------------------------+----------------+ | Environment | lpm_autotest | cryptodev_sw_snow3g_autotest | cryptodev_sw_zuc_autotest | dpdk_unit_test | +=================+==============+==============================+===========================+================+ | Ubuntu 20.04 | PASS | SKIPPED | SKIPPED | SKIPPED | +-----------------+--------------+------------------------------+---------------------------+----------------+ | Debian 12 (arm) | SKIPPED | PASS | PASS | SKIPPED | +-----------------+--------------+------------------------------+---------------------------+----------------+ | Ubuntu 22.04 | SKIPPED | SKIPPED | SKIPPED | PASS | +-----------------+--------------+------------------------------+---------------------------+----------------+ Ubuntu 20.04 Kernel: 5.4 Compiler: gcc gcc (Ubuntu 9.4.0-1ubuntu1~20.04.2) 9.4.0 Debian 12 (arm) Kernel: Depends on container host Compiler: gcc (Debian 12.2.0-14) 12.2.0 Ubuntu 22.04 Kernel: 5.15 Compiler: gcc gcc (Ubuntu 11.4.0-1ubuntu1~22.04.2) 11.4.0 To view detailed results, visit: https://lab.dpdk.org/results/dashboard/tarballs/35442/ UNH-IOL DPDK Community Lab To manage your email subscriptions, visit: https://lab.dpdk.org/results/dashboard/preferences/subscriptions/