From mboxrd@z Thu Jan 1 00:00:00 1970 Return-Path: Received: from mails.dpdk.org (mails.dpdk.org [217.70.189.124]) by inbox.dpdk.org (Postfix) with ESMTP id 7EB4C48AA2 for ; Tue, 4 Nov 2025 11:44:59 +0100 (CET) Received: from mails.dpdk.org (localhost [127.0.0.1]) by mails.dpdk.org (Postfix) with ESMTP id 7882D40285; Tue, 4 Nov 2025 11:44:59 +0100 (CET) Received: from mail-ot1-f98.google.com (mail-ot1-f98.google.com [209.85.210.98]) by mails.dpdk.org (Postfix) with ESMTP id 1855C40285 for ; Tue, 4 Nov 2025 11:44:58 +0100 (CET) Received: by mail-ot1-f98.google.com with SMTP id 46e09a7af769-7c2948b774cso3655952a34.0 for ; Tue, 04 Nov 2025 02:44:58 -0800 (PST) DKIM-Signature: v=1; a=rsa-sha256; c=relaxed/relaxed; d=iol.unh.edu; s=unh-iol; t=1762253097; x=1762857897; darn=dpdk.org; h=references:in-reply-to:cc:to:from:subject:message-id:date:from:to :cc:subject:date:message-id:reply-to; bh=GEOBFYc7DAr6ysD5FnY47avlwIsfLC8qnl98CQvYQJc=; b=WxEo6Ow/gLDQLlGmIn9zEbGYtMF7jKoglOv3AVl/SW41Qqa6Y/s5Mt9zVP7sHTX3sp XBxrIplQG/hBC96jV87Ij+kR79oOH+CzNzDwS6rxUk9iwK98Yuzum3Xj6io+0j0oK6G5 bbJw2nloLaxPqtl8qvAw30zpG8hE0eRwySKtQ= X-Google-DKIM-Signature: v=1; a=rsa-sha256; c=relaxed/relaxed; d=1e100.net; s=20230601; t=1762253097; x=1762857897; h=references:in-reply-to:cc:to:from:subject:message-id:date :x-gm-message-state:from:to:cc:subject:date:message-id:reply-to; bh=GEOBFYc7DAr6ysD5FnY47avlwIsfLC8qnl98CQvYQJc=; b=gHJNU2SmHqg2lj0rjihQGNMfLvxwqmToahq2ALaT02MrPUiVr2oKmsGjfp8+ThHgSL AuHnuCzRrlGEUVpwgbfcCoUD29K5Yliafplc8WiQOgzp/fxuIc3Oz/mKK+g/C5ANxAlp D5jt7X8+AfE/UPY2v277+5o9wov7uB9CNOL5NORwNtjQ4FdOGLl00aDo5ldjavnmB7Rg WqTTLPr1WX3sfgSyQ8XNmOFjfnax2P+ZYaid5O8oJ2yssmOceu3UCcpwePlBTo/sVscm QxLjXg2BazxdQvkif3Xo2CLEHgKHr+frk4f8oFyl5z2TeGSzzzAg8aexQ5zJPVuD1liy Xmgg== X-Gm-Message-State: AOJu0Yz0pxpWloF0cb9Bm7Sxo73d6U2u21v6UgW7KFAQjHMIIcwgaquE ZaagS0eNK6zf+Dh+WU8LK1z3ySemOhhvUZ1Rhmh8pJ2TglmBKXt3p0CKZajOhFsveTsy9+n/4dI McNa9LJ8XfSTH1SRQ7hGgmaTciv0/xlbpvKQkZsJJe+GApJNKIAXe4k3e6M63 X-Gm-Gg: ASbGncvEOSGJoP5eRBCK1YXoaHO/hRLwPvW2VG7csmsk+o555o9Pt6UtT5YZ2twoD2N ac9uXtFTlBEMA/mRqEQHLBOybZFx+I0kV3otLYT0aU5JV1XW2XCtlBtoybFf12VWElRgbt3RKol Cm0VhS5dcy96rz/KADz8phnWayktc0FvyxFVSefAneCMM/KpRhomoYDnPYxazcoK+6AevNj4kYc ElBg9foYL89k9446BggH8JSqr2AS6grpo+4naOth2Zimyler0DSwPlrBh0L/JWJh1zFh2H5/WhI EE8Boa+Lcz/4molRsISHRAdlqp3JAx7KBZCO1mzuyuiIIw+67CTyn+dmxRk/qWDkxNjxsfnYAAe IujNMmKqw X-Google-Smtp-Source: AGHT+IHNLTl0Vyo+fniH/xvL13jVvt4b56wC1arPsImV5IP6tuznggOKvSpBOd0qskMpPJr50DkLO5jvCjSK X-Received: by 2002:a05:6830:6dd8:b0:7c6:9eac:2379 with SMTP id 46e09a7af769-7c69eac25d8mr6297701a34.5.1762253097279; Tue, 04 Nov 2025 02:44:57 -0800 (PST) Received: from postal.iol.unh.edu (postal.iol.unh.edu. [2606:4100:3880:1234::84]) by smtp-relay.gmail.com with ESMTPS id 46e09a7af769-7c6c24e087fsm166598a34.5.2025.11.04.02.44.57 (version=TLS1_2 cipher=ECDHE-ECDSA-AES128-GCM-SHA256 bits=128/128); Tue, 04 Nov 2025 02:44:57 -0800 (PST) X-Relaying-Domain: iol.unh.edu Date: Tue, 04 Nov 2025 02:44:57 -0800 (PST) Message-ID: <6909d929.050a0220.339ca2.93f8SMTPIN_ADDED_MISSING@mx.google.com> Received: from [172.21.0.9] (unknown [172.18.0.240]) by postal.iol.unh.edu (Postfix) with ESMTP id C6E9D6051830; Tue, 4 Nov 2025 05:44:56 -0500 (EST) Subject: |SUCCESS| pw158410 [PATCH] [v2,1/1] dmadev: add domain_id field to a From: dpdklab@iol.unh.edu To: Test Report Cc: dpdk-test-reports@iol.unh.edu In-Reply-To: <20251104052146.2308361-1-vattunuru@marvell.com> References: <20251104052146.2308361-1-vattunuru@marvell.com> Content-Type: text/plain X-BeenThere: test-report@dpdk.org X-Mailman-Version: 2.1.29 Precedence: list List-Id: automatic DPDK test reports List-Unsubscribe: , List-Archive: List-Post: List-Help: List-Subscribe: , Errors-To: test-report-bounces@dpdk.org Test-Label: iol-unit-amd64-testing Test-Status: SUCCESS http://dpdk.org/patch/158410 _Testing PASS_ Submitter: Vamsi Krishna Date: Tuesday, November 04 2025 05:21:46 DPDK git baseline: Repo:dpdk Branch: master CommitID:8c4861d00aabcf54ef9d6f1df2a4cfb37c06f6c2 158410 --> testing pass Upstream job id: Generic-VM-Unit-Test-DPDK#32269 Test environment and result as below: +-------------------------------+----------------+ | Environment | dpdk_unit_test | +===============================+================+ | CentOS Stream 9 | PASS | +-------------------------------+----------------+ | CentOS Stream 10 | PASS | +-------------------------------+----------------+ | Debian GNU/Linux 12 | PASS | +-------------------------------+----------------+ | Fedora Linux 40 | PASS | +-------------------------------+----------------+ | Fedora Linux 41 | PASS | +-------------------------------+----------------+ | Fedora Linux 42 | PASS | +-------------------------------+----------------+ | Ubuntu 20.04 | PASS | +-------------------------------+----------------+ | Red Hat Enterprise Linux 8.10 | PASS | +-------------------------------+----------------+ | Red Hat Enterprise Linux 9.5 | PASS | +-------------------------------+----------------+ | Ubuntu 22.04 | PASS | +-------------------------------+----------------+ | Ubuntu 24.04 | PASS | +-------------------------------+----------------+ | Windows Server 2022 | PASS | +-------------------------------+----------------+ CentOS Stream 9 Kernel: 5.15 Compiler: gcc gcc (GCC) 11.5.0 20240719 (Red Hat 11.5.0-11) CentOS Stream 10 Kernel: 5.15 Compiler: gcc gcc (GCC) 14.2.1 20250110 (Red Hat 14.2.1-8) Debian GNU/Linux 12 Kernel: 5.15 Compiler: gcc gcc (Debian 12.2.0-14+deb12u1) 12.2.0 Fedora Linux 40 Kernel: 5.15 Compiler: gcc gcc (GCC) 14.2.1 20240912 (Red Hat 14.2.1-3) Fedora Linux 41 Kernel: 5.15 Compiler: gcc gcc (GCC) 14.3.1 20250523 (Red Hat 14.3.1-1) Fedora Linux 42 Kernel: 5.15 Compiler: clang gcc (GCC) 15.2.1 20250808 (Red Hat 15.2.1-1) Ubuntu 20.04 Kernel: 5.15 Compiler: gcc gcc (Ubuntu 9.4.0-1ubuntu1~20.04.2) 9.4.0 Red Hat Enterprise Linux 8.10 Kernel: 5.15 Compiler: gcc gcc (GCC) 8.5.0 20210514 (Red Hat 8.5.0-22) Red Hat Enterprise Linux 9.5 Kernel: 5.15 Compiler: gcc gcc (GCC) 11.5.0 20240719 (Red Hat 11.5.0-2) Ubuntu 22.04 Kernel: 5.15 Compiler: gcc gcc (Ubuntu 11.4.0-1ubuntu1~22.04) 11.4.0 Ubuntu 24.04 Kernel: 5.15 Compiler: gcc gcc (Ubuntu 13.3.0-6ubuntu2~24.04) 13.3.0 Windows Server 2022 Kernel: 10.0.20348.2031 Compiler: clang 15.0.7, gcc 14.1.0 (MinGW), and MSVC VS 19.39.33521 To view detailed results, visit: https://lab.dpdk.org/results/dashboard/patchsets/34453/ UNH-IOL DPDK Community Lab To manage your email subscriptions, visit: https://lab.dpdk.org/results/dashboard/preferences/subscriptions/