From mboxrd@z Thu Jan 1 00:00:00 1970 Return-Path: Received: from mails.dpdk.org (mails.dpdk.org [217.70.189.124]) by inbox.dpdk.org (Postfix) with ESMTP id C4BF248AA2 for ; Tue, 4 Nov 2025 11:47:23 +0100 (CET) Received: from mails.dpdk.org (localhost [127.0.0.1]) by mails.dpdk.org (Postfix) with ESMTP id BE04740285; Tue, 4 Nov 2025 11:47:23 +0100 (CET) Received: from mail-qk1-f226.google.com (mail-qk1-f226.google.com [209.85.222.226]) by mails.dpdk.org (Postfix) with ESMTP id BB6F740285 for ; Tue, 4 Nov 2025 11:47:22 +0100 (CET) Received: by mail-qk1-f226.google.com with SMTP id af79cd13be357-89ec7919a62so529281285a.2 for ; Tue, 04 Nov 2025 02:47:22 -0800 (PST) DKIM-Signature: v=1; a=rsa-sha256; c=relaxed/relaxed; d=iol.unh.edu; s=unh-iol; t=1762253242; x=1762858042; darn=dpdk.org; h=references:in-reply-to:cc:to:from:subject:message-id:date:from:to :cc:subject:date:message-id:reply-to; bh=4Wl2wQik4QD86iE/+Nb5iPLwyRr7gfIuHsuoJdbldE0=; b=YGqxDk9Rzt+Ym6+dFPB2HYHTZsGaDBi3C0xhgSf08wXKlMzS4LczcKKWOiceZomU12 SS/lWTT2au7Xv1DvavEI031LaUORVT93g3HqEi6OFKr8m9SpVLuxmUKbhCY99f2FWg3Y qAimd2dvntQe5LNQBepEVo7B9zm0Vqc6Cful4= X-Google-DKIM-Signature: v=1; a=rsa-sha256; c=relaxed/relaxed; d=1e100.net; s=20230601; t=1762253242; x=1762858042; h=references:in-reply-to:cc:to:from:subject:message-id:date :x-gm-message-state:from:to:cc:subject:date:message-id:reply-to; bh=4Wl2wQik4QD86iE/+Nb5iPLwyRr7gfIuHsuoJdbldE0=; b=LfTf0lgkDi1j9rDo0akxymWzFKzQxS7Y0+bViR2YioHMYSI633jholWvYxYj3cNTXk x+XAmqha7zKuepbF8nlQiNwrnNeYMnAir01f5/71473zmnIK0J+KOnRIU5iGuNQTlk8U fgxoChX1gdPSdVdOz/HysaUzcmU+cg2fLL9YoerfOR/PrbLjdsQ+FhMheGNIhgFB48UV mZolz6XPgkBLmQUYMlKccom2l6v9LUcmvE3xRX1ZQXrgZ/gUhlMpTl3giZKHr2q5Lk0e 4bWORBGLf7S98+3tTjCPGEvVZRcqqr3JwbIKm2u0iq5qKDslpovIWtj5oVZu1X/SeDwo gorg== X-Gm-Message-State: AOJu0YxoYkKBvn5zZWpwEXWTET5DZx7tBx9gSMnLbzYN0bFrLg5cT4oQ whaC1ZYIuwkzpkewC+RtS2QklfmVGQPIi0jUlbXT4StEHaYSQKUxhH/1RLeFYHqn9B0k67LLrQz ei/+6/V5WYMXExG6lZp6UdccfYl2PqkjFlzcopeFuRqMj X-Gm-Gg: ASbGncuPLknW2KXiYY6zkrNP4KMAg/7ktYCXaLWmZEoa0kBkBRoABdSL153H89bH4J7 dZQl/JlZRV5LJSr6KDzOOEmUUYsc2S+KoKnRdNIOuEKOozepc19b47CqSZVTuAMvdOX5nG2IFGn tfdSdUa7eUwR/f+8O4kNkDL5uk8bS58BZeR7TVoFjjanJ5gZQqvWyB5TqAQwEm8H/y9ntwzZsKZ XwbhhW467cuRw+z9/Kkl2gYWfXMpGyKwts3GBQTy/TVP71+p3N3VFrNawvexwKH+Fz+bBYkD+8R vG/rPMFSdR3w05CVJBjYAW1BB1JmEgCfSAKy3Us5LhsYiqlQzXTXlP6rGTwwlpaThxcNs7l0L/f cdo6lrhLHE4tx2UiU7RcAm8HefWu0S14= X-Google-Smtp-Source: AGHT+IH2ZDWWl8cjkDXDIG1+U7fcS7fMPgpeZ7I6NROM+xAtXTDH4eRJNaAhvKDAWEfyCvC5tvOAp2IsYBHb X-Received: by 2002:a05:620a:44d5:b0:89f:24b:36c7 with SMTP id af79cd13be357-8ab98fb6c0bmr1686302985a.6.1762253242084; Tue, 04 Nov 2025 02:47:22 -0800 (PST) Received: from postal.iol.unh.edu (postal.iol.unh.edu. [132.177.123.84]) by smtp-relay.gmail.com with ESMTPS id af79cd13be357-8b0f51d431asm21232785a.1.2025.11.04.02.47.22 (version=TLS1_2 cipher=ECDHE-ECDSA-AES128-GCM-SHA256 bits=128/128); Tue, 04 Nov 2025 02:47:22 -0800 (PST) X-Relaying-Domain: iol.unh.edu Date: Tue, 04 Nov 2025 02:47:22 -0800 (PST) Message-ID: <6909d9ba.050a0220.17ee1c.ba0cSMTPIN_ADDED_MISSING@mx.google.com> Received: from [172.21.0.10] (unknown [172.18.0.240]) by postal.iol.unh.edu (Postfix) with ESMTP id B07406051830; Tue, 4 Nov 2025 05:47:21 -0500 (EST) Subject: |SUCCESS| pw158410 [PATCH] [v2,1/1] dmadev: add domain_id field to a From: dpdklab@iol.unh.edu To: Test Report Cc: dpdk-test-reports@iol.unh.edu In-Reply-To: <20251104052146.2308361-1-vattunuru@marvell.com> References: <20251104052146.2308361-1-vattunuru@marvell.com> Content-Type: text/plain X-BeenThere: test-report@dpdk.org X-Mailman-Version: 2.1.29 Precedence: list List-Id: automatic DPDK test reports List-Unsubscribe: , List-Archive: List-Post: List-Help: List-Subscribe: , Errors-To: test-report-bounces@dpdk.org Test-Label: iol-compile-amd64-testing Test-Status: SUCCESS http://dpdk.org/patch/158410 _Testing PASS_ Submitter: Vamsi Krishna Date: Tuesday, November 04 2025 05:21:46 DPDK git baseline: Repo:dpdk Branch: master CommitID:8c4861d00aabcf54ef9d6f1df2a4cfb37c06f6c2 158410 --> testing pass Upstream job id: Windows-Compile-DPDK-Native#32096 Test environment and result as below: +-------------------------------+--------------------+------------------+-------------------+-------------------------+----------------------+ | Environment | dpdk_meson_compile | dpdk_compile_ovs | dpdk_msvc_compile | dpdk_llvm_clang_compile | dpdk_mingw64_compile | +===============================+====================+==================+===================+=========================+======================+ | FreeBSD 14.2 | PASS | SKIPPED | SKIPPED | SKIPPED | SKIPPED | +-------------------------------+--------------------+------------------+-------------------+-------------------------+----------------------+ | Ubuntu 20.04 | PASS | SKIPPED | SKIPPED | SKIPPED | SKIPPED | +-------------------------------+--------------------+------------------+-------------------+-------------------------+----------------------+ | CentOS Stream 9 | PASS | SKIPPED | SKIPPED | SKIPPED | SKIPPED | +-------------------------------+--------------------+------------------+-------------------+-------------------------+----------------------+ | CentOS Stream 10 | PASS | SKIPPED | SKIPPED | SKIPPED | SKIPPED | +-------------------------------+--------------------+------------------+-------------------+-------------------------+----------------------+ | Debian GNU/Linux 12 | PASS | SKIPPED | SKIPPED | SKIPPED | SKIPPED | +-------------------------------+--------------------+------------------+-------------------+-------------------------+----------------------+ | Fedora Linux 42 | PASS | PASS | SKIPPED | SKIPPED | SKIPPED | +-------------------------------+--------------------+------------------+-------------------+-------------------------+----------------------+ | openSUSE Leap 15.6 | PASS | SKIPPED | SKIPPED | SKIPPED | SKIPPED | +-------------------------------+--------------------+------------------+-------------------+-------------------------+----------------------+ | Red Hat Enterprise Linux 8.10 | PASS | SKIPPED | SKIPPED | SKIPPED | SKIPPED | +-------------------------------+--------------------+------------------+-------------------+-------------------------+----------------------+ | Red Hat Enterprise Linux 9.5 | PASS | SKIPPED | SKIPPED | SKIPPED | SKIPPED | +-------------------------------+--------------------+------------------+-------------------+-------------------------+----------------------+ | Ubuntu 22.04 | PASS | SKIPPED | SKIPPED | SKIPPED | SKIPPED | +-------------------------------+--------------------+------------------+-------------------+-------------------------+----------------------+ | Ubuntu 24.04 | PASS | PASS | SKIPPED | SKIPPED | SKIPPED | +-------------------------------+--------------------+------------------+-------------------+-------------------------+----------------------+ | Alpine Linux 3.22.0 | PASS | SKIPPED | SKIPPED | SKIPPED | SKIPPED | +-------------------------------+--------------------+------------------+-------------------+-------------------------+----------------------+ | Windows Server 2022 | SKIPPED | SKIPPED | PASS | PASS | PASS | +-------------------------------+--------------------+------------------+-------------------+-------------------------+----------------------+ FreeBSD 14.2 Kernel: 14.2-RELEASE Compiler: clang 18.1.6 Ubuntu 20.04 Kernel: 4.19 Compiler: gcc gcc (Ubuntu 9.4.0-1ubuntu1~20.04.2) 9.4.0 CentOS Stream 9 Kernel: 5.15 Compiler: gcc gcc (GCC) 11.5.0 20240719 (Red Hat 11.5.0-11) CentOS Stream 10 Kernel: 5.15 Compiler: gcc gcc (GCC) 14.2.1 20250110 (Red Hat 14.2.1-8) Debian GNU/Linux 12 Kernel: 5.15 Compiler: gcc gcc (Debian 12.2.0-14+deb12u1) 12.2.0 Fedora Linux 42 Kernel: 5.15 Compiler: clang gcc (GCC) 15.2.1 20250808 (Red Hat 15.2.1-1) openSUSE Leap 15.6 Kernel: 5.15 Compiler: gcc gcc (SUSE Linux) 7.5.0 Red Hat Enterprise Linux 8.10 Kernel: 5.15 Compiler: gcc gcc (GCC) 8.5.0 20210514 (Red Hat 8.5.0-22) Red Hat Enterprise Linux 9.5 Kernel: 5.15 Compiler: gcc gcc (GCC) 11.5.0 20240719 (Red Hat 11.5.0-2) Ubuntu 22.04 Kernel: 5.15 Compiler: gcc gcc (Ubuntu 11.4.0-1ubuntu1~22.04) 11.4.0 Ubuntu 24.04 Kernel: 5.15 Compiler: gcc gcc (Ubuntu 13.3.0-6ubuntu2~24.04) 13.3.0 Alpine Linux 3.22.0 Kernel: 5.15 Compiler: gcc gcc (Alpine 14.2.0) 14.2.0 Windows Server 2022 Kernel: 10.0.20348.2031 Compiler: clang 15.0.7, gcc 14.1.0 (MinGW), and MSVC VS 19.39.33521 To view detailed results, visit: https://lab.dpdk.org/results/dashboard/patchsets/34453/ UNH-IOL DPDK Community Lab To manage your email subscriptions, visit: https://lab.dpdk.org/results/dashboard/preferences/subscriptions/