From mboxrd@z Thu Jan 1 00:00:00 1970 Return-Path: Received: from mails.dpdk.org (mails.dpdk.org [217.70.189.124]) by inbox.dpdk.org (Postfix) with ESMTP id 2CE6048AA2 for ; Tue, 4 Nov 2025 11:51:10 +0100 (CET) Received: from mails.dpdk.org (localhost [127.0.0.1]) by mails.dpdk.org (Postfix) with ESMTP id 2628E40285; Tue, 4 Nov 2025 11:51:10 +0100 (CET) Received: from mail-pl1-f225.google.com (mail-pl1-f225.google.com [209.85.214.225]) by mails.dpdk.org (Postfix) with ESMTP id 07A2740285 for ; Tue, 4 Nov 2025 11:51:09 +0100 (CET) Received: by mail-pl1-f225.google.com with SMTP id d9443c01a7336-29555415c5fso38684155ad.1 for ; Tue, 04 Nov 2025 02:51:08 -0800 (PST) DKIM-Signature: v=1; a=rsa-sha256; c=relaxed/relaxed; d=iol.unh.edu; s=unh-iol; t=1762253468; x=1762858268; darn=dpdk.org; h=cc:to:from:subject:message-id:date:from:to:cc:subject:date :message-id:reply-to; bh=DL5FElkGZ2QSJr55A7Zua1gZ8IgTO7OtL368tNa9VjQ=; b=iCmbH6NCvMoGt3LeyPJsKGP4nR5sGzXDODLG20IqL885brBu45GEWhipC0Hx1mWV2Q R1UxgMoAGgZUob7iJiWhJ4963hmYw6ICky41biyEG3VofwXsHshRdKeq9mmYMuQVXXkk TaStzqNcE3mw8SyLFRwqfp7sKBq2wZyGR5oh8= X-Google-DKIM-Signature: v=1; a=rsa-sha256; c=relaxed/relaxed; d=1e100.net; s=20230601; t=1762253468; x=1762858268; h=cc:to:from:subject:message-id:date:x-gm-message-state:from:to:cc :subject:date:message-id:reply-to; bh=DL5FElkGZ2QSJr55A7Zua1gZ8IgTO7OtL368tNa9VjQ=; b=vRsgtieadjYKZMtC4C6Ca6TKE/Mdbyh9UH6HkJrHw8+5hE8ATsCOmEJ0jF/RIyyCIa 2mpg0Atpq5mjvz43kqR3/b/QQ+PD5zqHLPz5Acyl6Co9N5s+C37xVaqCxdt4/O148OGa dNRP5taa6p6M+4rNDRlbhMSfCmphRWMepx/d3HtVG0tkSe/tFzLplHeVtIcEvBk+1ZWa 7IgS8j/haCjH6lLwqUs9psJDCaqNnD6fhJpdL94X3uZ1ffSSrveBurR+7cRspMOi20Bu GZH9udTgdhMWaLxKbGBBvYKI6osZEnvDwPI0QDkVKKehSDSd2Ty3NUf9ZhKmuwdJFuYt NMng== X-Gm-Message-State: AOJu0Ywstz9ixmzRvfS7ztp9BNloyf+TxQ3V5teiI19KqM3GDIAyIqiw WtOyexB0qMtue4MpgwiBAefu5rKFbO4I9Pt9URfbZLfmx33gK6eHZegwmWSpaJvXDH3PbKD7a+B IE+iM5+9pZgHoyhTMAHtd1OslxKjJJ1V8SVmdXOH+a82r+QtvsqPo X-Gm-Gg: ASbGncvn5qvaSDMwb0uH4t7Mph+/TnOuYcN7yLQPn4wbQnBmAWbH8BSr7GYhwri7gAb BSSOTNjVtP/JKaFurM6ztPP+lSzm/iGmcGum0ctN7GESu1u6nWvQY1x3VZIs4wMRMOGIbEaCZZb i102ISR/q9WLZqQaVouHA8oKCqxUk/uJmcDkOGplaTa0h2tIm/w4az9j1EbY3/uUvtNGQDEhAzT QAGWZE1FpKv8D/q36qhO9nDGuumDqLzPqV6bMIoPZSMRlWfOpMYrLrI/fedwiivcFCO/h3W8dI6 pKSHs6oPsejZfyJYDLMFohetwt5Bdy3AodyIdvRmFMRe2RBtYlae9ewLO+/kZZK4xudxJe7yKOw 4QGvPRYFH X-Google-Smtp-Source: AGHT+IFKgm0y71P/JV0nBqikd0z1SeWHUIVm5yQpGNYfz8RVF0sAlYSDIYoZsljqWTDk/iKuvzVDlkv3Znq1 X-Received: by 2002:a17:903:186:b0:295:571b:64cd with SMTP id d9443c01a7336-295571bacdcmr135997085ad.52.1762253468250; Tue, 04 Nov 2025 02:51:08 -0800 (PST) Received: from postal.iol.unh.edu (postal.iol.unh.edu. [2606:4100:3880:1234::84]) by smtp-relay.gmail.com with ESMTPS id d9443c01a7336-29601a1a32dsm2074785ad.38.2025.11.04.02.51.08 (version=TLS1_2 cipher=ECDHE-ECDSA-AES128-GCM-SHA256 bits=128/128); Tue, 04 Nov 2025 02:51:08 -0800 (PST) X-Relaying-Domain: iol.unh.edu Date: Tue, 04 Nov 2025 02:51:08 -0800 (PST) Message-ID: <6909da9c.170a0220.37f916.b710SMTPIN_ADDED_MISSING@mx.google.com> Received: from [172.21.0.19] (unknown [172.18.0.240]) by postal.iol.unh.edu (Postfix) with ESMTP id 64E226051830; Tue, 4 Nov 2025 05:51:07 -0500 (EST) Subject: |SUCCESS| [GIT MASTER] 9784db2c5af1eecd02fc21132b59b5b266039b87 From: dpdklab@iol.unh.edu To: Test Report Cc: dpdk-test-reports@iol.unh.edu, Xueming Li , Christian Ehrhardt , Kevin Traynor , Luca Boccassi Content-Type: text/plain X-BeenThere: test-report@dpdk.org X-Mailman-Version: 2.1.29 Precedence: list List-Id: automatic DPDK test reports List-Unsubscribe: , List-Archive: List-Post: List-Help: List-Subscribe: , Errors-To: test-report-bounces@dpdk.org _Testing PASS_ Branch: tags/v22.11 9784db2c5af1eecd02fc21132b59b5b266039b87 --> testing pass Upstream job id: Generic-DPDK-Compile-Meson#440427 Test environment and result as below: +------------------------------+--------------------+ | Environment | dpdk_meson_compile | +==============================+====================+ | Ubuntu 20.04 | PASS | +------------------------------+--------------------+ | Red Hat Enterprise Linux 9.5 | PASS | +------------------------------+--------------------+ | Fedora Linux 42 | PASS | +------------------------------+--------------------+ | Ubuntu 22.04 | PASS | +------------------------------+--------------------+ | Debian GNU/Linux 12 | PASS | +------------------------------+--------------------+ | Ubuntu 24.04 | PASS | +------------------------------+--------------------+ | CentOS Stream 9 | PASS | +------------------------------+--------------------+ | CentOS Stream 10 | PASS | +------------------------------+--------------------+ Ubuntu 20.04 Kernel: 5.15 Compiler: aarch64-linux-gnu-gcc gcc (Ubuntu 9.4.0-1ubuntu1~20.04.2) 9.4.0 Red Hat Enterprise Linux 9.5 Kernel: 5.4 Compiler: gcc gcc (GCC) 11.5.0 20240719 (Red Hat 11.5.0-2) Fedora Linux 42 Kernel: 5.4 Compiler: gcc gcc (GCC) 15.2.1 20250808 (Red Hat 15.2.1-1) Ubuntu 22.04 Kernel: 5.4 Compiler: gcc gcc (Ubuntu 11.4.0-1ubuntu1~22.04) 11.4.0 Debian GNU/Linux 12 Kernel: 5.4 Compiler: gcc gcc (Debian 12.2.0-14+deb12u1) 12.2.0 Ubuntu 24.04 Kernel: 5.4 Compiler: gcc gcc (Ubuntu 13.3.0-6ubuntu2~24.04) 13.3.0 CentOS Stream 9 Kernel: 5.4 Compiler: gcc gcc (GCC) 11.5.0 20240719 (Red Hat 11.5.0-11) CentOS Stream 10 Kernel: 5.4 Compiler: gcc gcc (GCC) 14.2.1 20250110 (Red Hat 14.2.1-8) To view detailed results, visit: https://lab.dpdk.org/results/dashboard/tarballs/35442/ UNH-IOL DPDK Community Lab To manage your email subscriptions, visit: https://lab.dpdk.org/results/dashboard/preferences/subscriptions/