From mboxrd@z Thu Jan 1 00:00:00 1970 Return-Path: Received: from mails.dpdk.org (mails.dpdk.org [217.70.189.124]) by inbox.dpdk.org (Postfix) with ESMTP id 5AC3848AA2 for ; Tue, 4 Nov 2025 11:52:36 +0100 (CET) Received: from mails.dpdk.org (localhost [127.0.0.1]) by mails.dpdk.org (Postfix) with ESMTP id 5416240285; Tue, 4 Nov 2025 11:52:36 +0100 (CET) Received: from mail-pj1-f100.google.com (mail-pj1-f100.google.com [209.85.216.100]) by mails.dpdk.org (Postfix) with ESMTP id D21C540285 for ; Tue, 4 Nov 2025 11:52:34 +0100 (CET) Received: by mail-pj1-f100.google.com with SMTP id 98e67ed59e1d1-34101107cc8so2160526a91.0 for ; Tue, 04 Nov 2025 02:52:34 -0800 (PST) DKIM-Signature: v=1; a=rsa-sha256; c=relaxed/relaxed; d=iol.unh.edu; s=unh-iol; t=1762253554; x=1762858354; darn=dpdk.org; h=cc:to:from:subject:message-id:date:from:to:cc:subject:date :message-id:reply-to; bh=VCuVmhbvhPJfKAT+tPInbDKKp2yxwOrU0zShP4hY7Jw=; b=ZJtQkzB7u5dJw2SFFpd9ydtxedx1jkK+tvg0tF7O6UyBlyIIsbaCtuaTjkvm48UsAq umWJgMRSakmL6NpB4U4tNRDvO5VT9JucYkHvDA+JsAyp5H1o7CJIla49oyobCsxEoTBN oJhUoQfQcWVGJ8nkm8oXP5OrushnKMYcuT+I4= X-Google-DKIM-Signature: v=1; a=rsa-sha256; c=relaxed/relaxed; d=1e100.net; s=20230601; t=1762253554; x=1762858354; h=cc:to:from:subject:message-id:date:x-gm-message-state:from:to:cc :subject:date:message-id:reply-to; bh=VCuVmhbvhPJfKAT+tPInbDKKp2yxwOrU0zShP4hY7Jw=; b=Wsy3o3vmJvBW4o83AZownvaj9sLb3gxWZjws+6vpya2Q1XK7eGXBDI1pT2aFak6QnH +PjZOJFXBTeORJjdRwSGioPn5ewRqmP9Q7Z1419kH0FYHrV0fsqi372Mrt9vMZY3X2Qb DfTdU8aP8fqwS9QEeF7JWzzKawbSTjhlifJyKVjiIWgKVRL3WMZsTUTwo4vnBHz17+U5 IFmJl31FOgt8WbdGPmDBYzcJjbzMAXpDohGEm8RnnKmRNG/cdnrNhkbfJc7SSkDWADst ou68vv8tSyLtJKDrgGuSFGA83TWnD4faPXAegzJ7J14/btonRAKvLpzYciac92bly1ZZ 7tuQ== X-Gm-Message-State: AOJu0YxiU7dTpNfebZn/+vTWmHXL2kfQEElAee9YpuviG2nR3dwhaKHe sjY/yxy7x7j0AiEBDfdZdcEB/HBpBLsN0kivCFqKWrE7CtcLax0m8GLtMbkzCH1dQzBHDWznXbg 6BtvX7ZnIdruYEiGxyPQGthxILkNLPcUJ58Xx X-Gm-Gg: ASbGncutNNI0sPPQFKh7jtewp1J3BqrO1QcPNIvQPjl3U42HsWRIpWisa7b88GI0eaO 5etOZI+VsEBmjDWqVTiPsBtxh2RWiJTfXhtcV19AM0Auch5g5eSHydc8xw2ZJQfsb0XB3wgGY2y 0EOg1rhLZdgtKInBBMBC+XsTXN3M7xgx2PCby0dM+53Ur1zS3bcm6lEb3EmfREuUAPK6yCDJBeg qqW6Cl3swX0FxAm0AJCe6AMUvwiqy7eAne3XFBCOlkTzjEbhVvR5dO9ycRHhX4eG873EYkzKlhk oDfdLvI07rqOLg9eF2TYsjrfy0djof7JcBQ1oGDGpNiT+YJ5tNXyzUDRlYcdvCiPvC4fw6orFRv VmDPRmYg59v43bQJRwP9DVOBapyNvoS4= X-Google-Smtp-Source: AGHT+IGMs8BWuSx42stWFAMEyC8/6l58QwAeooBtiyLB7uv0cdZdZjwWMRGZf9Ci1H//fLqHiuIi8wCEfeXe X-Received: by 2002:a17:90b:2b83:b0:32e:70f5:6988 with SMTP id 98e67ed59e1d1-3408309b5d0mr19905193a91.32.1762253553988; Tue, 04 Nov 2025 02:52:33 -0800 (PST) Received: from postal.iol.unh.edu (postal.iol.unh.edu. [132.177.123.84]) by smtp-relay.gmail.com with ESMTPS id 41be03b00d2f7-ba1f493da44sm130364a12.11.2025.11.04.02.52.33 (version=TLS1_2 cipher=ECDHE-ECDSA-AES128-GCM-SHA256 bits=128/128); Tue, 04 Nov 2025 02:52:33 -0800 (PST) X-Relaying-Domain: iol.unh.edu Date: Tue, 04 Nov 2025 02:52:33 -0800 (PST) Message-ID: <6909daf1.050a0220.33d82e.7417SMTPIN_ADDED_MISSING@mx.google.com> Received: from [172.21.0.8] (unknown [172.18.0.240]) by postal.iol.unh.edu (Postfix) with ESMTP id 346856051830; Tue, 4 Nov 2025 05:52:33 -0500 (EST) Subject: |SUCCESS| [GIT MASTER] 9784db2c5af1eecd02fc21132b59b5b266039b87 From: dpdklab@iol.unh.edu To: Test Report Cc: dpdk-test-reports@iol.unh.edu, Xueming Li , Christian Ehrhardt , Kevin Traynor , Luca Boccassi Content-Type: text/plain X-BeenThere: test-report@dpdk.org X-Mailman-Version: 2.1.29 Precedence: list List-Id: automatic DPDK test reports List-Unsubscribe: , List-Archive: List-Post: List-Help: List-Subscribe: , Errors-To: test-report-bounces@dpdk.org _Testing PASS_ Branch: tags/v22.11 9784db2c5af1eecd02fc21132b59b5b266039b87 --> testing pass Upstream job id: Generic-DPDK-Compile-Meson#440423 Test environment and result as below: +------------------------------+--------------------+ | Environment | dpdk_meson_compile | +==============================+====================+ | Ubuntu 20.04 | PASS | +------------------------------+--------------------+ | Red Hat Enterprise Linux 9.5 | PASS | +------------------------------+--------------------+ | Fedora Linux 42 | PASS | +------------------------------+--------------------+ | Ubuntu 22.04 | PASS | +------------------------------+--------------------+ | Debian GNU/Linux 12 | PASS | +------------------------------+--------------------+ | Ubuntu 24.04 | PASS | +------------------------------+--------------------+ | CentOS Stream 9 | PASS | +------------------------------+--------------------+ | CentOS Stream 10 | PASS | +------------------------------+--------------------+ Ubuntu 20.04 Kernel: 5.15 Compiler: aarch64-linux-gnu-gcc gcc (Ubuntu 9.4.0-1ubuntu1~20.04.2) 9.4.0 Red Hat Enterprise Linux 9.5 Kernel: 5.4 Compiler: gcc gcc (GCC) 11.5.0 20240719 (Red Hat 11.5.0-2) Fedora Linux 42 Kernel: 5.4 Compiler: gcc gcc (GCC) 15.2.1 20250808 (Red Hat 15.2.1-1) Ubuntu 22.04 Kernel: 5.4 Compiler: gcc gcc (Ubuntu 11.4.0-1ubuntu1~22.04) 11.4.0 Debian GNU/Linux 12 Kernel: 5.4 Compiler: gcc gcc (Debian 12.2.0-14+deb12u1) 12.2.0 Ubuntu 24.04 Kernel: 5.4 Compiler: gcc gcc (Ubuntu 13.3.0-6ubuntu2~24.04) 13.3.0 CentOS Stream 9 Kernel: 5.4 Compiler: gcc gcc (GCC) 11.5.0 20240719 (Red Hat 11.5.0-11) CentOS Stream 10 Kernel: 5.4 Compiler: gcc gcc (GCC) 14.2.1 20250110 (Red Hat 14.2.1-8) To view detailed results, visit: https://lab.dpdk.org/results/dashboard/tarballs/35442/ UNH-IOL DPDK Community Lab To manage your email subscriptions, visit: https://lab.dpdk.org/results/dashboard/preferences/subscriptions/