From mboxrd@z Thu Jan 1 00:00:00 1970 Return-Path: Received: from mails.dpdk.org (mails.dpdk.org [217.70.189.124]) by inbox.dpdk.org (Postfix) with ESMTP id 7E50948AA2 for ; Tue, 4 Nov 2025 11:53:05 +0100 (CET) Received: from mails.dpdk.org (localhost [127.0.0.1]) by mails.dpdk.org (Postfix) with ESMTP id 7948940285; Tue, 4 Nov 2025 11:53:05 +0100 (CET) Received: from mail-pl1-f226.google.com (mail-pl1-f226.google.com [209.85.214.226]) by mails.dpdk.org (Postfix) with ESMTP id AC5B940285 for ; Tue, 4 Nov 2025 11:53:04 +0100 (CET) Received: by mail-pl1-f226.google.com with SMTP id d9443c01a7336-29516a36affso39876075ad.3 for ; Tue, 04 Nov 2025 02:53:04 -0800 (PST) DKIM-Signature: v=1; a=rsa-sha256; c=relaxed/relaxed; d=iol.unh.edu; s=unh-iol; t=1762253584; x=1762858384; darn=dpdk.org; h=cc:to:from:subject:message-id:date:from:to:cc:subject:date :message-id:reply-to; bh=6B/EQZYxa4iCt/RjzfA4WKy3lAdZpaqkEU+GK0mV6Wc=; b=OSULo+r1X1Ic2ynYlE694yZqt5/6ZhZ/iyjO4DzdgTZInQmC/hf/UfoRtZ5Eg67OUi TP42OHt7mtqG3hs1v10zYZeInBoup2BvMCw0jGhbzoJymDmIFSS1MsMKxUH2Az6R++Kz V1waMpsCx90fB9yYOEXLs+gFT1dVyJHItkWxA= X-Google-DKIM-Signature: v=1; a=rsa-sha256; c=relaxed/relaxed; d=1e100.net; s=20230601; t=1762253584; x=1762858384; h=cc:to:from:subject:message-id:date:x-gm-message-state:from:to:cc :subject:date:message-id:reply-to; bh=6B/EQZYxa4iCt/RjzfA4WKy3lAdZpaqkEU+GK0mV6Wc=; b=OIdXsNg6sJbKRm8zJGFuM0zGHLNskMrJgw+oe4IqYtOEY+e8OSlA3NKvVrO06Zhb7N gu63MGrlDL6oDuHWs9JeeBPdShYRswqL7A92OxZ8PsWswsxy2DRPlLHQYXJgD32+UAZc U2UCCMjdKEBbedcZzuHAoRQE2IKv45i9r869h5ePDUkAlF09nrVOlYYxrY6RVPEMU29Q NZm5mLjaNq/C2HqLGvCVP2iySjbCbUCp2KuZwuQF9CSs/BZt9fwGEj27oNx/Lakj9qIY pa65dRFtkMOsnZUT9ZPH8Kpr6ps3o9AqRR3RC8A9nOpp0vHoAxJt1iszG6GYp2zk2d57 FsFg== X-Gm-Message-State: AOJu0Yz7AFDSzhtcfvmo5dIcGeYKmETmE9w1I4ZmIK7XPIKygJZg8vAw r4T+6k+MzFCMFfeNpsUFN4CouM962540CK59s8/d/xpPf5N3TFLqjdkzw8YlSOndgWCDbb0fJ71 EU++TFUI5Z+RYFB+jRD4ooaM2t/AIqxwkf/KdPpwltZkg1Vf4WoWc X-Gm-Gg: ASbGncv7894cSFOdPRLR/mCEOwT5XxJZ0BCEN2XKFBO4dF2QQuQ/qgi+BjuuzKwYczi M7DHhvHgoUYYz064s4Mp2z4k+b7vtR+9jB4mppvsR4OzVVLZz3UMvCRCJW4W7zed6UN7+EVwCZX HdBG/zdfSGeoS7MgGDUsEyIbi9d2SGBCSkLdANx2nmU/lAuHBRAYRysVgcz43qovRvd5Q7y1JOv Ct+kJncMX7MjTdoiy99Cy5peQ64fMtSZWn+FOX3YVtwoDazhCuMIpnNBQgchaxJlyPNi8cjG90J EWUjwlBwVcnmI0jy22nfLEQUJywCNs4HvBMS2luCqTgP8aEAzPbpRylQxLkSY01PGo0nh89JU01 O8vn8lfEF X-Google-Smtp-Source: AGHT+IEI2ZdUQM0Msa5FMCQhK8vWkpP3dvdYZG+1UurCsbp1KfIpyYBQw1AfHHoW/Kz5KWO/wh8T0fvQyTEj X-Received: by 2002:a17:903:2f8f:b0:252:50ad:4e6f with SMTP id d9443c01a7336-2951a4b6405mr227711205ad.54.1762253583940; Tue, 04 Nov 2025 02:53:03 -0800 (PST) Received: from postal.iol.unh.edu (postal.iol.unh.edu. [2606:4100:3880:1234::84]) by smtp-relay.gmail.com with ESMTPS id d9443c01a7336-29601a179bdsm2021875ad.36.2025.11.04.02.53.03 (version=TLS1_2 cipher=ECDHE-ECDSA-AES128-GCM-SHA256 bits=128/128); Tue, 04 Nov 2025 02:53:03 -0800 (PST) X-Relaying-Domain: iol.unh.edu Date: Tue, 04 Nov 2025 02:53:03 -0800 (PST) Message-ID: <6909db0f.170a0220.2ecbbf.b178SMTPIN_ADDED_MISSING@mx.google.com> Received: from [172.21.0.2] (unknown [172.18.0.240]) by postal.iol.unh.edu (Postfix) with ESMTP id 3510A6051830; Tue, 4 Nov 2025 05:53:03 -0500 (EST) Subject: |SUCCESS| [GIT MASTER] 9784db2c5af1eecd02fc21132b59b5b266039b87 From: dpdklab@iol.unh.edu To: Test Report Cc: dpdk-test-reports@iol.unh.edu, Xueming Li , Christian Ehrhardt , Kevin Traynor , Luca Boccassi Content-Type: text/plain X-BeenThere: test-report@dpdk.org X-Mailman-Version: 2.1.29 Precedence: list List-Id: automatic DPDK test reports List-Unsubscribe: , List-Archive: List-Post: List-Help: List-Subscribe: , Errors-To: test-report-bounces@dpdk.org _Testing PASS_ Branch: tags/v22.11 9784db2c5af1eecd02fc21132b59b5b266039b87 --> testing pass Upstream job id: Generic-DPDK-Compile-Meson#440428 Test environment and result as below: +------------------------------+--------------------+ | Environment | dpdk_meson_compile | +==============================+====================+ | Ubuntu 20.04 | PASS | +------------------------------+--------------------+ | Red Hat Enterprise Linux 9.5 | PASS | +------------------------------+--------------------+ | Fedora Linux 42 | PASS | +------------------------------+--------------------+ | Ubuntu 22.04 | PASS | +------------------------------+--------------------+ | Debian GNU/Linux 12 | PASS | +------------------------------+--------------------+ | Ubuntu 24.04 | PASS | +------------------------------+--------------------+ | CentOS Stream 9 | PASS | +------------------------------+--------------------+ | CentOS Stream 10 | PASS | +------------------------------+--------------------+ Ubuntu 20.04 Kernel: 5.15 Compiler: aarch64-linux-gnu-gcc gcc (Ubuntu 9.4.0-1ubuntu1~20.04.2) 9.4.0 Red Hat Enterprise Linux 9.5 Kernel: 5.4 Compiler: gcc gcc (GCC) 11.5.0 20240719 (Red Hat 11.5.0-2) Fedora Linux 42 Kernel: 5.4 Compiler: gcc gcc (GCC) 15.2.1 20250808 (Red Hat 15.2.1-1) Ubuntu 22.04 Kernel: 5.4 Compiler: gcc gcc (Ubuntu 11.4.0-1ubuntu1~22.04) 11.4.0 Debian GNU/Linux 12 Kernel: 5.4 Compiler: gcc gcc (Debian 12.2.0-14+deb12u1) 12.2.0 Ubuntu 24.04 Kernel: 5.4 Compiler: gcc gcc (Ubuntu 13.3.0-6ubuntu2~24.04) 13.3.0 CentOS Stream 9 Kernel: 5.4 Compiler: gcc gcc (GCC) 11.5.0 20240719 (Red Hat 11.5.0-11) CentOS Stream 10 Kernel: 5.4 Compiler: gcc gcc (GCC) 14.2.1 20250110 (Red Hat 14.2.1-8) To view detailed results, visit: https://lab.dpdk.org/results/dashboard/tarballs/35442/ UNH-IOL DPDK Community Lab To manage your email subscriptions, visit: https://lab.dpdk.org/results/dashboard/preferences/subscriptions/