From mboxrd@z Thu Jan 1 00:00:00 1970 Return-Path: Received: from mails.dpdk.org (mails.dpdk.org [217.70.189.124]) by inbox.dpdk.org (Postfix) with ESMTP id C417948AA2 for ; Tue, 4 Nov 2025 11:55:00 +0100 (CET) Received: from mails.dpdk.org (localhost [127.0.0.1]) by mails.dpdk.org (Postfix) with ESMTP id A5D9940285; Tue, 4 Nov 2025 11:55:00 +0100 (CET) Received: from mail-pl1-f228.google.com (mail-pl1-f228.google.com [209.85.214.228]) by mails.dpdk.org (Postfix) with ESMTP id 2483640285 for ; Tue, 4 Nov 2025 11:54:59 +0100 (CET) Received: by mail-pl1-f228.google.com with SMTP id d9443c01a7336-29568d93e87so22654595ad.2 for ; Tue, 04 Nov 2025 02:54:59 -0800 (PST) DKIM-Signature: v=1; a=rsa-sha256; c=relaxed/relaxed; d=iol.unh.edu; s=unh-iol; t=1762253698; x=1762858498; darn=dpdk.org; h=cc:to:from:subject:message-id:date:from:to:cc:subject:date :message-id:reply-to; bh=kKjDVW6AfjYoS+Wd/NRpy8F7DQpROd9WBf9pajylxVo=; b=KOyHXqdErpGZ9mjiQN2Y3hunYHjmuagmBQ4W+U5Lw8LdA9hck5sbjqGnYYljLWROG/ q1k8RrZY/cV4zT32z8ugtw14jRPGuQQ6mP6O6nwn32NPpccL7qDpgZ0FYYsxvDtHHN3X VvTQ3b5NKXUvqR7AjItdrh6Y0Sa4l7+3Sj5Cw= X-Google-DKIM-Signature: v=1; a=rsa-sha256; c=relaxed/relaxed; d=1e100.net; s=20230601; t=1762253698; x=1762858498; h=cc:to:from:subject:message-id:date:x-gm-message-state:from:to:cc :subject:date:message-id:reply-to; bh=kKjDVW6AfjYoS+Wd/NRpy8F7DQpROd9WBf9pajylxVo=; b=jyzb2wo12rpnBHQF+beobpLenL/H04l9OOntOHurYkCgA+3up2NRo7ABgknD1nSMhO 7zsgy2kP59F88CdVaSIS1375bc2XEPJiDpRoJKPRlNhLOA11/Nr4ch1ldKILqmdfShbW DWIkUmj5tvoLzPR7al/9b1prF8RMMBF/teZL0/FTvGGrcq9ebEqg6y07tn4JZ5+LqpRu xMoRAs1yJeez1wj5/svEzAVaIyzUcB6FyFEtMnRG2l8U7XrFQ8VFzhCyWH2mT0+vrMRT TEpqg57ABPiIi0M8cskHC7OgQSX/d0URKTDUnGdFatqhUUQ2+KkCmqfVyhLN8URex7RZ GUZg== X-Gm-Message-State: AOJu0YzjPNn9WRGPsrJH1/xn5tQT6VegfLD66nSGjYxCp7Iq5bC0fRIa lAWPK4IyUzo63io9pYoLSHOByhoMRFF+SR5WpIDjXIfnhwqbHRLuGzmeuQSdq3+VJkVb71pKMiH VoQcItnb06Otb9j9mFR4i5m4UeAEP6HgYcW+j X-Gm-Gg: ASbGncsJT0a5kQFqQAMqp0mZidEjog/6Jbbpu0TcUZospoWP+sxsBaKKsflBfiyFVaF JvfTN8uUG5ZQqREob3j/SmqagYhnKrqQvRnCi7EBr9rHLZhQWZwKVNdZPGdQzGvjzviyrFTo4lv uSm8DeOWUPR/KNItL3sfpIjq/xhuYcfE1bJqSR15cdED0aRFufzIWJNOSkpPRQFce5ClJogZ70P Pk1z85lQYuPw9LHeMNNIM2pMS7PMzehJJfOOqlqf5edIJB//QfZI/l/b18/jvMnqJvATqA8Izrl jX7p8SRobZSFv9ntprRBSLH/I6aSbhu8k7P55BzQTs37YiE1WoBEmOXzHJlstVuid47/YaB1hDt tvIYp2VNeGygHEA/MhKDtigXSV7gC/rg= X-Google-Smtp-Source: AGHT+IEWjQS8ut9qXnKcoX+Xwgfl3YzBKjcG8VcHgyAq3Yb6mexw968AGFItRkGh/9Xo6O7JN1pHEE2XbDzD X-Received: by 2002:a17:902:da87:b0:294:ccc6:cd30 with SMTP id d9443c01a7336-2951a3851a6mr189783425ad.17.1762253698285; Tue, 04 Nov 2025 02:54:58 -0800 (PST) Received: from postal.iol.unh.edu (postal.iol.unh.edu. [132.177.123.84]) by smtp-relay.gmail.com with ESMTPS id d9443c01a7336-29601a7328csm1847325ad.66.2025.11.04.02.54.58 (version=TLS1_2 cipher=ECDHE-ECDSA-AES128-GCM-SHA256 bits=128/128); Tue, 04 Nov 2025 02:54:58 -0800 (PST) X-Relaying-Domain: iol.unh.edu Date: Tue, 04 Nov 2025 02:54:58 -0800 (PST) Message-ID: <6909db82.170a0220.36e2c4.9eadSMTPIN_ADDED_MISSING@mx.google.com> Received: from [172.21.0.15] (unknown [172.18.0.240]) by postal.iol.unh.edu (Postfix) with ESMTP id B518F6051830; Tue, 4 Nov 2025 05:54:57 -0500 (EST) Subject: |SUCCESS| [GIT MASTER] 9784db2c5af1eecd02fc21132b59b5b266039b87 From: dpdklab@iol.unh.edu To: Test Report Cc: dpdk-test-reports@iol.unh.edu, Xueming Li , Christian Ehrhardt , Kevin Traynor , Luca Boccassi Content-Type: text/plain X-BeenThere: test-report@dpdk.org X-Mailman-Version: 2.1.29 Precedence: list List-Id: automatic DPDK test reports List-Unsubscribe: , List-Archive: List-Post: List-Help: List-Subscribe: , Errors-To: test-report-bounces@dpdk.org _Testing PASS_ Branch: tags/v22.11 9784db2c5af1eecd02fc21132b59b5b266039b87 --> testing pass Upstream job id: Generic-DPDK-Compile-Meson#440425 Test environment and result as below: +------------------------------+--------------------+ | Environment | dpdk_meson_compile | +==============================+====================+ | Ubuntu 20.04 | PASS | +------------------------------+--------------------+ | Red Hat Enterprise Linux 9.5 | PASS | +------------------------------+--------------------+ | Fedora Linux 42 | PASS | +------------------------------+--------------------+ | Ubuntu 22.04 | PASS | +------------------------------+--------------------+ | Debian GNU/Linux 12 | PASS | +------------------------------+--------------------+ | Ubuntu 24.04 | PASS | +------------------------------+--------------------+ | CentOS Stream 9 | PASS | +------------------------------+--------------------+ | CentOS Stream 10 | PASS | +------------------------------+--------------------+ Ubuntu 20.04 Kernel: 5.15 Compiler: aarch64-linux-gnu-gcc gcc (Ubuntu 9.4.0-1ubuntu1~20.04.2) 9.4.0 Red Hat Enterprise Linux 9.5 Kernel: 5.4 Compiler: gcc gcc (GCC) 11.5.0 20240719 (Red Hat 11.5.0-2) Fedora Linux 42 Kernel: 5.4 Compiler: gcc gcc (GCC) 15.2.1 20250808 (Red Hat 15.2.1-1) Ubuntu 22.04 Kernel: 5.4 Compiler: gcc gcc (Ubuntu 11.4.0-1ubuntu1~22.04) 11.4.0 Debian GNU/Linux 12 Kernel: 5.4 Compiler: gcc gcc (Debian 12.2.0-14+deb12u1) 12.2.0 Ubuntu 24.04 Kernel: 5.4 Compiler: gcc gcc (Ubuntu 13.3.0-6ubuntu2~24.04) 13.3.0 CentOS Stream 9 Kernel: 5.4 Compiler: gcc gcc (GCC) 11.5.0 20240719 (Red Hat 11.5.0-11) CentOS Stream 10 Kernel: 5.4 Compiler: gcc gcc (GCC) 14.2.1 20250110 (Red Hat 14.2.1-8) To view detailed results, visit: https://lab.dpdk.org/results/dashboard/tarballs/35442/ UNH-IOL DPDK Community Lab To manage your email subscriptions, visit: https://lab.dpdk.org/results/dashboard/preferences/subscriptions/