From mboxrd@z Thu Jan 1 00:00:00 1970 Return-Path: Received: from mails.dpdk.org (mails.dpdk.org [217.70.189.124]) by inbox.dpdk.org (Postfix) with ESMTP id C813248AA2 for ; Tue, 4 Nov 2025 11:55:54 +0100 (CET) Received: from mails.dpdk.org (localhost [127.0.0.1]) by mails.dpdk.org (Postfix) with ESMTP id C360C40285; Tue, 4 Nov 2025 11:55:54 +0100 (CET) Received: from mail-ot1-f97.google.com (mail-ot1-f97.google.com [209.85.210.97]) by mails.dpdk.org (Postfix) with ESMTP id 869C340285 for ; Tue, 4 Nov 2025 11:55:53 +0100 (CET) Received: by mail-ot1-f97.google.com with SMTP id 46e09a7af769-7c5333e7033so1725610a34.2 for ; Tue, 04 Nov 2025 02:55:53 -0800 (PST) DKIM-Signature: v=1; a=rsa-sha256; c=relaxed/relaxed; d=iol.unh.edu; s=unh-iol; t=1762253753; x=1762858553; darn=dpdk.org; h=cc:to:from:subject:message-id:date:from:to:cc:subject:date :message-id:reply-to; bh=VxrMponPFwZb2mGL6WRwVzoh8kvOJLOaQcM6b2prXOo=; b=Y+wRtse9/4kFHAl3KunGTmUr++76HOebC0rM6uLJd3RCYHs6eQsVhC+ufNAeKPKlcP E9vYK9/yxn0h6+1AWCv9Jt4h/SXuqjtnl5EwJOYgsDdMEGgZaLSHZNr9ZjGAqAu/h9TY y6dHRF48itIE94zmX9AWrDkD5k9qlP/cHmFSM= X-Google-DKIM-Signature: v=1; a=rsa-sha256; c=relaxed/relaxed; d=1e100.net; s=20230601; t=1762253753; x=1762858553; h=cc:to:from:subject:message-id:date:x-gm-message-state:from:to:cc :subject:date:message-id:reply-to; bh=VxrMponPFwZb2mGL6WRwVzoh8kvOJLOaQcM6b2prXOo=; b=AOhxxHEbqAYvO3WfneGOv+LziTNXPhvdVDi3F6xtCshcQhIOcgyeECRcGI1Spl/My9 9f8YQHUHr+JKDvZXebZuPEZc1T+oQCApLxjGWDEOIVYQKp4jQk8JJrjl79/s1sCyLgp3 bzgvTxTC7lCuiE7yaY0IqCU55PKNxvgLFigYLfpEXxGgmgtF9AwklD8w5nRRDAe6QFBB LorqyTvl2u7fKkVUdLMG585GNlFDRox3phX8Feph5GADADCoAQKgWUSteQYGAwD2TsUN u12v5bT9sOYE38czDL8do2X9ps7+pCyUQBoyqkTJuvLT5mHoqgRqwZ/inGRzb7E3i/kX w0/Q== X-Gm-Message-State: AOJu0YxPEcZqRYX4Jl1Wkp6NaULaP3Q7mxhtXnfyrmiWSb1lllBub9gc G4ZgFWiwHrp1ZpYffiNr2mWQVqnApn+uUAVio3vbfAkVTVwYfZkDvsbo53pKaasQjF8Lc8wnpsN dvdlRDlHwJ6LltzYGNvs/8x4Ox0h7vxT2U4HSaB/q1gFj5Cq4/qKb X-Gm-Gg: ASbGncvw/gpcjzOW/rmJSDCOBFCbVsg+UiAwUr7NjhSYrXUv7LzPHdcZd22pbjoId7J UoL/iDf3CVoZIudoJLHICT0WLvyQx0BRqJOysIaDvOGfeyo3KzpQH/uVFUtNKFp+OmvnUJj0MBF GsEbcK3OlYjcnluSQh1FPLLls01HlNUS61eqDoxrQvw47HwOcLhBCuuZD3SV5GvMLgHnNG1BsfF gKaE8kQ/dkz8QMlgbCRS+JKTmeUyUX3h7dC8raUPHBsk1i8dlZ2C+9E9JXVi41zrLIrh1bcqwNn XPn36Z8Ixd78Is5YD/5B84AZlVoC7k6IdTeZeFn6FnkKbAFGkBTfVSpywFZdLD3E4pkBrpox7B4 ZFuVcQl0f X-Google-Smtp-Source: AGHT+IH3RzJH7zZHqmShUAtQ8LIVLORy04hrWjc/zwjd1ddDpmMyyozP50aCvXlqptwD42JzcC0HcTo6PJFM X-Received: by 2002:a05:6830:448f:b0:7b9:4dd5:1963 with SMTP id 46e09a7af769-7c6967b2d0bmr8166411a34.24.1762253752820; Tue, 04 Nov 2025 02:55:52 -0800 (PST) Received: from postal.iol.unh.edu (postal.iol.unh.edu. [2606:4100:3880:1234::84]) by smtp-relay.gmail.com with ESMTPS id 46e09a7af769-7c6c24d7148sm194970a34.4.2025.11.04.02.55.52 (version=TLS1_2 cipher=ECDHE-ECDSA-AES128-GCM-SHA256 bits=128/128); Tue, 04 Nov 2025 02:55:52 -0800 (PST) X-Relaying-Domain: iol.unh.edu Date: Tue, 04 Nov 2025 02:55:52 -0800 (PST) Message-ID: <6909dbb8.050a0220.953ba.aff3SMTPIN_ADDED_MISSING@mx.google.com> Received: from [172.21.0.6] (unknown [172.18.0.240]) by postal.iol.unh.edu (Postfix) with ESMTP id 739BC6051830; Tue, 4 Nov 2025 05:55:52 -0500 (EST) Subject: |SUCCESS| [GIT MASTER] 9784db2c5af1eecd02fc21132b59b5b266039b87 From: dpdklab@iol.unh.edu To: Test Report Cc: dpdk-test-reports@iol.unh.edu, Xueming Li , Christian Ehrhardt , Kevin Traynor , Luca Boccassi Content-Type: text/plain X-BeenThere: test-report@dpdk.org X-Mailman-Version: 2.1.29 Precedence: list List-Id: automatic DPDK test reports List-Unsubscribe: , List-Archive: List-Post: List-Help: List-Subscribe: , Errors-To: test-report-bounces@dpdk.org _Testing PASS_ Branch: tags/v22.11 9784db2c5af1eecd02fc21132b59b5b266039b87 --> testing pass Upstream job id: Generic-DPDK-Compile-Meson#440430 Test environment and result as below: +------------------------------+--------------------+ | Environment | dpdk_meson_compile | +==============================+====================+ | Ubuntu 20.04 | PASS | +------------------------------+--------------------+ | Red Hat Enterprise Linux 9.5 | PASS | +------------------------------+--------------------+ | Fedora Linux 42 | PASS | +------------------------------+--------------------+ | Ubuntu 22.04 | PASS | +------------------------------+--------------------+ | Debian GNU/Linux 12 | PASS | +------------------------------+--------------------+ | Ubuntu 24.04 | PASS | +------------------------------+--------------------+ | CentOS Stream 9 | PASS | +------------------------------+--------------------+ | CentOS Stream 10 | PASS | +------------------------------+--------------------+ Ubuntu 20.04 Kernel: 5.15 Compiler: aarch64-linux-gnu-gcc gcc (Ubuntu 9.4.0-1ubuntu1~20.04.2) 9.4.0 Red Hat Enterprise Linux 9.5 Kernel: 5.4 Compiler: gcc gcc (GCC) 11.5.0 20240719 (Red Hat 11.5.0-2) Fedora Linux 42 Kernel: 5.4 Compiler: gcc gcc (GCC) 15.2.1 20250808 (Red Hat 15.2.1-1) Ubuntu 22.04 Kernel: 5.4 Compiler: gcc gcc (Ubuntu 11.4.0-1ubuntu1~22.04) 11.4.0 Debian GNU/Linux 12 Kernel: 5.4 Compiler: gcc gcc (Debian 12.2.0-14+deb12u1) 12.2.0 Ubuntu 24.04 Kernel: 5.4 Compiler: gcc gcc (Ubuntu 13.3.0-6ubuntu2~24.04) 13.3.0 CentOS Stream 9 Kernel: 5.4 Compiler: gcc gcc (GCC) 11.5.0 20240719 (Red Hat 11.5.0-11) CentOS Stream 10 Kernel: 5.4 Compiler: gcc gcc (GCC) 14.2.1 20250110 (Red Hat 14.2.1-8) To view detailed results, visit: https://lab.dpdk.org/results/dashboard/tarballs/35442/ UNH-IOL DPDK Community Lab To manage your email subscriptions, visit: https://lab.dpdk.org/results/dashboard/preferences/subscriptions/