From mboxrd@z Thu Jan 1 00:00:00 1970 Return-Path: Received: from mails.dpdk.org (mails.dpdk.org [217.70.189.124]) by inbox.dpdk.org (Postfix) with ESMTP id 30E3748AA3 for ; Tue, 4 Nov 2025 12:06:28 +0100 (CET) Received: from mails.dpdk.org (localhost [127.0.0.1]) by mails.dpdk.org (Postfix) with ESMTP id 159D44029A; Tue, 4 Nov 2025 12:06:28 +0100 (CET) Received: from mail-ot1-f99.google.com (mail-ot1-f99.google.com [209.85.210.99]) by mails.dpdk.org (Postfix) with ESMTP id 23FF640285 for ; Tue, 4 Nov 2025 12:06:26 +0100 (CET) Received: by mail-ot1-f99.google.com with SMTP id 46e09a7af769-7c68bfe1719so1326100a34.3 for ; Tue, 04 Nov 2025 03:06:26 -0800 (PST) DKIM-Signature: v=1; a=rsa-sha256; c=relaxed/relaxed; d=iol.unh.edu; s=unh-iol; t=1762254385; x=1762859185; darn=dpdk.org; h=references:in-reply-to:cc:to:from:subject:message-id:date:from:to :cc:subject:date:message-id:reply-to; bh=EhmFyduxP88l5ZJbNokBap6+/D5gaM4cWQHGjueQ3W4=; b=XLCqDvriOBJtOUWOPHQCSF4R6pvy9cX9lhg8U5gQyCF4X5WNUGvhJ7qWSFvWUTk38K fdCrr1VFhwylOiU7sp08d+vl0zGZurmz6e9z3rGT6H8WtelQXn1cOkpsvkbvWEHBUi3i TmvsQB0IcRouf9m264WpEr6HplUusMD+4vVao= X-Google-DKIM-Signature: v=1; a=rsa-sha256; c=relaxed/relaxed; d=1e100.net; s=20230601; t=1762254385; x=1762859185; h=references:in-reply-to:cc:to:from:subject:message-id:date :x-gm-message-state:from:to:cc:subject:date:message-id:reply-to; bh=EhmFyduxP88l5ZJbNokBap6+/D5gaM4cWQHGjueQ3W4=; b=atAi9z4fZ6jCIqmycv2QzW414txnlBibCQpCgjLmELBO4RroaSTrMzHXA3EHohPM73 o0dNho2UXkDhkmUgesKGhLpYYZS2Px2QoTW9qgt/V294PAVN1dNRQWr0evDHMDcbqVIH tZ7Ydj9ZNRXyB/Kmr6/eR0KQlx19aDqtdMWIbCDah35cLaAamolfIazK8Q6lMkeC1kBi Dv7ZrkCxrGsOccEEp2IQ7m6B0rPTrclMqZ0DFas4pX7L+1YLg8Brgtcwmd/BOEzTcQp5 YwlL5QpO/pGMAOf8CWW0b7Gszfn807rQ8YgkpbTfhU6tp8PHy0VmV5Uzrz8GeSeoFPqE NTDw== X-Gm-Message-State: AOJu0YwH39UGZPva7U9rG7WH3JNUIS0HzZ6eLY4pMV5YvUZJpxOxaPeH ZDAMBX+hN/sgKbJBiitUVPnc7lDAAtFegHWIWlNIfxjDyuUwFGSJbEdcaCdxMmdGLHF+s0yFPdG LMLvIqh7bZuUJCF9MfKWsYuWofXh8f85FmprscvMrI++9aytVBxqBHHdc0Fqv X-Gm-Gg: ASbGncvT3B9GRhO2ec7BB4TxwEj852uRX4d4WB236CcU4ik7Bk8wiwKpLYNu23cn5/a aL/2BeiQAcmx23e+JMsc+P1SVLj7ZemYnxaLettnqjh53UHwPlSgO/LoSAspuGJIx8zxOuPU+WK wEzkdFHf6OZn9450gDj/1qqWQlEMXPRm0opPKpYeydO8cGbyNxinXMUEhTtbAFa4XAdOnYU/wBX oWlixs/0d1hODdnYT0da2z5gdEWkPxuGoGr/xx7Cg8c271K9BBG2CVHFhDwqNHchDlIYEqrN+Hr eqJ7zt3gJfbBrena8fBz4ELTYAxuLQOcTW17+Sfo6cmhoxMHqTnm2KQiqQJUgu2he58wQfofi/7 tAdYhQIwj X-Google-Smtp-Source: AGHT+IGlGWkZg+eu4QCDbQySXC6U5WafiU7IedWg+QYE3k81bpd6ksftomDzoDK+hjj5aKLBpo+Alpn/fJjT X-Received: by 2002:a05:6808:f8b:b0:44d:b7e9:2067 with SMTP id 5614622812f47-44f95fcce23mr6704582b6e.65.1762254385249; Tue, 04 Nov 2025 03:06:25 -0800 (PST) Received: from postal.iol.unh.edu (postal.iol.unh.edu. [2606:4100:3880:1234::84]) by smtp-relay.gmail.com with ESMTPS id 006d021491bc7-656ad4d1f3dsm112744eaf.6.2025.11.04.03.06.25 (version=TLS1_2 cipher=ECDHE-ECDSA-AES128-GCM-SHA256 bits=128/128); Tue, 04 Nov 2025 03:06:25 -0800 (PST) X-Relaying-Domain: iol.unh.edu Date: Tue, 04 Nov 2025 03:06:25 -0800 (PST) Message-ID: <6909de31.050a0220.1e26fb.63b9SMTPIN_ADDED_MISSING@mx.google.com> Received: from [172.21.0.2] (unknown [172.18.0.240]) by postal.iol.unh.edu (Postfix) with ESMTP id B7C7F6051830; Tue, 4 Nov 2025 06:06:24 -0500 (EST) Subject: |SUCCESS| pw158410 [PATCH] [v2,1/1] dmadev: add domain_id field to a From: dpdklab@iol.unh.edu To: Test Report Cc: dpdk-test-reports@iol.unh.edu In-Reply-To: <20251104052146.2308361-1-vattunuru@marvell.com> References: <20251104052146.2308361-1-vattunuru@marvell.com> Content-Type: text/plain X-BeenThere: test-report@dpdk.org X-Mailman-Version: 2.1.29 Precedence: list List-Id: automatic DPDK test reports List-Unsubscribe: , List-Archive: List-Post: List-Help: List-Subscribe: , Errors-To: test-report-bounces@dpdk.org Test-Label: iol-unit-amd64-testing Test-Status: SUCCESS http://dpdk.org/patch/158410 _Testing PASS_ Submitter: Vamsi Krishna Date: Tuesday, November 04 2025 05:21:46 DPDK git baseline: Repo:dpdk Branch: master CommitID:8c4861d00aabcf54ef9d6f1df2a4cfb37c06f6c2 158410 --> testing pass Upstream job id: Generic-VM-Unit-Test-DPDK#32270 Test environment and result as below: +-------------------------------+----------------+ | Environment | dpdk_unit_test | +===============================+================+ | CentOS Stream 9 | PASS | +-------------------------------+----------------+ | CentOS Stream 10 | PASS | +-------------------------------+----------------+ | Debian GNU/Linux 12 | PASS | +-------------------------------+----------------+ | Fedora Linux 40 | PASS | +-------------------------------+----------------+ | Fedora Linux 41 | PASS | +-------------------------------+----------------+ | Fedora Linux 42 | PASS | +-------------------------------+----------------+ | Ubuntu 20.04 | PASS | +-------------------------------+----------------+ | Red Hat Enterprise Linux 8.10 | PASS | +-------------------------------+----------------+ | Red Hat Enterprise Linux 9.5 | PASS | +-------------------------------+----------------+ | Ubuntu 22.04 | PASS | +-------------------------------+----------------+ | Ubuntu 24.04 | PASS | +-------------------------------+----------------+ | Windows Server 2022 | PASS | +-------------------------------+----------------+ CentOS Stream 9 Kernel: 5.15 Compiler: gcc gcc (GCC) 11.5.0 20240719 (Red Hat 11.5.0-11) CentOS Stream 10 Kernel: 5.15 Compiler: gcc gcc (GCC) 14.2.1 20250110 (Red Hat 14.2.1-8) Debian GNU/Linux 12 Kernel: 5.15 Compiler: gcc gcc (Debian 12.2.0-14+deb12u1) 12.2.0 Fedora Linux 40 Kernel: 5.15 Compiler: gcc gcc (GCC) 14.2.1 20240912 (Red Hat 14.2.1-3) Fedora Linux 41 Kernel: 5.15 Compiler: gcc gcc (GCC) 14.3.1 20250523 (Red Hat 14.3.1-1) Fedora Linux 42 Kernel: 5.15 Compiler: clang gcc (GCC) 15.2.1 20250808 (Red Hat 15.2.1-1) Ubuntu 20.04 Kernel: 5.15 Compiler: gcc gcc (Ubuntu 9.4.0-1ubuntu1~20.04.2) 9.4.0 Red Hat Enterprise Linux 8.10 Kernel: 5.15 Compiler: gcc gcc (GCC) 8.5.0 20210514 (Red Hat 8.5.0-22) Red Hat Enterprise Linux 9.5 Kernel: 5.15 Compiler: gcc gcc (GCC) 11.5.0 20240719 (Red Hat 11.5.0-2) Ubuntu 22.04 Kernel: 5.15 Compiler: gcc gcc (Ubuntu 11.4.0-1ubuntu1~22.04) 11.4.0 Ubuntu 24.04 Kernel: 5.15 Compiler: gcc gcc (Ubuntu 13.3.0-6ubuntu2~24.04) 13.3.0 Windows Server 2022 Kernel: 10.0.20348.2031 Compiler: clang 15.0.7, gcc 14.1.0 (MinGW), and MSVC VS 19.39.33521 To view detailed results, visit: https://lab.dpdk.org/results/dashboard/patchsets/34453/ UNH-IOL DPDK Community Lab To manage your email subscriptions, visit: https://lab.dpdk.org/results/dashboard/preferences/subscriptions/