From mboxrd@z Thu Jan 1 00:00:00 1970 Return-Path: Received: from mails.dpdk.org (mails.dpdk.org [217.70.189.124]) by inbox.dpdk.org (Postfix) with ESMTP id 1F49A48AA5 for ; Tue, 4 Nov 2025 12:14:53 +0100 (CET) Received: from mails.dpdk.org (localhost [127.0.0.1]) by mails.dpdk.org (Postfix) with ESMTP id CD66240285; Tue, 4 Nov 2025 12:14:52 +0100 (CET) Received: from mail-pl1-f226.google.com (mail-pl1-f226.google.com [209.85.214.226]) by mails.dpdk.org (Postfix) with ESMTP id 898B140285 for ; Tue, 4 Nov 2025 12:14:51 +0100 (CET) Received: by mail-pl1-f226.google.com with SMTP id d9443c01a7336-28a5b8b12a1so57081905ad.0 for ; Tue, 04 Nov 2025 03:14:51 -0800 (PST) DKIM-Signature: v=1; a=rsa-sha256; c=relaxed/relaxed; d=iol.unh.edu; s=unh-iol; t=1762254890; x=1762859690; darn=dpdk.org; h=references:in-reply-to:cc:to:from:subject:message-id:date:from:to :cc:subject:date:message-id:reply-to; bh=eM8lFrY7ozrbC720d15TrfgNxcqKDwXlvoEpxop61C8=; b=PUqKlgTMHV+qvGcfHjbJWSU5Cm4wKPaKmHE26Xr6xssb/G+igywMuY2VVDB9M21O9D l21mdXNpsl11moRPfkPQnE9EaUJajw0zaUE7mGPh6EhxhbgwYp7/aWi0/OzxfC2B499m GAcO2TK+5E5CmB31FSrBmDPom7XUoCRJGS380= X-Google-DKIM-Signature: v=1; a=rsa-sha256; c=relaxed/relaxed; d=1e100.net; s=20230601; t=1762254890; x=1762859690; h=references:in-reply-to:cc:to:from:subject:message-id:date :x-gm-message-state:from:to:cc:subject:date:message-id:reply-to; bh=eM8lFrY7ozrbC720d15TrfgNxcqKDwXlvoEpxop61C8=; b=O4sI74Qr9a3QJjGFDdjkPUnefqSflH95nl+w84SkbSl4xqrAIilNrV0hVk48WjeB/s mSTuvtmel4Fzcw7WT+bWHmUyJmvQDFRzf+F2uJ6OGLSarofAuiDmLHTTm8z1MI4/+fYl l79Of1CWfABjmteYiVUSuiMKyf6OzscSy0ZGqZT0KO8cnnPBCWfs3yhTjGcGXWEDO1rS GPjNe1DtwDCWjZZy67QKEVxpy99POfg+o2+gFe4u891sZ+mUvZJnbV2EmP/4hWzi/IjZ jBA4XF/WOb9YBskEg6utXXFmdi5t3CZCVMYU+H9d4yCLLD/ZrgoezYj5130fRKPlwW5X PvPA== X-Gm-Message-State: AOJu0Yzw/T6Jvk8yDwFzxJQC6nxEEkTXiPPnT2s4U6KBnX5TDFnnnEQY Mp3Rek74J0OEWJb2L1uHZRlwerD+tteBRuUJ7lWL3O+0jXQZxvJ/2UMyvE3i+UomgqfTqsBN9Sk 0Dpe2G9AjXTBBb5CirAaO2FCeNYyDf61c7jCAaLiKNySZ7dkcn1Fu0QDjg8ir X-Gm-Gg: ASbGncs3VSzv5Q7nWpIUkcdWwxeR6kyQBHtYAxAi8zvqhyDpq/3I3Wx5AqpgC5Jgvt1 BshgECmAz3tV5/se7b3A7HFao8i2AORC0bIZ8WJ8eHAmwHTn3BQGJIbdQHJ09mQFcrxs0aECGU3 /SW3JvNksJaeihovSLGr53eMJg1tYjnJN5K1Ok8OfsLvIESl+oyLNWq7T3OcJNx6ziYJ26XXs3y yJqTZ6zJA6DCyh9s5U+2EZKlLxn++axGn6rnNBWEYQLUbCaCJbyXv2wxko2PlzfCPhJadKt4VKU Bmhq6pgkscOXjm4oWLhnfdEBI+MACOiYVFwNgyAlg8Rn4SECPSnaf062ktm8Q7xDVrEXMs1zetZ 0NhDWTLGv X-Google-Smtp-Source: AGHT+IEc3I2/QFlTMOjVcoh30tEKbEfZrZN58OeNZVKvtk7rCuTRdIGofIUMdurYGnVEM91KmoLuOSYBEand X-Received: by 2002:a17:902:c40a:b0:269:8d1b:40c3 with SMTP id d9443c01a7336-2951a34ca5emr209493895ad.12.1762254890612; Tue, 04 Nov 2025 03:14:50 -0800 (PST) Received: from postal.iol.unh.edu (postal.iol.unh.edu. [2606:4100:3880:1234::84]) by smtp-relay.gmail.com with ESMTPS id d9443c01a7336-29601a6c606sm2014795ad.60.2025.11.04.03.14.50 (version=TLS1_2 cipher=ECDHE-ECDSA-AES128-GCM-SHA256 bits=128/128); Tue, 04 Nov 2025 03:14:50 -0800 (PST) X-Relaying-Domain: iol.unh.edu Date: Tue, 04 Nov 2025 03:14:50 -0800 (PST) Message-ID: <6909e02a.170a0220.2230b4.b300SMTPIN_ADDED_MISSING@mx.google.com> Received: from [172.21.0.2] (unknown [172.18.0.240]) by postal.iol.unh.edu (Postfix) with ESMTP id AF45C6051830; Tue, 4 Nov 2025 06:14:49 -0500 (EST) Subject: |SUCCESS| pw158418 [PATCH] vhost: fix use-after-free race during cle From: dpdklab@iol.unh.edu To: Test Report Cc: dpdk-test-reports@iol.unh.edu, Chenbo Xia , Maxime Coquelin In-Reply-To: <20251104080931.8102-1-shperetz@nvidia.com> References: <20251104080931.8102-1-shperetz@nvidia.com> Content-Type: text/plain X-BeenThere: test-report@dpdk.org X-Mailman-Version: 2.1.29 Precedence: list List-Id: automatic DPDK test reports List-Unsubscribe: , List-Archive: List-Post: List-Help: List-Subscribe: , Errors-To: test-report-bounces@dpdk.org Test-Label: iol-compile-amd64-testing Test-Status: SUCCESS http://dpdk.org/patch/158418 _Testing PASS_ Submitter: Shani Peretz Date: Tuesday, November 04 2025 08:09:31 DPDK git baseline: Repo:dpdk-next-virtio Branch: master CommitID:6b37c26a95388aa41bb5267c7c42f604fd571a38 158418 --> testing pass Upstream job id: Windows-Compile-DPDK-Native#32097 Test environment and result as below: +-------------------------------+--------------------+------------------+-------------------+-------------------------+ | Environment | dpdk_meson_compile | dpdk_compile_ovs | dpdk_msvc_compile | dpdk_llvm_clang_compile | +===============================+====================+==================+===================+=========================+ | CentOS Stream 10 | PASS | SKIPPED | SKIPPED | SKIPPED | +-------------------------------+--------------------+------------------+-------------------+-------------------------+ | CentOS Stream 9 | PASS | SKIPPED | SKIPPED | SKIPPED | +-------------------------------+--------------------+------------------+-------------------+-------------------------+ | Debian GNU/Linux 12 | PASS | SKIPPED | SKIPPED | SKIPPED | +-------------------------------+--------------------+------------------+-------------------+-------------------------+ | FreeBSD 14.2 | PASS | SKIPPED | SKIPPED | SKIPPED | +-------------------------------+--------------------+------------------+-------------------+-------------------------+ | Fedora Linux 42 | PASS | PASS | SKIPPED | SKIPPED | +-------------------------------+--------------------+------------------+-------------------+-------------------------+ | openSUSE Leap 15.6 | PASS | SKIPPED | SKIPPED | SKIPPED | +-------------------------------+--------------------+------------------+-------------------+-------------------------+ | Red Hat Enterprise Linux 8.10 | PASS | SKIPPED | SKIPPED | SKIPPED | +-------------------------------+--------------------+------------------+-------------------+-------------------------+ | Red Hat Enterprise Linux 9.5 | PASS | SKIPPED | SKIPPED | SKIPPED | +-------------------------------+--------------------+------------------+-------------------+-------------------------+ | Ubuntu 20.04 | PASS | SKIPPED | SKIPPED | SKIPPED | +-------------------------------+--------------------+------------------+-------------------+-------------------------+ | Ubuntu 22.04 | PASS | SKIPPED | SKIPPED | SKIPPED | +-------------------------------+--------------------+------------------+-------------------+-------------------------+ | Ubuntu 24.04 | PASS | PASS | SKIPPED | SKIPPED | +-------------------------------+--------------------+------------------+-------------------+-------------------------+ | Alpine Linux 3.22.0 | PASS | SKIPPED | SKIPPED | SKIPPED | +-------------------------------+--------------------+------------------+-------------------+-------------------------+ | Windows Server 2022 | SKIPPED | SKIPPED | PASS | PASS | +-------------------------------+--------------------+------------------+-------------------+-------------------------+ CentOS Stream 10 Kernel: 5.15 Compiler: gcc gcc (GCC) 14.2.1 20250110 (Red Hat 14.2.1-8) CentOS Stream 9 Kernel: 5.15 Compiler: gcc gcc (GCC) 11.5.0 20240719 (Red Hat 11.5.0-11) Debian GNU/Linux 12 Kernel: 5.15 Compiler: gcc gcc (Debian 12.2.0-14+deb12u1) 12.2.0 FreeBSD 14.2 Kernel: 14.2-RELEASE Compiler: clang 18.1.6 Fedora Linux 42 Kernel: 5.15 Compiler: clang gcc (GCC) 15.2.1 20250808 (Red Hat 15.2.1-1) openSUSE Leap 15.6 Kernel: 5.15 Compiler: gcc gcc (SUSE Linux) 7.5.0 Red Hat Enterprise Linux 8.10 Kernel: 5.15 Compiler: gcc gcc (GCC) 8.5.0 20210514 (Red Hat 8.5.0-22) Red Hat Enterprise Linux 9.5 Kernel: 5.15 Compiler: gcc gcc (GCC) 11.5.0 20240719 (Red Hat 11.5.0-2) Ubuntu 20.04 Kernel: 5.15 Compiler: gcc gcc (Ubuntu 9.4.0-1ubuntu1~20.04.2) 9.4.0 Ubuntu 22.04 Kernel: 5.15 Compiler: gcc gcc (Ubuntu 11.4.0-1ubuntu1~22.04) 11.4.0 Ubuntu 24.04 Kernel: 5.15 Compiler: gcc gcc (Ubuntu 13.3.0-6ubuntu2~24.04) 13.3.0 Alpine Linux 3.22.0 Kernel: 5.15 Compiler: gcc gcc (Alpine 14.2.0) 14.2.0 Windows Server 2022 Kernel: 10.0.20348.2031 Compiler: clang 15.0.7, gcc 14.1.0 (MinGW), and MSVC VS 19.39.33521 To view detailed results, visit: https://lab.dpdk.org/results/dashboard/patchsets/34454/ UNH-IOL DPDK Community Lab To manage your email subscriptions, visit: https://lab.dpdk.org/results/dashboard/preferences/subscriptions/