From mboxrd@z Thu Jan 1 00:00:00 1970 Return-Path: Received: from mails.dpdk.org (mails.dpdk.org [217.70.189.124]) by inbox.dpdk.org (Postfix) with ESMTP id 8118948AA5 for ; Tue, 4 Nov 2025 12:19:26 +0100 (CET) Received: from mails.dpdk.org (localhost [127.0.0.1]) by mails.dpdk.org (Postfix) with ESMTP id 7A81640285; Tue, 4 Nov 2025 12:19:26 +0100 (CET) Received: from mail-il1-f225.google.com (mail-il1-f225.google.com [209.85.166.225]) by mails.dpdk.org (Postfix) with ESMTP id 9364140285 for ; Tue, 4 Nov 2025 12:19:25 +0100 (CET) Received: by mail-il1-f225.google.com with SMTP id e9e14a558f8ab-43327cb1299so8238345ab.1 for ; Tue, 04 Nov 2025 03:19:25 -0800 (PST) DKIM-Signature: v=1; a=rsa-sha256; c=relaxed/relaxed; d=iol.unh.edu; s=unh-iol; t=1762255165; x=1762859965; darn=dpdk.org; h=references:in-reply-to:cc:to:from:subject:message-id:date:from:to :cc:subject:date:message-id:reply-to; bh=hpbmoW3ROHPQvN6qXhYti3+KFW0MmdImNF15Pe62D64=; b=GOaeWzu65OFlUKfghVJ0ENsUydbyR75gKtEu/b2jfuGe67fISj6svHRPLgO1OU0ke/ 691m2gHQABvY5IsJy7OSu1leFus9XRKPtn4n1SmJkP1nnqQecJtAKIonuL8zWJOwLWgF FBGCl9xGcxngsYTxDnhZkEHGjnde8wD4eNNWY= X-Google-DKIM-Signature: v=1; a=rsa-sha256; c=relaxed/relaxed; d=1e100.net; s=20230601; t=1762255165; x=1762859965; h=references:in-reply-to:cc:to:from:subject:message-id:date :x-gm-message-state:from:to:cc:subject:date:message-id:reply-to; bh=hpbmoW3ROHPQvN6qXhYti3+KFW0MmdImNF15Pe62D64=; b=oUigNRxJ7Ar2xvaz6qRHDjs8bmTQgT+dnHJLBW3H1RylVaiSQmLq6WsGZ7yry86B76 1P8IhQ/A6kWxf74lSiQI3yQxayhY/gtij0ZfRLGBVxQvI2C6mGxHUltzusiMbHDPgaIg r8c3sNXRdmNBxi0ruO185/MJ3PjwoWSwCfeVZk0iJywDwvw7qcmBp0GlHJHEUBDHFxsz a1LrwmQ08J7+YvxZmpgdPtjhokiShfAU+dObI9SzKrWamNk23VNLeCD7HqUNcp8n/EDd wZfRsv/C0b51H1VTHpHW6TdJsjh7vx52/nnLeeluxuqrSmM+gJkscGUphz00IXRAtboR 9gOA== X-Gm-Message-State: AOJu0Yx5W5yTZ5UCKwe5CEtHsU+aJ/66QVjKTGr5+FEabgICZwLtZvaH GKe2ChpjW+EVv/0aNrDrJaRd9o6HnVi6mERj5hzoWZKrcaydrS2xjHjoNgnp7VuCFJSjoNEPTRU jXCuGVfmFCkkXLo2DQ5OJn7KkkET2h85NG2iyvgr2SfcC X-Gm-Gg: ASbGncvHUopR5sRmYi8KpQejgCVm0Hxo3EOvXHZydCKeJ0tgdm9Qs53qVCKx2nvpQUv cNgki9ggQO3wy2TEn1R1hE+6SQasoSxnx2UB4WMYB0t+nKGFNoPnilAH5WTrsIYuU+aVH3fyOS1 9Yh6NV1Q8LH4fDZwWXFxkkTqwyFZ7l7PE1QHkN3bj6am2/ZVJehxOuv8JrQHTlxgUtTt6iC5+k6 9+uL5y7woj1Ztyjdd6CXv3Wv7CWpZAmDRGiEAwLHfDg0/zCzTljgUJ0pGsGqBKepvsP6h/UJl43 UlGweDLOG0r61+2tCFpGbbt+W26EDBE0g1Z4przxUcXi/+igfd5d1iuyC4CajK0vdLoOd7MEgje TOXI95rvsenrDMQ9CWPTBqAM0WbVyn9Y= X-Google-Smtp-Source: AGHT+IF76GXQ7Ot0j7HWA4Q8xvEmbOcsfndQ8kAiHU+tyfZObAEWBn1Fanx5hqjCSiEDqzEQT/ZUAFDWnt8l X-Received: by 2002:a05:6e02:2701:b0:42d:84b3:ac37 with SMTP id e9e14a558f8ab-4330d125c00mr206756155ab.2.1762255164892; Tue, 04 Nov 2025 03:19:24 -0800 (PST) Received: from postal.iol.unh.edu (postal.iol.unh.edu. [132.177.123.84]) by smtp-relay.gmail.com with ESMTPS id 8926c6da1cb9f-5b7225b1160sm305524173.15.2025.11.04.03.19.24 (version=TLS1_2 cipher=ECDHE-ECDSA-AES128-GCM-SHA256 bits=128/128); Tue, 04 Nov 2025 03:19:24 -0800 (PST) X-Relaying-Domain: iol.unh.edu Date: Tue, 04 Nov 2025 03:19:24 -0800 (PST) Message-ID: <6909e13c.050a0220.1ebc3b.100bSMTPIN_ADDED_MISSING@mx.google.com> Received: from [172.21.0.3] (unknown [172.18.0.240]) by postal.iol.unh.edu (Postfix) with ESMTP id 6D38B6051830; Tue, 4 Nov 2025 06:19:24 -0500 (EST) Subject: |SUCCESS| pw158419 [PATCH] [v2] mbuf: dump Tx offload metadata From: dpdklab@iol.unh.edu To: Test Report Cc: dpdk-test-reports@iol.unh.edu In-Reply-To: <20251104100214.1818660-1-david.marchand@redhat.com> References: <20251104100214.1818660-1-david.marchand@redhat.com> Content-Type: text/plain X-BeenThere: test-report@dpdk.org X-Mailman-Version: 2.1.29 Precedence: list List-Id: automatic DPDK test reports List-Unsubscribe: , List-Archive: List-Post: List-Help: List-Subscribe: , Errors-To: test-report-bounces@dpdk.org Test-Label: iol-unit-amd64-testing Test-Status: SUCCESS http://dpdk.org/patch/158419 _Testing PASS_ Submitter: David Marchand Date: Tuesday, November 04 2025 10:02:14 DPDK git baseline: Repo:dpdk Branch: master CommitID:8c4861d00aabcf54ef9d6f1df2a4cfb37c06f6c2 158419 --> testing pass Upstream job id: Generic-Unit-Test-DPDK#388358 Test environment and result as below: +-------------------------------+----------------+ | Environment | dpdk_unit_test | +===============================+================+ | Fedora Linux 42 | PASS | +-------------------------------+----------------+ | Ubuntu 20.04 | PASS | +-------------------------------+----------------+ | Fedora Linux 41 | PASS | +-------------------------------+----------------+ | Ubuntu 24.04 | PASS | +-------------------------------+----------------+ | Fedora Linux 40 | PASS | +-------------------------------+----------------+ | Red Hat Enterprise Linux 8.10 | PASS | +-------------------------------+----------------+ | CentOS Stream 9 | PASS | +-------------------------------+----------------+ | Red Hat Enterprise Linux 9.5 | PASS | +-------------------------------+----------------+ | Ubuntu 22.04 | PASS | +-------------------------------+----------------+ | Debian GNU/Linux 12 | PASS | +-------------------------------+----------------+ | CentOS Stream 10 | PASS | +-------------------------------+----------------+ Fedora Linux 42 Kernel: 5.15 Compiler: clang gcc (GCC) 15.2.1 20250808 (Red Hat 15.2.1-1) Ubuntu 20.04 Kernel: 5.15 Compiler: gcc gcc (Ubuntu 9.4.0-1ubuntu1~20.04.2) 9.4.0 Fedora Linux 41 Kernel: 5.15 Compiler: clang gcc (GCC) 14.3.1 20250523 (Red Hat 14.3.1-1) Ubuntu 24.04 Kernel: 5.15 Compiler: gcc gcc (Ubuntu 13.3.0-6ubuntu2~24.04) 13.3.0 Fedora Linux 40 Kernel: 5.15 Compiler: gcc gcc (GCC) 14.2.1 20240912 (Red Hat 14.2.1-3) Red Hat Enterprise Linux 8.10 Kernel: 5.15 Compiler: gcc gcc (GCC) 8.5.0 20210514 (Red Hat 8.5.0-22) CentOS Stream 9 Kernel: 5.15 Compiler: gcc gcc (GCC) 11.5.0 20240719 (Red Hat 11.5.0-11) Red Hat Enterprise Linux 9.5 Kernel: 5.15 Compiler: gcc gcc (GCC) 11.5.0 20240719 (Red Hat 11.5.0-2) Ubuntu 22.04 Kernel: 5.15 Compiler: gcc gcc (Ubuntu 11.4.0-1ubuntu1~22.04) 11.4.0 Debian GNU/Linux 12 Kernel: 5.15 Compiler: gcc gcc (Debian 12.2.0-14+deb12u1) 12.2.0 CentOS Stream 10 Kernel: 5.15 Compiler: gcc gcc (GCC) 14.2.1 20250110 (Red Hat 14.2.1-8) To view detailed results, visit: https://lab.dpdk.org/results/dashboard/patchsets/34456/ UNH-IOL DPDK Community Lab To manage your email subscriptions, visit: https://lab.dpdk.org/results/dashboard/preferences/subscriptions/