From: dpdklab@iol.unh.edu
To: Test Report <test-report@dpdk.org>
Cc: dpdk-test-reports@iol.unh.edu, Chenbo Xia <chenbox@nvidia.com>,
Maxime Coquelin <maxime.coquelin@redhat.com>
Subject: |SUCCESS| pw158418 [PATCH] vhost: fix use-after-free race during cle
Date: Tue, 04 Nov 2025 03:22:44 -0800 (PST) [thread overview]
Message-ID: <6909e204.050a0220.181e77.92deSMTPIN_ADDED_MISSING@mx.google.com> (raw)
In-Reply-To: <20251104080931.8102-1-shperetz@nvidia.com>
Test-Label: iol-unit-amd64-testing
Test-Status: SUCCESS
http://dpdk.org/patch/158418
_Testing PASS_
Submitter: Shani Peretz <shperetz@nvidia.com>
Date: Tuesday, November 04 2025 08:09:31
DPDK git baseline: Repo:dpdk-next-virtio
Branch: master
CommitID:6b37c26a95388aa41bb5267c7c42f604fd571a38
158418 --> testing pass
Upstream job id: Generic-VM-Unit-Test-DPDK#32271
Test environment and result as below:
+-------------------------------+----------------+
| Environment | dpdk_unit_test |
+===============================+================+
| Red Hat Enterprise Linux 8.10 | PASS |
+-------------------------------+----------------+
| Fedora Linux 42 | PASS |
+-------------------------------+----------------+
| Fedora Linux 40 | PASS |
+-------------------------------+----------------+
| Ubuntu 24.04 | PASS |
+-------------------------------+----------------+
| Red Hat Enterprise Linux 9.5 | PASS |
+-------------------------------+----------------+
| Ubuntu 20.04 | PASS |
+-------------------------------+----------------+
| Fedora Linux 41 | PASS |
+-------------------------------+----------------+
| Debian GNU/Linux 12 | PASS |
+-------------------------------+----------------+
| CentOS Stream 10 | PASS |
+-------------------------------+----------------+
| CentOS Stream 9 | PASS |
+-------------------------------+----------------+
| Ubuntu 22.04 | PASS |
+-------------------------------+----------------+
| Windows Server 2022 | PASS |
+-------------------------------+----------------+
Red Hat Enterprise Linux 8.10
Kernel: 5.15
Compiler: gcc gcc (GCC) 8.5.0 20210514 (Red Hat 8.5.0-22)
Fedora Linux 42
Kernel: 5.15
Compiler: clang gcc (GCC) 15.2.1 20250808 (Red Hat 15.2.1-1)
Fedora Linux 40
Kernel: 5.15
Compiler: clang gcc (GCC) 14.2.1 20240912 (Red Hat 14.2.1-3)
Ubuntu 24.04
Kernel: 5.15
Compiler: gcc gcc (Ubuntu 13.3.0-6ubuntu2~24.04) 13.3.0
Red Hat Enterprise Linux 9.5
Kernel: 5.15
Compiler: gcc gcc (GCC) 11.5.0 20240719 (Red Hat 11.5.0-2)
Ubuntu 20.04
Kernel: 5.15
Compiler: gcc gcc (Ubuntu 9.4.0-1ubuntu1~20.04.2) 9.4.0
Fedora Linux 41
Kernel: 5.15
Compiler: gcc gcc (GCC) 14.3.1 20250523 (Red Hat 14.3.1-1)
Debian GNU/Linux 12
Kernel: 5.15
Compiler: gcc gcc (Debian 12.2.0-14+deb12u1) 12.2.0
CentOS Stream 10
Kernel: 5.15
Compiler: gcc gcc (GCC) 14.2.1 20250110 (Red Hat 14.2.1-8)
CentOS Stream 9
Kernel: 5.15
Compiler: gcc gcc (GCC) 11.5.0 20240719 (Red Hat 11.5.0-11)
Ubuntu 22.04
Kernel: 5.15
Compiler: gcc gcc (Ubuntu 11.4.0-1ubuntu1~22.04) 11.4.0
Windows Server 2022
Kernel: 10.0.20348.2031
Compiler: clang 15.0.7, gcc 14.1.0 (MinGW), and MSVC VS 19.39.33521
To view detailed results, visit:
https://lab.dpdk.org/results/dashboard/patchsets/34454/
UNH-IOL DPDK Community Lab
To manage your email subscriptions, visit:
https://lab.dpdk.org/results/dashboard/preferences/subscriptions/
next prev parent reply other threads:[~2025-11-04 11:22 UTC|newest]
Thread overview: 26+ messages / expand[flat|nested] mbox.gz Atom feed top
[not found] <20251104080931.8102-1-shperetz@nvidia.com>
2025-11-04 7:35 ` |SUCCESS| pw158418 [PATCH] vhost: fix use-after-free race during cleanup qemudev
2025-11-04 7:40 ` qemudev
2025-11-04 8:09 ` checkpatch
2025-11-04 8:33 ` |SUCCESS| pw158418 [PATCH] vhost: fix use-after-free race during cle dpdklab
2025-11-04 8:36 ` |PENDING| " dpdklab
2025-11-04 8:36 ` dpdklab
2025-11-04 8:38 ` |SUCCESS| " dpdklab
2025-11-04 8:42 ` dpdklab
2025-11-04 8:54 ` |PENDING| " dpdklab
2025-11-04 8:54 ` |SUCCESS| " dpdklab
2025-11-04 8:55 ` dpdklab
2025-11-04 9:12 ` dpdklab
2025-11-04 9:23 ` dpdklab
2025-11-04 9:24 ` dpdklab
2025-11-04 9:24 ` dpdklab
2025-11-04 10:27 ` dpdklab
2025-11-04 10:45 ` |SUCCESS| pw158418 [PATCH] vhost: fix use-after-free race during cleanup 0-day Robot
2025-11-04 10:45 ` 0-day Robot
2025-11-04 11:14 ` |SUCCESS| pw158418 [PATCH] vhost: fix use-after-free race during cle dpdklab
2025-11-04 11:22 ` dpdklab [this message]
2025-11-04 11:25 ` dpdklab
2025-11-04 11:30 ` dpdklab
2025-11-04 11:38 ` dpdklab
2025-11-04 12:06 ` dpdklab
2025-11-04 13:51 ` dpdklab
2025-11-04 14:06 ` dpdklab
Reply instructions:
You may reply publicly to this message via plain-text email
using any one of the following methods:
* Save the following mbox file, import it into your mail client,
and reply-to-all from there: mbox
Avoid top-posting and favor interleaved quoting:
https://en.wikipedia.org/wiki/Posting_style#Interleaved_style
* Reply using the --to, --cc, and --in-reply-to
switches of git-send-email(1):
git send-email \
--in-reply-to=6909e204.050a0220.181e77.92deSMTPIN_ADDED_MISSING@mx.google.com \
--to=dpdklab@iol.unh.edu \
--cc=chenbox@nvidia.com \
--cc=dpdk-test-reports@iol.unh.edu \
--cc=maxime.coquelin@redhat.com \
--cc=test-report@dpdk.org \
/path/to/YOUR_REPLY
https://kernel.org/pub/software/scm/git/docs/git-send-email.html
* If your mail client supports setting the In-Reply-To header
via mailto: links, try the mailto: link
Be sure your reply has a Subject: header at the top and a blank line
before the message body.
This is a public inbox, see mirroring instructions
for how to clone and mirror all data and code used for this inbox;
as well as URLs for NNTP newsgroup(s).