From mboxrd@z Thu Jan 1 00:00:00 1970 Return-Path: Received: from mails.dpdk.org (mails.dpdk.org [217.70.189.124]) by inbox.dpdk.org (Postfix) with ESMTP id EE3E048AA5 for ; Tue, 4 Nov 2025 12:22:46 +0100 (CET) Received: from mails.dpdk.org (localhost [127.0.0.1]) by mails.dpdk.org (Postfix) with ESMTP id E893E40285; Tue, 4 Nov 2025 12:22:46 +0100 (CET) Received: from mail-yw1-f225.google.com (mail-yw1-f225.google.com [209.85.128.225]) by mails.dpdk.org (Postfix) with ESMTP id 83F8540285 for ; Tue, 4 Nov 2025 12:22:45 +0100 (CET) Received: by mail-yw1-f225.google.com with SMTP id 00721157ae682-71d71bcab69so55103577b3.0 for ; Tue, 04 Nov 2025 03:22:45 -0800 (PST) DKIM-Signature: v=1; a=rsa-sha256; c=relaxed/relaxed; d=iol.unh.edu; s=unh-iol; t=1762255365; x=1762860165; darn=dpdk.org; h=references:in-reply-to:cc:to:from:subject:message-id:date:from:to :cc:subject:date:message-id:reply-to; bh=SmPMlXbki+4pSlXiphuiyKP5s2k7koo0JxtMJhSATAk=; b=Dwr6641mdGKghX9hxQiBqJmyAKC0VC1JKNC1wlJ4rrRPiSU5P4YcFsbeCkIjsdFnUy S++FwXfeNBDt0VxJHJRwAmy+PdNy+4Mu5c4QFeOil7kknU6fFQCDwQwjzqctE1a/KWso Mzn9N0kb1X8Izb8d7mD5dcKgeBepglhyIMhtw= X-Google-DKIM-Signature: v=1; a=rsa-sha256; c=relaxed/relaxed; d=1e100.net; s=20230601; t=1762255365; x=1762860165; h=references:in-reply-to:cc:to:from:subject:message-id:date :x-gm-message-state:from:to:cc:subject:date:message-id:reply-to; bh=SmPMlXbki+4pSlXiphuiyKP5s2k7koo0JxtMJhSATAk=; b=W1wPWgUIlX4WAOd57O47Dj/v/DdHkNFVC+y5CrE1/I5Uj8+JdHbgWAnW3H3QEcfi+B h7h+8Zyl4eQBz4qxTrrdsVRAMQjdcheWC/J0cS6WvXviMnOqTxZi66tvofqKdwPALh2R nzV/jU0hzBeRuqKxcbO6A6LASG/D4gRmeIpVQFlCVeTxcbDC5kVa41wtfB9738cBqDtR 3FxEweg6mX76xnnn5BXSZWcK5stKEPJGfv0PgsoRv57IAZdzhRoLn9tRbxKrQVvH1V1l h+AN20c+tVKichXvSoe5rvnFlLOEj42Vbf+x0V+yrgtDCF5YnG92BfbGZstUzs05xdWh FqPg== X-Gm-Message-State: AOJu0Yx2e9CxpFr9MNNUsRR6PYNoDgX5WtfFeg4P0ZOxAz+vyZYvFFJ1 LzLNPcBWfgTn0pGxE9NMCyQNs6DwsHUndlypqgC+8+udRaeMKaeRWL3oVbmAoohImudrnNfIFeT YfC33Pa52a8+M378xZod5efr8lg/XtLUbawD9AA2PRgGH X-Gm-Gg: ASbGncsINpoHgZdtuGmgQ/0jaxghphl7ccQmR6Pf/rbntXwNAdS+SZD9sZHv6y3RIS/ lzVDAN/Uh8TRudm6HssTbmxd3eJOR84Q/h1bnKMLPebNCfosYcnrhcsjTyQNLTAsCXBIr5o4X1E Naw+K1/3w3tgG3wfcLDyaaI+S3hM+WEWLJbqXqG7iE2dIE1/z/keaopASTx4GcTMz5fZ4KdDS9O HHjL9JNWeLpK5AX8UedSeIXmVzLReqleVhHg2XOZ0XvVvJJNh2hqHJkTVt8rWLofICf33jPFJ6W vveiZPiBkj4j0agcm+FhwipWelJShmeF9ynGIyTj7O40OExAIfQUS93mmaS/O1OsaYacT6nD1mr fOd3w7yRuX9HZRL/8ejCX3f9UT5DyrEs= X-Google-Smtp-Source: AGHT+IEllmPtNUE65waS/xrWsGtFfcZcbdM4vPoxmIx5Ld25g7ZC8MC4Xjesn/yQS0zxqcXQXPY1L2ISEWhf X-Received: by 2002:a05:690c:61c9:b0:786:7a54:4632 with SMTP id 00721157ae682-7867a548479mr66632487b3.13.1762255364834; Tue, 04 Nov 2025 03:22:44 -0800 (PST) Received: from postal.iol.unh.edu (postal.iol.unh.edu. [132.177.123.84]) by smtp-relay.gmail.com with ESMTPS id 00721157ae682-78691dcedb5sm1563647b3.22.2025.11.04.03.22.44 (version=TLS1_2 cipher=ECDHE-ECDSA-AES128-GCM-SHA256 bits=128/128); Tue, 04 Nov 2025 03:22:44 -0800 (PST) X-Relaying-Domain: iol.unh.edu Date: Tue, 04 Nov 2025 03:22:44 -0800 (PST) Message-ID: <6909e204.050a0220.181e77.92deSMTPIN_ADDED_MISSING@mx.google.com> Received: from [172.21.0.2] (unknown [172.18.0.240]) by postal.iol.unh.edu (Postfix) with ESMTP id 806C56051830; Tue, 4 Nov 2025 06:22:44 -0500 (EST) Subject: |SUCCESS| pw158418 [PATCH] vhost: fix use-after-free race during cle From: dpdklab@iol.unh.edu To: Test Report Cc: dpdk-test-reports@iol.unh.edu, Chenbo Xia , Maxime Coquelin In-Reply-To: <20251104080931.8102-1-shperetz@nvidia.com> References: <20251104080931.8102-1-shperetz@nvidia.com> Content-Type: text/plain X-BeenThere: test-report@dpdk.org X-Mailman-Version: 2.1.29 Precedence: list List-Id: automatic DPDK test reports List-Unsubscribe: , List-Archive: List-Post: List-Help: List-Subscribe: , Errors-To: test-report-bounces@dpdk.org Test-Label: iol-unit-amd64-testing Test-Status: SUCCESS http://dpdk.org/patch/158418 _Testing PASS_ Submitter: Shani Peretz Date: Tuesday, November 04 2025 08:09:31 DPDK git baseline: Repo:dpdk-next-virtio Branch: master CommitID:6b37c26a95388aa41bb5267c7c42f604fd571a38 158418 --> testing pass Upstream job id: Generic-VM-Unit-Test-DPDK#32271 Test environment and result as below: +-------------------------------+----------------+ | Environment | dpdk_unit_test | +===============================+================+ | Red Hat Enterprise Linux 8.10 | PASS | +-------------------------------+----------------+ | Fedora Linux 42 | PASS | +-------------------------------+----------------+ | Fedora Linux 40 | PASS | +-------------------------------+----------------+ | Ubuntu 24.04 | PASS | +-------------------------------+----------------+ | Red Hat Enterprise Linux 9.5 | PASS | +-------------------------------+----------------+ | Ubuntu 20.04 | PASS | +-------------------------------+----------------+ | Fedora Linux 41 | PASS | +-------------------------------+----------------+ | Debian GNU/Linux 12 | PASS | +-------------------------------+----------------+ | CentOS Stream 10 | PASS | +-------------------------------+----------------+ | CentOS Stream 9 | PASS | +-------------------------------+----------------+ | Ubuntu 22.04 | PASS | +-------------------------------+----------------+ | Windows Server 2022 | PASS | +-------------------------------+----------------+ Red Hat Enterprise Linux 8.10 Kernel: 5.15 Compiler: gcc gcc (GCC) 8.5.0 20210514 (Red Hat 8.5.0-22) Fedora Linux 42 Kernel: 5.15 Compiler: clang gcc (GCC) 15.2.1 20250808 (Red Hat 15.2.1-1) Fedora Linux 40 Kernel: 5.15 Compiler: clang gcc (GCC) 14.2.1 20240912 (Red Hat 14.2.1-3) Ubuntu 24.04 Kernel: 5.15 Compiler: gcc gcc (Ubuntu 13.3.0-6ubuntu2~24.04) 13.3.0 Red Hat Enterprise Linux 9.5 Kernel: 5.15 Compiler: gcc gcc (GCC) 11.5.0 20240719 (Red Hat 11.5.0-2) Ubuntu 20.04 Kernel: 5.15 Compiler: gcc gcc (Ubuntu 9.4.0-1ubuntu1~20.04.2) 9.4.0 Fedora Linux 41 Kernel: 5.15 Compiler: gcc gcc (GCC) 14.3.1 20250523 (Red Hat 14.3.1-1) Debian GNU/Linux 12 Kernel: 5.15 Compiler: gcc gcc (Debian 12.2.0-14+deb12u1) 12.2.0 CentOS Stream 10 Kernel: 5.15 Compiler: gcc gcc (GCC) 14.2.1 20250110 (Red Hat 14.2.1-8) CentOS Stream 9 Kernel: 5.15 Compiler: gcc gcc (GCC) 11.5.0 20240719 (Red Hat 11.5.0-11) Ubuntu 22.04 Kernel: 5.15 Compiler: gcc gcc (Ubuntu 11.4.0-1ubuntu1~22.04) 11.4.0 Windows Server 2022 Kernel: 10.0.20348.2031 Compiler: clang 15.0.7, gcc 14.1.0 (MinGW), and MSVC VS 19.39.33521 To view detailed results, visit: https://lab.dpdk.org/results/dashboard/patchsets/34454/ UNH-IOL DPDK Community Lab To manage your email subscriptions, visit: https://lab.dpdk.org/results/dashboard/preferences/subscriptions/