From mboxrd@z Thu Jan 1 00:00:00 1970 Return-Path: Received: from mails.dpdk.org (mails.dpdk.org [217.70.189.124]) by inbox.dpdk.org (Postfix) with ESMTP id 4A17648AA5 for ; Tue, 4 Nov 2025 12:25:33 +0100 (CET) Received: from mails.dpdk.org (localhost [127.0.0.1]) by mails.dpdk.org (Postfix) with ESMTP id 45A9840285; Tue, 4 Nov 2025 12:25:33 +0100 (CET) Received: from mail-pl1-f227.google.com (mail-pl1-f227.google.com [209.85.214.227]) by mails.dpdk.org (Postfix) with ESMTP id 2729E40285 for ; Tue, 4 Nov 2025 12:25:32 +0100 (CET) Received: by mail-pl1-f227.google.com with SMTP id d9443c01a7336-2958db8ae4fso24217795ad.2 for ; Tue, 04 Nov 2025 03:25:32 -0800 (PST) DKIM-Signature: v=1; a=rsa-sha256; c=relaxed/relaxed; d=iol.unh.edu; s=unh-iol; t=1762255531; x=1762860331; darn=dpdk.org; h=references:in-reply-to:cc:to:from:subject:message-id:date:from:to :cc:subject:date:message-id:reply-to; bh=MjF/9yh8TXGYauwjuQkzv0WCzfMtXXfvsXLbvRvZn04=; b=FPUwGpsRo2VA1WK5yB7JjpD5TehoiwPW9aj5TbplRKjBxpxafmHowDLURojF7nTT34 WMhvcNQhwMMEs/YMKT3nH7fU8ypmmZ2pBVXAdgDWH7R3CrcGboG+N357VXfYzlPYngO3 p/Hinydy2FXX/AwLZZjnsveKPtPjGhPxv4J2Q= X-Google-DKIM-Signature: v=1; a=rsa-sha256; c=relaxed/relaxed; d=1e100.net; s=20230601; t=1762255531; x=1762860331; h=references:in-reply-to:cc:to:from:subject:message-id:date :x-gm-message-state:from:to:cc:subject:date:message-id:reply-to; bh=MjF/9yh8TXGYauwjuQkzv0WCzfMtXXfvsXLbvRvZn04=; b=r28oAh4WGG4Nv0qYjhW8sfHXEJVrpBFhfTvzapf1yBrO5X8Gd2dQO0lOsO1+i6GSN7 xEN+DCDckjut27PRU53CwsGFz1NkM3w/kXjCWxj6TnFv4zkB5fgUqyQwuXHdBe9ybh4h +X3hf3UgNu6BDKIyVRhgYjvfflO7UH7/rM4i3nSmxHNMkss1NopeZqTaVZbjaUDJHyx3 1OoqqFc7BMihIxQEGyuYXQJp1zaCJf2ikagQnXvBcHYRdlab0TxhxR4kDOwxkRUtoYKO 2msrhFRVhTXsoEDJvXiQ2gBrAsXA9kOJ1/9xtQVEzzz+n6XKZ2/zqNmCCLF18dWcCFGS 45nw== X-Gm-Message-State: AOJu0YzP28sima/KKzoOUaWfPF4mOhLCN+swrRxUPmwvRcAPFyN8i+KI bnZj0BvWF9Vo75oW1VUDDpvN4tKgJowAk0S8hPG8STQ3WFF5Bjf0TVeGScUx4CKRR7Wh5w7V05G fu5YsTmdcxQt/orGl+3ezdFk4Zo8l/D/pPQehYlHAA70F X-Gm-Gg: ASbGnct4VWWpHEbaAkKhl5zedZWjG/B6YRqF1QBFyHEvGSN+m7m2ef8emJ2KeWNIVxn 4mqlgw6J/+bEnVW7pvzgxkHuLUoOPoCysFpy66ho5FEGi97QEviSH6HebdWrTfHc5i5trB3LURJ eNFB2ql6h0pM2vtbVKUpdVD/It5/VwBKVGzJpgxIkH2mLMFjpn6fnlHT3wWrLfpNjEd/dsODeOs EYYdwNfVOCfz59w71/+2jXh6j2x344cDzdTZdVcFBUB4K2n5uKF0f9GUzfCYlWux9YXd/6Z8H54 CF8iuu8V/FuCM6sQuIGZ1DSm26NB9/xf/CjSUeGtUwtJ2fP78RgeeJ7S0VLNjDUSZPQAufpvr2S Wl2T9tgggI2GK08OBNluNos1iqm3qTRc= X-Google-Smtp-Source: AGHT+IHHxbH+jdAMlOkgFbRyqnRKbQC7WqBItk40n2U3NCESUD59o1pfDW4St3b2xQ08zooK71NimeLWyq3P X-Received: by 2002:a17:902:d4cb:b0:295:bedb:8d7 with SMTP id d9443c01a7336-295bedb0973mr88822395ad.48.1762255531371; Tue, 04 Nov 2025 03:25:31 -0800 (PST) Received: from postal.iol.unh.edu (postal.iol.unh.edu. [132.177.123.84]) by smtp-relay.gmail.com with ESMTPS id d9443c01a7336-2960195fe7bsm2123005ad.1.2025.11.04.03.25.31 (version=TLS1_2 cipher=ECDHE-ECDSA-AES128-GCM-SHA256 bits=128/128); Tue, 04 Nov 2025 03:25:31 -0800 (PST) X-Relaying-Domain: iol.unh.edu Date: Tue, 04 Nov 2025 03:25:31 -0800 (PST) Message-ID: <6909e2ab.170a0220.df4b2.b954SMTPIN_ADDED_MISSING@mx.google.com> Received: from [172.21.0.2] (unknown [172.18.0.240]) by postal.iol.unh.edu (Postfix) with ESMTP id 991556051830; Tue, 4 Nov 2025 06:25:30 -0500 (EST) Subject: |SUCCESS| pw158418 [PATCH] vhost: fix use-after-free race during cle From: dpdklab@iol.unh.edu To: Test Report Cc: dpdk-test-reports@iol.unh.edu, Chenbo Xia , Maxime Coquelin In-Reply-To: <20251104080931.8102-1-shperetz@nvidia.com> References: <20251104080931.8102-1-shperetz@nvidia.com> Content-Type: text/plain X-BeenThere: test-report@dpdk.org X-Mailman-Version: 2.1.29 Precedence: list List-Id: automatic DPDK test reports List-Unsubscribe: , List-Archive: List-Post: List-Help: List-Subscribe: , Errors-To: test-report-bounces@dpdk.org Test-Label: iol-compile-amd64-testing Test-Status: SUCCESS http://dpdk.org/patch/158418 _Testing PASS_ Submitter: Shani Peretz Date: Tuesday, November 04 2025 08:09:31 DPDK git baseline: Repo:dpdk-next-virtio Branch: master CommitID:6b37c26a95388aa41bb5267c7c42f604fd571a38 158418 --> testing pass Upstream job id: Windows-Compile-DPDK-Native#32098 Test environment and result as below: +-------------------------------+--------------------+------------------+-------------------+-------------------------+----------------------+ | Environment | dpdk_meson_compile | dpdk_compile_ovs | dpdk_msvc_compile | dpdk_llvm_clang_compile | dpdk_mingw64_compile | +===============================+====================+==================+===================+=========================+======================+ | CentOS Stream 10 | PASS | SKIPPED | SKIPPED | SKIPPED | SKIPPED | +-------------------------------+--------------------+------------------+-------------------+-------------------------+----------------------+ | CentOS Stream 9 | PASS | SKIPPED | SKIPPED | SKIPPED | SKIPPED | +-------------------------------+--------------------+------------------+-------------------+-------------------------+----------------------+ | Debian GNU/Linux 12 | PASS | SKIPPED | SKIPPED | SKIPPED | SKIPPED | +-------------------------------+--------------------+------------------+-------------------+-------------------------+----------------------+ | FreeBSD 14.2 | PASS | SKIPPED | SKIPPED | SKIPPED | SKIPPED | +-------------------------------+--------------------+------------------+-------------------+-------------------------+----------------------+ | Fedora Linux 42 | PASS | PASS | SKIPPED | SKIPPED | SKIPPED | +-------------------------------+--------------------+------------------+-------------------+-------------------------+----------------------+ | openSUSE Leap 15.6 | PASS | SKIPPED | SKIPPED | SKIPPED | SKIPPED | +-------------------------------+--------------------+------------------+-------------------+-------------------------+----------------------+ | Red Hat Enterprise Linux 8.10 | PASS | SKIPPED | SKIPPED | SKIPPED | SKIPPED | +-------------------------------+--------------------+------------------+-------------------+-------------------------+----------------------+ | Red Hat Enterprise Linux 9.5 | PASS | SKIPPED | SKIPPED | SKIPPED | SKIPPED | +-------------------------------+--------------------+------------------+-------------------+-------------------------+----------------------+ | Ubuntu 20.04 | PASS | SKIPPED | SKIPPED | SKIPPED | SKIPPED | +-------------------------------+--------------------+------------------+-------------------+-------------------------+----------------------+ | Ubuntu 22.04 | PASS | SKIPPED | SKIPPED | SKIPPED | SKIPPED | +-------------------------------+--------------------+------------------+-------------------+-------------------------+----------------------+ | Ubuntu 24.04 | PASS | PASS | SKIPPED | SKIPPED | SKIPPED | +-------------------------------+--------------------+------------------+-------------------+-------------------------+----------------------+ | Alpine Linux 3.22.0 | PASS | SKIPPED | SKIPPED | SKIPPED | SKIPPED | +-------------------------------+--------------------+------------------+-------------------+-------------------------+----------------------+ | Windows Server 2022 | SKIPPED | SKIPPED | PASS | PASS | PASS | +-------------------------------+--------------------+------------------+-------------------+-------------------------+----------------------+ CentOS Stream 10 Kernel: 5.15 Compiler: gcc gcc (GCC) 14.2.1 20250110 (Red Hat 14.2.1-8) CentOS Stream 9 Kernel: 5.15 Compiler: gcc gcc (GCC) 11.5.0 20240719 (Red Hat 11.5.0-11) Debian GNU/Linux 12 Kernel: 5.15 Compiler: gcc gcc (Debian 12.2.0-14+deb12u1) 12.2.0 FreeBSD 14.2 Kernel: 14.2-RELEASE Compiler: clang 18.1.6 Fedora Linux 42 Kernel: 5.15 Compiler: clang gcc (GCC) 15.2.1 20250808 (Red Hat 15.2.1-1) openSUSE Leap 15.6 Kernel: 5.15 Compiler: gcc gcc (SUSE Linux) 7.5.0 Red Hat Enterprise Linux 8.10 Kernel: 5.15 Compiler: gcc gcc (GCC) 8.5.0 20210514 (Red Hat 8.5.0-22) Red Hat Enterprise Linux 9.5 Kernel: 5.15 Compiler: gcc gcc (GCC) 11.5.0 20240719 (Red Hat 11.5.0-2) Ubuntu 20.04 Kernel: 5.15 Compiler: gcc gcc (Ubuntu 9.4.0-1ubuntu1~20.04.2) 9.4.0 Ubuntu 22.04 Kernel: 5.15 Compiler: gcc gcc (Ubuntu 11.4.0-1ubuntu1~22.04) 11.4.0 Ubuntu 24.04 Kernel: 5.15 Compiler: gcc gcc (Ubuntu 13.3.0-6ubuntu2~24.04) 13.3.0 Alpine Linux 3.22.0 Kernel: 5.15 Compiler: gcc gcc (Alpine 14.2.0) 14.2.0 Windows Server 2022 Kernel: 10.0.20348.2031 Compiler: clang 15.0.7, gcc 14.1.0 (MinGW), and MSVC VS 19.39.33521 To view detailed results, visit: https://lab.dpdk.org/results/dashboard/patchsets/34454/ UNH-IOL DPDK Community Lab To manage your email subscriptions, visit: https://lab.dpdk.org/results/dashboard/preferences/subscriptions/