From mboxrd@z Thu Jan 1 00:00:00 1970 Return-Path: Received: from mails.dpdk.org (mails.dpdk.org [217.70.189.124]) by inbox.dpdk.org (Postfix) with ESMTP id DBCEF48AA5 for ; Tue, 4 Nov 2025 12:30:51 +0100 (CET) Received: from mails.dpdk.org (localhost [127.0.0.1]) by mails.dpdk.org (Postfix) with ESMTP id B9DBB40285; Tue, 4 Nov 2025 12:30:51 +0100 (CET) Received: from mail-pl1-f227.google.com (mail-pl1-f227.google.com [209.85.214.227]) by mails.dpdk.org (Postfix) with ESMTP id 6C40D40285 for ; Tue, 4 Nov 2025 12:30:50 +0100 (CET) Received: by mail-pl1-f227.google.com with SMTP id d9443c01a7336-29555415c5fso39157555ad.1 for ; Tue, 04 Nov 2025 03:30:50 -0800 (PST) DKIM-Signature: v=1; a=rsa-sha256; c=relaxed/relaxed; d=iol.unh.edu; s=unh-iol; t=1762255849; x=1762860649; darn=dpdk.org; h=references:in-reply-to:cc:to:from:subject:message-id:date:from:to :cc:subject:date:message-id:reply-to; bh=Kmx608hzaM3oZyyP0IHlYwhXY7Kf+UY0/z86yzL9ido=; b=Pl3ZcMYYtbhAFsR7pFLthEwadKY9LCidzzDVnyx6mu7LsGgk6bYKskdNfldjsCzc8B RFFUyVDRK8cTMNnUOufDmEm07dahqRkvwFwqigE5J7Ih1Hyj0DbgfBzngBpcAIw/nc8K Xg91GgnNItqSlTI5awRZNS0nlVl9M8aUpzCOM= X-Google-DKIM-Signature: v=1; a=rsa-sha256; c=relaxed/relaxed; d=1e100.net; s=20230601; t=1762255849; x=1762860649; h=references:in-reply-to:cc:to:from:subject:message-id:date :x-gm-message-state:from:to:cc:subject:date:message-id:reply-to; bh=Kmx608hzaM3oZyyP0IHlYwhXY7Kf+UY0/z86yzL9ido=; b=e9qayFWnG3ue3HZ7gMUbNzbf75aybWUzb2j7dd2c90zkqrBKgbkAISvgsZsfOsrZbn JWfH99/R5Vgizer55OdghoArk0JrPTiNL5islb1xEYiPAOCgsbjhAfPpAiqmk4gwHC6Y uf1jUmPvnQWEI/v2gpbJopMbST1/QYFtXPR8Ollq6/UEg/KpItvDZcX0qehUvlFJq4av mrTVemnjBWzaNev9rVKdgfbEQiznplQi9Zk4nM0IW0GZPeSVI3VS/n++AMxf3tlHf79N NDtvCidp0kGICCqp9Xcg8XLVmMbLHGa9+2byo0racbgoVru8iKsQf9afn9Ojw+PZS99k oqdw== X-Gm-Message-State: AOJu0YyPVcpcjlRegh+yLNCBNP+I9vCPCbhEWBEccMUppD522BWZPoYV QZ+zmdtMhu7U3v9I8xThW+2zAI1t+n+bqszB4l88CpVk2lZFOMfuqhhQ3cwNrmlj5EuITX4bC22 feIZMIVWG/R3R+EPauz1TtZSVCKn0Ck728yQofqXhnuwj X-Gm-Gg: ASbGncuJnwJb/57aOxwlP5/Q3FEnvjPJsnCpvRITIrRbemc71C3V3HD+jltEsZeIjYX 6/mnYImoDz4HbYfMYQT/JwQDgnennbULGQR6UsN3etoj8Qb32bSScAJFaB+9Drlh1WxnbO6NiY1 E1NBm9ct5EgebaIHPzV0uR0d2YkwJ1Pws0EekTUFQgmcd+QEYvyIguSFkIe3SHbj07+1w11k/ll GAtxfykLOJM7jJijIIqRXGN3jrREmBcP8cyAgKc1qvUuXNe2CVwO98mxCap0/ZmVoV/WeHs/VKa tarW/Sdk84c6yDzakOj01NCw/P/phNqPBZ1F7+GGZZtx3Ch5Yz2Sr+eS2ZjOm1LiOr+jRIOE/sU hYi4TpCJJMNj/rgElD5gGxLh7Z/Hb6Ws= X-Google-Smtp-Source: AGHT+IH00uYcGAqomD68sNgXmbems6FncjhZ5wFBrkpQcQ7z7fauits5ewrFf4gW49vR6tf2cGk/ILxbb9TF X-Received: by 2002:a17:903:1210:b0:24e:3cf2:2453 with SMTP id d9443c01a7336-2951a57d923mr188980545ad.61.1762255849628; Tue, 04 Nov 2025 03:30:49 -0800 (PST) Received: from postal.iol.unh.edu (postal.iol.unh.edu. [132.177.123.84]) by smtp-relay.gmail.com with ESMTPS id d9443c01a7336-29601976af5sm1850435ad.14.2025.11.04.03.30.49 (version=TLS1_2 cipher=ECDHE-ECDSA-AES128-GCM-SHA256 bits=128/128); Tue, 04 Nov 2025 03:30:49 -0800 (PST) X-Relaying-Domain: iol.unh.edu Date: Tue, 04 Nov 2025 03:30:49 -0800 (PST) Message-ID: <6909e3e9.170a0220.945dc.a723SMTPIN_ADDED_MISSING@mx.google.com> Received: from [172.21.0.2] (unknown [172.18.0.240]) by postal.iol.unh.edu (Postfix) with ESMTP id B46476051830; Tue, 4 Nov 2025 06:30:48 -0500 (EST) Subject: |SUCCESS| pw158418 [PATCH] vhost: fix use-after-free race during cle From: dpdklab@iol.unh.edu To: Test Report Cc: dpdk-test-reports@iol.unh.edu, Chenbo Xia , Maxime Coquelin In-Reply-To: <20251104080931.8102-1-shperetz@nvidia.com> References: <20251104080931.8102-1-shperetz@nvidia.com> Content-Type: text/plain X-BeenThere: test-report@dpdk.org X-Mailman-Version: 2.1.29 Precedence: list List-Id: automatic DPDK test reports List-Unsubscribe: , List-Archive: List-Post: List-Help: List-Subscribe: , Errors-To: test-report-bounces@dpdk.org Test-Label: iol-unit-amd64-testing Test-Status: SUCCESS http://dpdk.org/patch/158418 _Testing PASS_ Submitter: Shani Peretz Date: Tuesday, November 04 2025 08:09:31 DPDK git baseline: Repo:dpdk-next-virtio Branch: master CommitID:6b37c26a95388aa41bb5267c7c42f604fd571a38 158418 --> testing pass Upstream job id: Generic-VM-Unit-Test-DPDK#32272 Test environment and result as below: +-------------------------------+----------------+ | Environment | dpdk_unit_test | +===============================+================+ | Red Hat Enterprise Linux 8.10 | PASS | +-------------------------------+----------------+ | Fedora Linux 42 | PASS | +-------------------------------+----------------+ | Fedora Linux 40 | PASS | +-------------------------------+----------------+ | Ubuntu 24.04 | PASS | +-------------------------------+----------------+ | Red Hat Enterprise Linux 9.5 | PASS | +-------------------------------+----------------+ | Ubuntu 20.04 | PASS | +-------------------------------+----------------+ | Fedora Linux 41 | PASS | +-------------------------------+----------------+ | Debian GNU/Linux 12 | PASS | +-------------------------------+----------------+ | CentOS Stream 10 | PASS | +-------------------------------+----------------+ | CentOS Stream 9 | PASS | +-------------------------------+----------------+ | Ubuntu 22.04 | PASS | +-------------------------------+----------------+ | Windows Server 2022 | PASS | +-------------------------------+----------------+ Red Hat Enterprise Linux 8.10 Kernel: 5.15 Compiler: gcc gcc (GCC) 8.5.0 20210514 (Red Hat 8.5.0-22) Fedora Linux 42 Kernel: 5.15 Compiler: clang gcc (GCC) 15.2.1 20250808 (Red Hat 15.2.1-1) Fedora Linux 40 Kernel: 5.15 Compiler: clang gcc (GCC) 14.2.1 20240912 (Red Hat 14.2.1-3) Ubuntu 24.04 Kernel: 5.15 Compiler: gcc gcc (Ubuntu 13.3.0-6ubuntu2~24.04) 13.3.0 Red Hat Enterprise Linux 9.5 Kernel: 5.15 Compiler: gcc gcc (GCC) 11.5.0 20240719 (Red Hat 11.5.0-2) Ubuntu 20.04 Kernel: 5.15 Compiler: gcc gcc (Ubuntu 9.4.0-1ubuntu1~20.04.2) 9.4.0 Fedora Linux 41 Kernel: 5.15 Compiler: gcc gcc (GCC) 14.3.1 20250523 (Red Hat 14.3.1-1) Debian GNU/Linux 12 Kernel: 5.15 Compiler: gcc gcc (Debian 12.2.0-14+deb12u1) 12.2.0 CentOS Stream 10 Kernel: 5.15 Compiler: gcc gcc (GCC) 14.2.1 20250110 (Red Hat 14.2.1-8) CentOS Stream 9 Kernel: 5.15 Compiler: gcc gcc (GCC) 11.5.0 20240719 (Red Hat 11.5.0-11) Ubuntu 22.04 Kernel: 5.15 Compiler: gcc gcc (Ubuntu 11.4.0-1ubuntu1~22.04) 11.4.0 Windows Server 2022 Kernel: 10.0.20348.2031 Compiler: clang 15.0.7, gcc 14.1.0 (MinGW), and MSVC VS 19.39.33521 To view detailed results, visit: https://lab.dpdk.org/results/dashboard/patchsets/34454/ UNH-IOL DPDK Community Lab To manage your email subscriptions, visit: https://lab.dpdk.org/results/dashboard/preferences/subscriptions/