From mboxrd@z Thu Jan 1 00:00:00 1970 Return-Path: Received: from mails.dpdk.org (mails.dpdk.org [217.70.189.124]) by inbox.dpdk.org (Postfix) with ESMTP id 79C1B48AA5 for ; Tue, 4 Nov 2025 12:35:11 +0100 (CET) Received: from mails.dpdk.org (localhost [127.0.0.1]) by mails.dpdk.org (Postfix) with ESMTP id 4A5E240285; Tue, 4 Nov 2025 12:35:11 +0100 (CET) Received: from mail-pl1-f225.google.com (mail-pl1-f225.google.com [209.85.214.225]) by mails.dpdk.org (Postfix) with ESMTP id B45A440285 for ; Tue, 4 Nov 2025 12:35:09 +0100 (CET) Received: by mail-pl1-f225.google.com with SMTP id d9443c01a7336-29524abfba3so40430415ad.1 for ; Tue, 04 Nov 2025 03:35:09 -0800 (PST) DKIM-Signature: v=1; a=rsa-sha256; c=relaxed/relaxed; d=iol.unh.edu; s=unh-iol; t=1762256109; x=1762860909; darn=dpdk.org; h=references:in-reply-to:cc:to:from:subject:message-id:date:from:to :cc:subject:date:message-id:reply-to; bh=E4BdrYDPCgAtqBmWsZ/VvAcKSfcIKQdUuOeZtJf2rXs=; b=jOTb86CRqrZoRNJU2oWDhPGfXFJ2QEmcgaWV4vWXHprqAMe6AgkJonEQxKYC8+7/FN QAuSgXAPrfGBpaZmP8bKObSUt7hQT5eWqG/9lCGyJbQaP3cWXgMPmaflcCknCdTBkyRE cBdZ9bpXNZ+sHV0++W2LeGBiItD6GTJMN0+dk= X-Google-DKIM-Signature: v=1; a=rsa-sha256; c=relaxed/relaxed; d=1e100.net; s=20230601; t=1762256109; x=1762860909; h=references:in-reply-to:cc:to:from:subject:message-id:date :x-gm-message-state:from:to:cc:subject:date:message-id:reply-to; bh=E4BdrYDPCgAtqBmWsZ/VvAcKSfcIKQdUuOeZtJf2rXs=; b=NdFBVNOEVn3A7KlWZTrXtchvLj+CljyzOdWEB6uzcdyL3P5dTdtPVT3kzfbOi1CpuO bzl5bYyGHYbF0rl9vkBQfTUIKk9czh4fooQdS8aJ2wR1jvmO7gkhdupJgGG7QPYQjU+3 setAO5obArHvhd/wGiW8Db+PxO6Wc8X6/emqADx5x1PdTvPXyZS/d/IdcIXjntDffVED Dc8W9naUna94f1MhIGilCIKbzNwbO3MhHPZTtFWpaIL/PmQoyKNhbwHRNqq8fJ/qfEmo jb6rCyKxDdBbUakiHwEAXrzuKX3D8+Agx/ZXr4JX777ErYdzmdquxTjgPOycelUH2+DF fZVA== X-Gm-Message-State: AOJu0Yx0zQiRLQDNoMZJcUWZzK2onLdnob+EmxjS7JlAQg50io1jjX6x QrsDTY/lXX6K+Binsq5hxu0zrg9elN3cDuq4c4A3DfNlnYdM7aMgfIrKiso8MPiGmfczSGRnuMs Ldr2n/TDFjs4vHEJbAVIm56F7BCj3BwbwspB2NFgS72Qz X-Gm-Gg: ASbGncvOH5gDSRh3Pcc7iVRjEdEw0SXSkmBhSTcnS60CboyXql0KfYirCp9znzQmhs8 3nAiaYu0TaqGK8sWQIQPiEEtHwOwls+HAzqrPIYXSDzgKizc7eIyOMPlQhat+MN0O/i76um8JA1 haxv+Us6fUJs6fqr/L9WPRiV8I27uiNRmzNXZkLs8TFr7JsqX1vgGf8X5pJQt+yVJYG5lHnciLG r48kQ6mAuzzkPXn1xUzli/TbeH0rsNNop/VHhviv7Kna92ShnZoUg4JBXsYh8eJHhRuVR4s9WxE blWWexJKPIn/CkQ0BRLrwu6Ar2L4E1qHmtOaEuaH3OWMAAoJTgO0j7oz59kCGsaS0RpX3KLoxRK sLLXnpfrS5An4XcEImQDhULBkwwF0oO8= X-Google-Smtp-Source: AGHT+IHI3IbSN1Wj0SblD969CxBuyp1dKLO+fMHWiif1WX+jHkfDHgXCGmxkx1Z6jrL9pfMLwIsbb4xKiNv2 X-Received: by 2002:a17:902:ea0e:b0:24e:81d2:cfda with SMTP id d9443c01a7336-29519b9ef83mr199378935ad.0.1762256108853; Tue, 04 Nov 2025 03:35:08 -0800 (PST) Received: from postal.iol.unh.edu (postal.iol.unh.edu. [132.177.123.84]) by smtp-relay.gmail.com with ESMTPS id d9443c01a7336-2960195fe12sm2094645ad.11.2025.11.04.03.35.08 (version=TLS1_2 cipher=ECDHE-ECDSA-AES128-GCM-SHA256 bits=128/128); Tue, 04 Nov 2025 03:35:08 -0800 (PST) X-Relaying-Domain: iol.unh.edu Date: Tue, 04 Nov 2025 03:35:08 -0800 (PST) Message-ID: <6909e4ec.170a0220.39fea7.bab3SMTPIN_ADDED_MISSING@mx.google.com> Received: from [172.21.0.2] (unknown [172.18.0.240]) by postal.iol.unh.edu (Postfix) with ESMTP id F23916051830; Tue, 4 Nov 2025 06:35:07 -0500 (EST) Subject: |SUCCESS| pw158413-158417 [PATCH] [v7,6/6] net/cnxk: report link mod From: dpdklab@iol.unh.edu To: Test Report Cc: dpdk-test-reports@iol.unh.edu In-Reply-To: <20251104080901.1610706-6-skori@marvell.com> References: <20251104080901.1610706-6-skori@marvell.com> Content-Type: text/plain X-BeenThere: test-report@dpdk.org X-Mailman-Version: 2.1.29 Precedence: list List-Id: automatic DPDK test reports List-Unsubscribe: , List-Archive: List-Post: List-Help: List-Subscribe: , Errors-To: test-report-bounces@dpdk.org Test-Label: iol-compile-amd64-testing Test-Status: SUCCESS http://dpdk.org/patch/158417 _Testing PASS_ Submitter: Sunil Kumar Kori Date: Tuesday, November 04 2025 08:08:54 DPDK git baseline: Repo:dpdk-next-net-mrvl Branch: master CommitID:39b54f2dcf44ad1f91eabc7080cd5dea763607fd 158413-158417 --> testing pass Upstream job id: Windows-Compile-DPDK-Native#32100 Test environment and result as below: +-------------------------------+--------------------+-------------------+------------------+-------------------------+----------------------+ | Environment | dpdk_meson_compile | dpdk_msvc_compile | dpdk_compile_ovs | dpdk_llvm_clang_compile | dpdk_mingw64_compile | +===============================+====================+===================+==================+=========================+======================+ | Ubuntu 20.04 | PASS | SKIPPED | SKIPPED | SKIPPED | SKIPPED | +-------------------------------+--------------------+-------------------+------------------+-------------------------+----------------------+ | FreeBSD 14.2 | PASS | SKIPPED | SKIPPED | SKIPPED | SKIPPED | +-------------------------------+--------------------+-------------------+------------------+-------------------------+----------------------+ | CentOS Stream 9 | PASS | SKIPPED | SKIPPED | SKIPPED | SKIPPED | +-------------------------------+--------------------+-------------------+------------------+-------------------------+----------------------+ | CentOS Stream 10 | PASS | SKIPPED | SKIPPED | SKIPPED | SKIPPED | +-------------------------------+--------------------+-------------------+------------------+-------------------------+----------------------+ | Debian GNU/Linux 12 | PASS | SKIPPED | SKIPPED | SKIPPED | SKIPPED | +-------------------------------+--------------------+-------------------+------------------+-------------------------+----------------------+ | Fedora Linux 42 | PASS | SKIPPED | PASS | SKIPPED | SKIPPED | +-------------------------------+--------------------+-------------------+------------------+-------------------------+----------------------+ | openSUSE Leap 15.6 | PASS | SKIPPED | SKIPPED | SKIPPED | SKIPPED | +-------------------------------+--------------------+-------------------+------------------+-------------------------+----------------------+ | Red Hat Enterprise Linux 8.10 | PASS | SKIPPED | SKIPPED | SKIPPED | SKIPPED | +-------------------------------+--------------------+-------------------+------------------+-------------------------+----------------------+ | Red Hat Enterprise Linux 9.5 | PASS | SKIPPED | SKIPPED | SKIPPED | SKIPPED | +-------------------------------+--------------------+-------------------+------------------+-------------------------+----------------------+ | Ubuntu 22.04 | PASS | SKIPPED | SKIPPED | SKIPPED | SKIPPED | +-------------------------------+--------------------+-------------------+------------------+-------------------------+----------------------+ | Ubuntu 24.04 | PASS | SKIPPED | PASS | SKIPPED | SKIPPED | +-------------------------------+--------------------+-------------------+------------------+-------------------------+----------------------+ | Alpine Linux 3.22.0 | PASS | SKIPPED | SKIPPED | SKIPPED | SKIPPED | +-------------------------------+--------------------+-------------------+------------------+-------------------------+----------------------+ | Windows Server 2022 | SKIPPED | PASS | SKIPPED | PASS | PASS | +-------------------------------+--------------------+-------------------+------------------+-------------------------+----------------------+ Ubuntu 20.04 Kernel: 4.19 Compiler: gcc gcc (Ubuntu 9.4.0-1ubuntu1~20.04.2) 9.4.0 FreeBSD 14.2 Kernel: 14.2-RELEASE Compiler: clang 18.1.6 CentOS Stream 9 Kernel: 5.15 Compiler: gcc gcc (GCC) 11.5.0 20240719 (Red Hat 11.5.0-11) CentOS Stream 10 Kernel: 5.15 Compiler: gcc gcc (GCC) 14.2.1 20250110 (Red Hat 14.2.1-8) Debian GNU/Linux 12 Kernel: 5.15 Compiler: gcc gcc (Debian 12.2.0-14+deb12u1) 12.2.0 Fedora Linux 42 Kernel: 5.15 Compiler: clang gcc (GCC) 15.2.1 20250808 (Red Hat 15.2.1-1) openSUSE Leap 15.6 Kernel: 5.15 Compiler: gcc gcc (SUSE Linux) 7.5.0 Red Hat Enterprise Linux 8.10 Kernel: 5.15 Compiler: gcc gcc (GCC) 8.5.0 20210514 (Red Hat 8.5.0-22) Red Hat Enterprise Linux 9.5 Kernel: 5.15 Compiler: gcc gcc (GCC) 11.5.0 20240719 (Red Hat 11.5.0-2) Ubuntu 22.04 Kernel: 5.15 Compiler: gcc gcc (Ubuntu 11.4.0-1ubuntu1~22.04) 11.4.0 Ubuntu 24.04 Kernel: 5.15 Compiler: gcc gcc (Ubuntu 13.3.0-6ubuntu2~24.04) 13.3.0 Alpine Linux 3.22.0 Kernel: 5.15 Compiler: gcc gcc (Alpine 14.2.0) 14.2.0 Windows Server 2022 Kernel: 10.0.20348.2031 Compiler: clang 15.0.7, gcc 14.1.0 (MinGW), and MSVC VS 19.39.33521 To view detailed results, visit: https://lab.dpdk.org/results/dashboard/patchsets/34455/ UNH-IOL DPDK Community Lab To manage your email subscriptions, visit: https://lab.dpdk.org/results/dashboard/preferences/subscriptions/