From mboxrd@z Thu Jan 1 00:00:00 1970 Return-Path: Received: from mails.dpdk.org (mails.dpdk.org [217.70.189.124]) by inbox.dpdk.org (Postfix) with ESMTP id CC18A48AA5 for ; Tue, 4 Nov 2025 12:46:38 +0100 (CET) Received: from mails.dpdk.org (localhost [127.0.0.1]) by mails.dpdk.org (Postfix) with ESMTP id C468840285; Tue, 4 Nov 2025 12:46:38 +0100 (CET) Received: from mail-pl1-f227.google.com (mail-pl1-f227.google.com [209.85.214.227]) by mails.dpdk.org (Postfix) with ESMTP id A87E040285 for ; Tue, 4 Nov 2025 12:46:37 +0100 (CET) Received: by mail-pl1-f227.google.com with SMTP id d9443c01a7336-26d0fbe238bso42994965ad.3 for ; Tue, 04 Nov 2025 03:46:37 -0800 (PST) DKIM-Signature: v=1; a=rsa-sha256; c=relaxed/relaxed; d=iol.unh.edu; s=unh-iol; t=1762256797; x=1762861597; darn=dpdk.org; h=references:in-reply-to:cc:to:from:subject:message-id:date:from:to :cc:subject:date:message-id:reply-to; bh=quLluCsMCr7cBxsGzDILVNheDjeUX5go8jtapJVIcfw=; b=HSspnfefEAzcE8eJ5IZ5ip89ll/RNxgR9kU+PZOgz8hVWGu1eRCEMnUKFQvt6czLak bmvjjQkL+2Zip3ZVmji4c0LOu5mS/uqSaxav9noNEdQ/gXWsU/uUWEaUenjgsJN0RPj7 jb+usbTnDnG3SiguBIbIIAEJ6NZwHZD3EdKz0= X-Google-DKIM-Signature: v=1; a=rsa-sha256; c=relaxed/relaxed; d=1e100.net; s=20230601; t=1762256797; x=1762861597; h=references:in-reply-to:cc:to:from:subject:message-id:date :x-gm-message-state:from:to:cc:subject:date:message-id:reply-to; bh=quLluCsMCr7cBxsGzDILVNheDjeUX5go8jtapJVIcfw=; b=dZI0ovSwcjSkCeYrgP9T/NfY9fGySbzLKKBnB6pPvLnXOYrRxUHXAFB1zcY+Uc3ZrZ zfNS4HRkRUhn7tX87e0ex9xri55kL4FlDSzOexeacFR5BNjPy3MrGSzTicNoZ4/M3xdj F9A/udt5kmnNZzkR3sFaxzISs6mfY+IgjMA0MRr441vPsGdyP0+HB0wlmh+M1JRhWU3M fd/wJtb4n0QxAacRxSQaX5uzijsCDFbmbbdWl28YUliirzvQwFAH4Pp+Ezwg0L17BNZN erQQtYc9ni20KlGFGd7rLswojgAJEAJlf6yUbp4yGD1R0a6UJJqeyzVne9aTWWI+SneC n40w== X-Gm-Message-State: AOJu0Yz8ig7XAHcAbTw0H+C4WqfBSpqE883nT0LUhY/K708Lf2UG5sOy gBJbT3HKUneSYfIg9/3YED0LTJ3EdmNrwwehMnYi8UL8lLF9oD4tDZiNYcUq7MNCOVwiIW0eq2Q hKd+Vf7STEvrjvZDxsC0nQjwuHW9CTfUt8kWlQrNYeb5u X-Gm-Gg: ASbGncsmPc8FWKRsbwlMByUBVdeZJUhfoJgbf1Anw8d1WwOBbimj9Gp4B42gYqQ8GuL 0qqBsCXbTXQuWK19RyWR4FGCWYImxYSXFUs2y22yFOhipBhZjLCgLTHAELS79EZEZlfmzPTrJu5 YhIXkwx7pXO09VeeQ1Q6KB/8qKIK66J4I/hOvVR9u//v0amTN5ccZEXiCwRmkQBRAnqKGbH5YO6 MjcaCJzvHEOlV/10noG+clnYsEXCpxn4zqrJU5BFSXg2NitOKqlPwxFfn+2fACWVn+AkSiLJlVw /mU1/eFy8nMmBlVmuUszZQyQ0bg2S3nUyCvwL8ZrgsM/UV/YIPoKeIB8KJFxj0NfjvoF/ZEsgtw ABK3Gc5CaPSTdBgtG73Yu2g4GPODRyNI= X-Google-Smtp-Source: AGHT+IEenzyopSRmf1aN3kVMW5AFFIEP7kId621KVT9s8jhMZvyuP9sdMuefZWVtEU+AG0+RN3Khzg/X2WWj X-Received: by 2002:a17:902:d488:b0:295:9db1:ff37 with SMTP id d9443c01a7336-2959db20880mr104752385ad.3.1762256796970; Tue, 04 Nov 2025 03:46:36 -0800 (PST) Received: from postal.iol.unh.edu (postal.iol.unh.edu. [132.177.123.84]) by smtp-relay.gmail.com with ESMTPS id d9443c01a7336-2960195fe7bsm2173465ad.1.2025.11.04.03.46.36 (version=TLS1_2 cipher=ECDHE-ECDSA-AES128-GCM-SHA256 bits=128/128); Tue, 04 Nov 2025 03:46:36 -0800 (PST) X-Relaying-Domain: iol.unh.edu Date: Tue, 04 Nov 2025 03:46:36 -0800 (PST) Message-ID: <6909e79c.170a0220.df4b2.bd5cSMTPIN_ADDED_MISSING@mx.google.com> Received: from [172.21.0.3] (unknown [172.18.0.240]) by postal.iol.unh.edu (Postfix) with ESMTP id B73D46051830; Tue, 4 Nov 2025 06:46:35 -0500 (EST) Subject: |SUCCESS| pw158413-158417 [PATCH] [v7,6/6] net/cnxk: report link mod From: dpdklab@iol.unh.edu To: Test Report Cc: dpdk-test-reports@iol.unh.edu In-Reply-To: <20251104080901.1610706-6-skori@marvell.com> References: <20251104080901.1610706-6-skori@marvell.com> Content-Type: text/plain X-BeenThere: test-report@dpdk.org X-Mailman-Version: 2.1.29 Precedence: list List-Id: automatic DPDK test reports List-Unsubscribe: , List-Archive: List-Post: List-Help: List-Subscribe: , Errors-To: test-report-bounces@dpdk.org Test-Label: iol-unit-amd64-testing Test-Status: SUCCESS http://dpdk.org/patch/158417 _Testing PASS_ Submitter: Sunil Kumar Kori Date: Tuesday, November 04 2025 08:08:54 DPDK git baseline: Repo:dpdk-next-net-mrvl Branch: master CommitID:39b54f2dcf44ad1f91eabc7080cd5dea763607fd 158413-158417 --> testing pass Upstream job id: Generic-VM-Unit-Test-DPDK#32273 Test environment and result as below: +-------------------------------+----------------+ | Environment | dpdk_unit_test | +===============================+================+ | CentOS Stream 9 | PASS | +-------------------------------+----------------+ | CentOS Stream 10 | PASS | +-------------------------------+----------------+ | Debian GNU/Linux 12 | PASS | +-------------------------------+----------------+ | Fedora Linux 41 | PASS | +-------------------------------+----------------+ | Fedora Linux 40 | PASS | +-------------------------------+----------------+ | Fedora Linux 42 | PASS | +-------------------------------+----------------+ | Red Hat Enterprise Linux 8.10 | PASS | +-------------------------------+----------------+ | Red Hat Enterprise Linux 9.5 | PASS | +-------------------------------+----------------+ | Ubuntu 24.04 | PASS | +-------------------------------+----------------+ | Ubuntu 22.04 | PASS | +-------------------------------+----------------+ | Ubuntu 20.04 | PASS | +-------------------------------+----------------+ | Windows Server 2022 | PASS | +-------------------------------+----------------+ CentOS Stream 9 Kernel: 5.15 Compiler: gcc gcc (GCC) 11.5.0 20240719 (Red Hat 11.5.0-11) CentOS Stream 10 Kernel: 5.15 Compiler: gcc gcc (GCC) 14.2.1 20250110 (Red Hat 14.2.1-8) Debian GNU/Linux 12 Kernel: 5.15 Compiler: gcc gcc (Debian 12.2.0-14+deb12u1) 12.2.0 Fedora Linux 41 Kernel: 5.15 Compiler: clang gcc (GCC) 14.3.1 20250523 (Red Hat 14.3.1-1) Fedora Linux 40 Kernel: 5.15 Compiler: gcc gcc (GCC) 14.2.1 20240912 (Red Hat 14.2.1-3) Fedora Linux 42 Kernel: 5.15 Compiler: clang gcc (GCC) 15.2.1 20250808 (Red Hat 15.2.1-1) Red Hat Enterprise Linux 8.10 Kernel: 5.15 Compiler: gcc gcc (GCC) 8.5.0 20210514 (Red Hat 8.5.0-22) Red Hat Enterprise Linux 9.5 Kernel: 5.15 Compiler: gcc gcc (GCC) 11.5.0 20240719 (Red Hat 11.5.0-2) Ubuntu 24.04 Kernel: 5.15 Compiler: gcc gcc (Ubuntu 13.3.0-6ubuntu2~24.04) 13.3.0 Ubuntu 22.04 Kernel: 5.15 Compiler: gcc gcc (Ubuntu 11.4.0-1ubuntu1~22.04) 11.4.0 Ubuntu 20.04 Kernel: 5.15 Compiler: gcc gcc (Ubuntu 9.4.0-1ubuntu1~20.04.2) 9.4.0 Windows Server 2022 Kernel: 10.0.20348.2031 Compiler: clang 15.0.7, gcc 14.1.0 (MinGW), and MSVC VS 19.39.33521 To view detailed results, visit: https://lab.dpdk.org/results/dashboard/patchsets/34455/ UNH-IOL DPDK Community Lab To manage your email subscriptions, visit: https://lab.dpdk.org/results/dashboard/preferences/subscriptions/