From mboxrd@z Thu Jan 1 00:00:00 1970 Return-Path: Received: from mails.dpdk.org (mails.dpdk.org [217.70.189.124]) by inbox.dpdk.org (Postfix) with ESMTP id C45B948AA7 for ; Tue, 4 Nov 2025 13:17:07 +0100 (CET) Received: from mails.dpdk.org (localhost [127.0.0.1]) by mails.dpdk.org (Postfix) with ESMTP id BE7C540285; Tue, 4 Nov 2025 13:17:07 +0100 (CET) Received: from mail-oa1-f100.google.com (mail-oa1-f100.google.com [209.85.160.100]) by mails.dpdk.org (Postfix) with ESMTP id 3700140285 for ; Tue, 4 Nov 2025 13:17:06 +0100 (CET) Received: by mail-oa1-f100.google.com with SMTP id 586e51a60fabf-3e12fd71984so98691fac.2 for ; Tue, 04 Nov 2025 04:17:06 -0800 (PST) DKIM-Signature: v=1; a=rsa-sha256; c=relaxed/relaxed; d=iol.unh.edu; s=unh-iol; t=1762258625; x=1762863425; darn=dpdk.org; h=references:in-reply-to:cc:to:from:subject:message-id:date:from:to :cc:subject:date:message-id:reply-to; bh=KTqVAsLEjYRsb3mhTSctUkAGqfsnNvp5ol4VHT8aXuc=; b=g8bA7L53TIuC4BB0mgL4c3eGvwUHmnD0bjCA8W5tAcQyn7LNDozY4gM7LtsnwON8/X d8VUErvp3Qzw7tJ0xfpdXI6V7ms6vO2Qu4Ir9MRI2O9c3/7DG1RHBjNBd6NgifAJArEB 6z5/Ht79+vOQpqu+4nVbFbdULRk8sFDMRqw7Y= X-Google-DKIM-Signature: v=1; a=rsa-sha256; c=relaxed/relaxed; d=1e100.net; s=20230601; t=1762258625; x=1762863425; h=references:in-reply-to:cc:to:from:subject:message-id:date :x-gm-message-state:from:to:cc:subject:date:message-id:reply-to; bh=KTqVAsLEjYRsb3mhTSctUkAGqfsnNvp5ol4VHT8aXuc=; b=u0rwqsF00C8lWRibILyiPQSi0IsE1ON7zbYYjzw8QX8cnLdaMtg2H29SGEEd627eMa NdBB98o2ZUytqoNFjVLtRguQOZmgt6VwpQS0t2CJ1Ym5LdI8tGu9hvQ3903Ysm1/VwhF R9roIHKPYGMORh2uTvga33CtdLY2islTy/ZBMDIc52G1D5+TWm+jfyGD+JN8uLN1BJeu XZ1u0yJHD2SS9CIZRmdzIIciL2DUy6PpeasVBuab/PG+bvVcI3eVBKmGYi2mbs1dPRWN JKnItazyzszMlBVrE4/t32ngj7WYV5iioqEiwON1OM40t6c4RgZKrpxYChwNayhRJ37l iT6g== X-Gm-Message-State: AOJu0Yx2HF5yhvnF3MfKBp2r1/LJFFruk73ClkQjooz8sPWrIi27kSNz 44qhgXCFbMPIwUsmLnqK8rlKF/vu16LlrT3WwqWjPkS3GQ6pUsOCbVwfj7IrXnqV8y7GF4awRSG FUcjF9KIRNBd9Luln6E9PelV/f/Ez5v8uaXffHZZVxeiVzKPPYTmjKT2BD/Yh X-Gm-Gg: ASbGncs8j8HM1/X1ZfF31rX9KXjuJgUZ5Cm47es8Twk5jaYbbe0xONPmkuPfuykAzxV U+XYN/9CjDpHQSp60Y7zaIOe4jALC3VGpQjgFnkcT7xC8Kppa8XYivzpJn9fryh6Q90LkpafnuR fnOnhmyfD8D5YdadgK3Famlqdc8veuRBuSeLt5jB/i5eIB1zKDK8PPlGLdyeNKNtDY8bwSrQ+Cg wmtCaqYvlsmC9ef2KZo6st3c1kzfYN7dULztdSoDhXB0nSN9ujpYbDYT1C05ZXaeGvprLA8xCNk ibxtw/+FZENcLmUYCiwwp7NqmmHDBNMJp6wxFdw664pEoVlV2HcgHQEJzypXgS9p0hakxJjiWku 8ehNZnMep X-Google-Smtp-Source: AGHT+IE3oXfdHZENH2tnzrKoTAICL5hf4pId8tPGtrf8w+u7FQO8AOiLBgwcC234arSJbjzwA6nFESq2dwkc X-Received: by 2002:a05:6871:5290:b0:3d6:9452:2c77 with SMTP id 586e51a60fabf-3daccf04062mr7226760fac.46.1762258625328; Tue, 04 Nov 2025 04:17:05 -0800 (PST) Received: from postal.iol.unh.edu (postal.iol.unh.edu. [2606:4100:3880:1234::84]) by smtp-relay.gmail.com with ESMTPS id 586e51a60fabf-3dff7761ec4sm239194fac.21.2025.11.04.04.17.05 (version=TLS1_2 cipher=ECDHE-ECDSA-AES128-GCM-SHA256 bits=128/128); Tue, 04 Nov 2025 04:17:05 -0800 (PST) X-Relaying-Domain: iol.unh.edu Date: Tue, 04 Nov 2025 04:17:05 -0800 (PST) Message-ID: <6909eec1.050a0220.291e25.d69cSMTPIN_ADDED_MISSING@mx.google.com> Received: from [172.21.0.2] (unknown [172.18.0.240]) by postal.iol.unh.edu (Postfix) with ESMTP id 80EF26051830; Tue, 4 Nov 2025 07:17:04 -0500 (EST) Subject: |SUCCESS| pw158420 [PATCH] net/fm10k: fix build with GCC 16 From: dpdklab@iol.unh.edu To: Test Report Cc: dpdk-test-reports@iol.unh.edu, Bruce Richardson In-Reply-To: <20251104111515.1728873-1-bruce.richardson@intel.com> References: <20251104111515.1728873-1-bruce.richardson@intel.com> Content-Type: text/plain X-BeenThere: test-report@dpdk.org X-Mailman-Version: 2.1.29 Precedence: list List-Id: automatic DPDK test reports List-Unsubscribe: , List-Archive: List-Post: List-Help: List-Subscribe: , Errors-To: test-report-bounces@dpdk.org Test-Label: iol-unit-amd64-testing Test-Status: SUCCESS http://dpdk.org/patch/158420 _Testing PASS_ Submitter: Bruce Richardson Date: Tuesday, November 04 2025 11:15:15 DPDK git baseline: Repo:dpdk-next-net-intel Branch: master CommitID:40de0ba36a04ef80e8a2ac90c240183fc2c6d1b4 158420 --> testing pass Upstream job id: Generic-Unit-Test-DPDK#388385 Test environment and result as below: +-------------------------------+----------------+ | Environment | dpdk_unit_test | +===============================+================+ | CentOS Stream 9 | PASS | +-------------------------------+----------------+ | Fedora Linux 41 | PASS | +-------------------------------+----------------+ | Fedora Linux 40 | PASS | +-------------------------------+----------------+ | Red Hat Enterprise Linux 9.5 | PASS | +-------------------------------+----------------+ | Red Hat Enterprise Linux 8.10 | PASS | +-------------------------------+----------------+ | Fedora Linux 42 | PASS | +-------------------------------+----------------+ | Ubuntu 22.04 | PASS | +-------------------------------+----------------+ | CentOS Stream 10 | PASS | +-------------------------------+----------------+ | Ubuntu 24.04 | PASS | +-------------------------------+----------------+ | Debian GNU/Linux 12 | PASS | +-------------------------------+----------------+ | Ubuntu 20.04 | PASS | +-------------------------------+----------------+ CentOS Stream 9 Kernel: 5.15 Compiler: gcc gcc (GCC) 11.5.0 20240719 (Red Hat 11.5.0-11) Fedora Linux 41 Kernel: 5.15 Compiler: gcc gcc (GCC) 14.3.1 20250523 (Red Hat 14.3.1-1) Fedora Linux 40 Kernel: 5.15 Compiler: clang gcc (GCC) 14.2.1 20240912 (Red Hat 14.2.1-3) Red Hat Enterprise Linux 9.5 Kernel: 5.15 Compiler: gcc gcc (GCC) 11.5.0 20240719 (Red Hat 11.5.0-2) Red Hat Enterprise Linux 8.10 Kernel: 5.15 Compiler: gcc gcc (GCC) 8.5.0 20210514 (Red Hat 8.5.0-22) Fedora Linux 42 Kernel: 5.15 Compiler: clang gcc (GCC) 15.2.1 20250808 (Red Hat 15.2.1-1) Ubuntu 22.04 Kernel: 5.15 Compiler: gcc gcc (Ubuntu 11.4.0-1ubuntu1~22.04) 11.4.0 CentOS Stream 10 Kernel: 5.15 Compiler: gcc gcc (GCC) 14.2.1 20250110 (Red Hat 14.2.1-8) Ubuntu 24.04 Kernel: 5.15 Compiler: gcc gcc (Ubuntu 13.3.0-6ubuntu2~24.04) 13.3.0 Debian GNU/Linux 12 Kernel: 5.15 Compiler: gcc gcc (Debian 12.2.0-14+deb12u1) 12.2.0 Ubuntu 20.04 Kernel: 5.15 Compiler: gcc gcc (Ubuntu 9.4.0-1ubuntu1~20.04.2) 9.4.0 To view detailed results, visit: https://lab.dpdk.org/results/dashboard/patchsets/34457/ UNH-IOL DPDK Community Lab To manage your email subscriptions, visit: https://lab.dpdk.org/results/dashboard/preferences/subscriptions/