From mboxrd@z Thu Jan 1 00:00:00 1970 Return-Path: Received: from mails.dpdk.org (mails.dpdk.org [217.70.189.124]) by inbox.dpdk.org (Postfix) with ESMTP id D7B2648AA7 for ; Tue, 4 Nov 2025 13:38:22 +0100 (CET) Received: from mails.dpdk.org (localhost [127.0.0.1]) by mails.dpdk.org (Postfix) with ESMTP id BCA9140285; Tue, 4 Nov 2025 13:38:22 +0100 (CET) Received: from mail-vk1-f228.google.com (mail-vk1-f228.google.com [209.85.221.228]) by mails.dpdk.org (Postfix) with ESMTP id 04A6240285 for ; Tue, 4 Nov 2025 13:38:21 +0100 (CET) Received: by mail-vk1-f228.google.com with SMTP id 71dfb90a1353d-5563c36f6d4so5206517e0c.1 for ; Tue, 04 Nov 2025 04:38:21 -0800 (PST) DKIM-Signature: v=1; a=rsa-sha256; c=relaxed/relaxed; d=iol.unh.edu; s=unh-iol; t=1762259901; x=1762864701; darn=dpdk.org; h=references:in-reply-to:cc:to:from:subject:message-id:date:from:to :cc:subject:date:message-id:reply-to; bh=ULk4945F2xeYkvBgDOVy+YkMpRA+Y5i0H6gxilp46Vc=; b=ASumKo25eugL9MxG05rTCBEHVMRkI1J+gdQwv3omFWw6OUkBDWSKCA1jtw1+rHKoWD UZ/pTpqt+Kq28iTgW+rMNyQRpWIqvnZQmsa/HIgD/dg+Ojb7CQvGNU6xX2uFabw7nsDt VoYqJwa3kBUSg+lAv0f1z5QxFz24ppFTVXB+Q= X-Google-DKIM-Signature: v=1; a=rsa-sha256; c=relaxed/relaxed; d=1e100.net; s=20230601; t=1762259901; x=1762864701; h=references:in-reply-to:cc:to:from:subject:message-id:date :x-gm-message-state:from:to:cc:subject:date:message-id:reply-to; bh=ULk4945F2xeYkvBgDOVy+YkMpRA+Y5i0H6gxilp46Vc=; b=MvolAbbxzTr3oeYL77IcNNPbui2Pv3bAYfEt9Fb0F73gDnpRTTmqNPbIZ0WwG/dRs6 93l2K8D8mrCLHHtPi95TfoA7QmfsPCSpXTGkoENO5Bu4mokgTZWwiuagsQPS6ck2RSjl R7fX+qQj6GLw28viziKe5zPIyGP6K46guuSPNl486KjPijqq7Yiz31nHVZggR8rTQjkg rL3102312DoqDjOr8/c2JIRg0zLRR0n4P401H3L0/aYRyRZeiT+emAmYEN/cgstgw4S9 dzLMOx59OhYyOH1uAjfBKd8A9gW0GYRGb+MIJo3sN/2W3BFgHF2n2zCncA1B5z1RzEDM sNbQ== X-Gm-Message-State: AOJu0Yx/9IYTybgWjUKyDXO5jxhotNdxTpCis06wZ5ch19tvg3v+S8y6 EZYYku3UTJ5z/EGC8phFm/sBVC+DU/e5Xft6oayYJqGDWe8RSDO5+xTjW4cLGdBwjIbGSYGUifT qaq09kJaH6VhOO4gQyWZBctRNFDxH6iyfmHPLMUWCUsEq X-Gm-Gg: ASbGncuinhuoLZhAnuX3G7y/v42/Q/3xryXUYX/y8v9W6cRWC8kXND3W0XiqLq7xYxY JlgwPUMzUObPiTmnR9r1c555M6MJ2qq7xSCs2y/Qbp7basNEmdavJ3NYMz1I2EzPasd7ErXSJOI PclDDTdp0N/UhfAMg2UGi+ZU/T/Z0BXDf+q2YxY7ybNvUXI1Nl+A0f9C14qbB5QldFIDbpe0FGt sDZfhHFqWaVQ6hGRhACf1JG73T5fORfDjOeSL8Q9GMl31FbYY+CCsjnwj6/74bsTxSsUwkXmf5+ dg0UrtuQ15OOI7R1FpyhQh2JeJAhm9cfXPOw03WumvjXeYza9xzjqGgviNY4tQehhKLQqejzz1P 9KjZTEVKD1DbaXxT4gtETn+twpKMemPM= X-Google-Smtp-Source: AGHT+IGPOBSZA1WSFbiKYCOxnZ8UM4x9Yz+w1zAEUoPdIviuRIYEfhu7cBQizwQElw4f0qDyxX7YRgN8ZQHF X-Received: by 2002:a05:6122:18b5:b0:556:48e7:e442 with SMTP id 71dfb90a1353d-5597743c8c0mr690039e0c.6.1762259901230; Tue, 04 Nov 2025 04:38:21 -0800 (PST) Received: from postal.iol.unh.edu (postal.iol.unh.edu. [132.177.123.84]) by smtp-relay.gmail.com with ESMTPS id 71dfb90a1353d-55973c748fdsm259232e0c.5.2025.11.04.04.38.21 (version=TLS1_2 cipher=ECDHE-ECDSA-AES128-GCM-SHA256 bits=128/128); Tue, 04 Nov 2025 04:38:21 -0800 (PST) X-Relaying-Domain: iol.unh.edu Date: Tue, 04 Nov 2025 04:38:21 -0800 (PST) Message-ID: <6909f3bd.050a0220.2015ad.e52eSMTPIN_ADDED_MISSING@mx.google.com> Received: from [172.21.0.3] (unknown [172.18.0.240]) by postal.iol.unh.edu (Postfix) with ESMTP id ADCB86051830; Tue, 4 Nov 2025 07:38:20 -0500 (EST) Subject: |SUCCESS| pw158420 [PATCH] net/fm10k: fix build with GCC 16 From: dpdklab@iol.unh.edu To: Test Report Cc: dpdk-test-reports@iol.unh.edu, Bruce Richardson In-Reply-To: <20251104111515.1728873-1-bruce.richardson@intel.com> References: <20251104111515.1728873-1-bruce.richardson@intel.com> Content-Type: text/plain X-BeenThere: test-report@dpdk.org X-Mailman-Version: 2.1.29 Precedence: list List-Id: automatic DPDK test reports List-Unsubscribe: , List-Archive: List-Post: List-Help: List-Subscribe: , Errors-To: test-report-bounces@dpdk.org Test-Label: iol-compile-amd64-testing Test-Status: SUCCESS http://dpdk.org/patch/158420 _Testing PASS_ Submitter: Bruce Richardson Date: Tuesday, November 04 2025 11:15:15 DPDK git baseline: Repo:dpdk-next-net-intel Branch: master CommitID:40de0ba36a04ef80e8a2ac90c240183fc2c6d1b4 158420 --> testing pass Upstream job id: Windows-Compile-DPDK-Native#32103 Test environment and result as below: +-------------------------------+--------------------+------------------+-------------------+-------------------------+ | Environment | dpdk_meson_compile | dpdk_compile_ovs | dpdk_msvc_compile | dpdk_llvm_clang_compile | +===============================+====================+==================+===================+=========================+ | Ubuntu 20.04 | PASS | SKIPPED | SKIPPED | SKIPPED | +-------------------------------+--------------------+------------------+-------------------+-------------------------+ | FreeBSD 14.2 | PASS | SKIPPED | SKIPPED | SKIPPED | +-------------------------------+--------------------+------------------+-------------------+-------------------------+ | CentOS Stream 10 | PASS | SKIPPED | SKIPPED | SKIPPED | +-------------------------------+--------------------+------------------+-------------------+-------------------------+ | openSUSE Leap 15.6 | PASS | SKIPPED | SKIPPED | SKIPPED | +-------------------------------+--------------------+------------------+-------------------+-------------------------+ | Fedora Linux 42 | PASS | PASS | SKIPPED | SKIPPED | +-------------------------------+--------------------+------------------+-------------------+-------------------------+ | CentOS Stream 9 | PASS | SKIPPED | SKIPPED | SKIPPED | +-------------------------------+--------------------+------------------+-------------------+-------------------------+ | Ubuntu 24.04 | PASS | PASS | SKIPPED | SKIPPED | +-------------------------------+--------------------+------------------+-------------------+-------------------------+ | Alpine Linux 3.22.0 | PASS | SKIPPED | SKIPPED | SKIPPED | +-------------------------------+--------------------+------------------+-------------------+-------------------------+ | Ubuntu 22.04 | PASS | SKIPPED | SKIPPED | SKIPPED | +-------------------------------+--------------------+------------------+-------------------+-------------------------+ | Red Hat Enterprise Linux 8.10 | PASS | SKIPPED | SKIPPED | SKIPPED | +-------------------------------+--------------------+------------------+-------------------+-------------------------+ | Debian GNU/Linux 12 | PASS | SKIPPED | SKIPPED | SKIPPED | +-------------------------------+--------------------+------------------+-------------------+-------------------------+ | Red Hat Enterprise Linux 9.5 | PASS | SKIPPED | SKIPPED | SKIPPED | +-------------------------------+--------------------+------------------+-------------------+-------------------------+ | Windows Server 2022 | SKIPPED | SKIPPED | PASS | PASS | +-------------------------------+--------------------+------------------+-------------------+-------------------------+ Ubuntu 20.04 Kernel: 4.19 Compiler: gcc gcc (Ubuntu 9.4.0-1ubuntu1~20.04.2) 9.4.0 FreeBSD 14.2 Kernel: 14.2-RELEASE Compiler: clang 18.1.6 CentOS Stream 10 Kernel: 5.15 Compiler: gcc gcc (GCC) 14.2.1 20250110 (Red Hat 14.2.1-8) openSUSE Leap 15.6 Kernel: 5.15 Compiler: gcc gcc (SUSE Linux) 7.5.0 Fedora Linux 42 Kernel: 5.15 Compiler: gcc gcc (GCC) 15.2.1 20250808 (Red Hat 15.2.1-1) CentOS Stream 9 Kernel: 5.15 Compiler: gcc gcc (GCC) 11.5.0 20240719 (Red Hat 11.5.0-11) Ubuntu 24.04 Kernel: 5.15 Compiler: gcc gcc (Ubuntu 13.3.0-6ubuntu2~24.04) 13.3.0 Alpine Linux 3.22.0 Kernel: 5.15 Compiler: gcc gcc (Alpine 14.2.0) 14.2.0 Ubuntu 22.04 Kernel: 5.15 Compiler: gcc gcc (Ubuntu 11.4.0-1ubuntu1~22.04) 11.4.0 Red Hat Enterprise Linux 8.10 Kernel: 5.15 Compiler: gcc gcc (GCC) 8.5.0 20210514 (Red Hat 8.5.0-22) Debian GNU/Linux 12 Kernel: 5.15 Compiler: gcc gcc (Debian 12.2.0-14+deb12u1) 12.2.0 Red Hat Enterprise Linux 9.5 Kernel: 5.15 Compiler: gcc gcc (GCC) 11.5.0 20240719 (Red Hat 11.5.0-2) Windows Server 2022 Kernel: 10.0.20348.2031 Compiler: clang 15.0.7, gcc 14.1.0 (MinGW), and MSVC VS 19.39.33521 To view detailed results, visit: https://lab.dpdk.org/results/dashboard/patchsets/34457/ UNH-IOL DPDK Community Lab To manage your email subscriptions, visit: https://lab.dpdk.org/results/dashboard/preferences/subscriptions/