From mboxrd@z Thu Jan 1 00:00:00 1970 Return-Path: Received: from mails.dpdk.org (mails.dpdk.org [217.70.189.124]) by inbox.dpdk.org (Postfix) with ESMTP id DD0F348AA7 for ; Tue, 4 Nov 2025 13:39:15 +0100 (CET) Received: from mails.dpdk.org (localhost [127.0.0.1]) by mails.dpdk.org (Postfix) with ESMTP id D7A3240285; Tue, 4 Nov 2025 13:39:15 +0100 (CET) Received: from mail-yw1-f225.google.com (mail-yw1-f225.google.com [209.85.128.225]) by mails.dpdk.org (Postfix) with ESMTP id 9CBF040285 for ; Tue, 4 Nov 2025 13:39:14 +0100 (CET) Received: by mail-yw1-f225.google.com with SMTP id 00721157ae682-786583618d8so31295087b3.2 for ; Tue, 04 Nov 2025 04:39:14 -0800 (PST) DKIM-Signature: v=1; a=rsa-sha256; c=relaxed/relaxed; d=iol.unh.edu; s=unh-iol; t=1762259954; x=1762864754; darn=dpdk.org; h=references:in-reply-to:cc:to:from:subject:message-id:date:from:to :cc:subject:date:message-id:reply-to; bh=C/RURFxlqmaGrOuNOLbharIkghUtWvLR9dYbueDYhOw=; b=iZcaL1oWt+pwjA9RY6xgv/quESWxnpS0VQk6KJ/bRLkOo9s331P5ZGpjjB6RHn+GB3 i6+8cnFAtTHRqNWmLGnAunOkEvOeLEtDEBjuMV5ODWt4/Uonxe7b6HKSXXRWZw3fGjKV ufHC1MTKcgAZS9W+QqqJsr/DY+ztn09anvtc0= X-Google-DKIM-Signature: v=1; a=rsa-sha256; c=relaxed/relaxed; d=1e100.net; s=20230601; t=1762259954; x=1762864754; h=references:in-reply-to:cc:to:from:subject:message-id:date :x-gm-message-state:from:to:cc:subject:date:message-id:reply-to; bh=C/RURFxlqmaGrOuNOLbharIkghUtWvLR9dYbueDYhOw=; b=JoGMxz6VPo6zjhiVmhi7SIlcHinwCkBj9y/kxJiEsSJJCLQ/x3VzF4223+dtLQoCly +66V0jYvYYnCnVdFXwWP4uu2M/LbQd8CGyMQhko8N8ffU3ojxYsbqtHfh/LzP7rv4Og9 vgWmRo29D3ntD31gradlmEEh7X58ejOON9Vwi4K9D/p74JVScFQdWJQ6rIHeNab36aeX u+8X8ZMqLnc7ldTOtxRYqDy9nZI9kbljIrHWCLIJk2Dywfp5jgi09UfwzZ8J7fIp0Kxq TxyTIA3oCFw6iJrE+amc5X064/Be19OSf1jPHaNYM9dhja/23dj8m+wcRgogZ4rNLc3L tXpg== X-Gm-Message-State: AOJu0Yy6gjpdiH04LWyxqiotQVIfnVoYL1Jgps5gWciCQRlvPZjnELlG cMvte/NRUXU+Z+omIRNKvzz10k+Pdd9RHll94/Cqsdy5QdwtH64ltvaBo1S/9ExTtNAADyeg4TA A9KD4b5ERmjm4lu4XPGWpYs6AouaNBQK46+yP471+a22+4G/1lUWixQs1bWn/ X-Gm-Gg: ASbGncsEaBfu1qnHZHwS89aQQPtxWY1UWUbaNpjfHOZIYp2+IJ6nylROLAm1YSEaoQ+ HcBFVA/GFxU+F2Iwm+IgIK3pO/fXjirBbkciI7dWvfcvFrOTVO5PVsHS3uJOnQ1O8YgE3TTDccg C3mRUYQaY+RHJ0mgUjf5O0C3tMppXF5PxioiGk41X5QDXiIOZXGCbpCDy1dySvCUfeU6cjlt9k4 3yK+Ct2WVoE7Y3OphhR8Y1rLCaLd5PrqpLUp69z9wdv3Keei6fec0nLb6lLdOnnyjO6BzKBtKUn jSh1737x8P2CrPWSRCeVF+bTaqo+w6OT2E57fsfGsHCQZlc+4NEKRKOu2e78rDnSvnI0ymxhfww meVfGeRUm X-Google-Smtp-Source: AGHT+IG33aVCAPSORCbEJvV+LdJw5VdLqxLrjjwQuvP3JUJzVCLAxaPNuK5SUDrOsyFeAwOehqgeHHFM96FI X-Received: by 2002:a05:690c:9993:b0:785:e624:9ed3 with SMTP id 00721157ae682-786483ea827mr141372027b3.10.1762259953896; Tue, 04 Nov 2025 04:39:13 -0800 (PST) Received: from postal.iol.unh.edu (postal.iol.unh.edu. [2606:4100:3880:1234::84]) by smtp-relay.gmail.com with ESMTPS id 00721157ae682-78691c8d210sm1636627b3.10.2025.11.04.04.39.13 (version=TLS1_2 cipher=ECDHE-ECDSA-AES128-GCM-SHA256 bits=128/128); Tue, 04 Nov 2025 04:39:13 -0800 (PST) X-Relaying-Domain: iol.unh.edu Date: Tue, 04 Nov 2025 04:39:13 -0800 (PST) Message-ID: <6909f3f1.050a0220.32f06.911dSMTPIN_ADDED_MISSING@mx.google.com> Received: from [172.21.0.4] (unknown [172.18.0.240]) by postal.iol.unh.edu (Postfix) with ESMTP id 939406051830; Tue, 4 Nov 2025 07:39:13 -0500 (EST) Subject: |SUCCESS| pw158419 [PATCH] [v2] mbuf: dump Tx offload metadata From: dpdklab@iol.unh.edu To: Test Report Cc: dpdk-test-reports@iol.unh.edu In-Reply-To: <20251104100214.1818660-1-david.marchand@redhat.com> References: <20251104100214.1818660-1-david.marchand@redhat.com> Content-Type: text/plain X-BeenThere: test-report@dpdk.org X-Mailman-Version: 2.1.29 Precedence: list List-Id: automatic DPDK test reports List-Unsubscribe: , List-Archive: List-Post: List-Help: List-Subscribe: , Errors-To: test-report-bounces@dpdk.org Test-Label: iol-unit-amd64-testing Test-Status: SUCCESS http://dpdk.org/patch/158419 _Testing PASS_ Submitter: David Marchand Date: Tuesday, November 04 2025 10:02:14 DPDK git baseline: Repo:dpdk Branch: master CommitID:8c4861d00aabcf54ef9d6f1df2a4cfb37c06f6c2 158419 --> testing pass Upstream job id: Generic-VM-Unit-Test-DPDK#32276 Test environment and result as below: +-------------------------------+----------------+ | Environment | dpdk_unit_test | +===============================+================+ | Fedora Linux 42 | PASS | +-------------------------------+----------------+ | Ubuntu 20.04 | PASS | +-------------------------------+----------------+ | Fedora Linux 41 | PASS | +-------------------------------+----------------+ | Ubuntu 24.04 | PASS | +-------------------------------+----------------+ | Fedora Linux 40 | PASS | +-------------------------------+----------------+ | Red Hat Enterprise Linux 8.10 | PASS | +-------------------------------+----------------+ | CentOS Stream 9 | PASS | +-------------------------------+----------------+ | Red Hat Enterprise Linux 9.5 | PASS | +-------------------------------+----------------+ | Ubuntu 22.04 | PASS | +-------------------------------+----------------+ | Debian GNU/Linux 12 | PASS | +-------------------------------+----------------+ | CentOS Stream 10 | PASS | +-------------------------------+----------------+ | Windows Server 2022 | PASS | +-------------------------------+----------------+ Fedora Linux 42 Kernel: 5.15 Compiler: clang gcc (GCC) 15.2.1 20250808 (Red Hat 15.2.1-1) Ubuntu 20.04 Kernel: 5.15 Compiler: gcc gcc (Ubuntu 9.4.0-1ubuntu1~20.04.2) 9.4.0 Fedora Linux 41 Kernel: 5.15 Compiler: clang gcc (GCC) 14.3.1 20250523 (Red Hat 14.3.1-1) Ubuntu 24.04 Kernel: 5.15 Compiler: gcc gcc (Ubuntu 13.3.0-6ubuntu2~24.04) 13.3.0 Fedora Linux 40 Kernel: 5.15 Compiler: gcc gcc (GCC) 14.2.1 20240912 (Red Hat 14.2.1-3) Red Hat Enterprise Linux 8.10 Kernel: 5.15 Compiler: gcc gcc (GCC) 8.5.0 20210514 (Red Hat 8.5.0-22) CentOS Stream 9 Kernel: 5.15 Compiler: gcc gcc (GCC) 11.5.0 20240719 (Red Hat 11.5.0-11) Red Hat Enterprise Linux 9.5 Kernel: 5.15 Compiler: gcc gcc (GCC) 11.5.0 20240719 (Red Hat 11.5.0-2) Ubuntu 22.04 Kernel: 5.15 Compiler: gcc gcc (Ubuntu 11.4.0-1ubuntu1~22.04) 11.4.0 Debian GNU/Linux 12 Kernel: 5.15 Compiler: gcc gcc (Debian 12.2.0-14+deb12u1) 12.2.0 CentOS Stream 10 Kernel: 5.15 Compiler: gcc gcc (GCC) 14.2.1 20250110 (Red Hat 14.2.1-8) Windows Server 2022 Kernel: 10.0.20348.2031 Compiler: clang 15.0.7, gcc 14.1.0 (MinGW), and MSVC VS 19.39.33521 To view detailed results, visit: https://lab.dpdk.org/results/dashboard/patchsets/34456/ UNH-IOL DPDK Community Lab To manage your email subscriptions, visit: https://lab.dpdk.org/results/dashboard/preferences/subscriptions/