From mboxrd@z Thu Jan 1 00:00:00 1970 Return-Path: Received: from mails.dpdk.org (mails.dpdk.org [217.70.189.124]) by inbox.dpdk.org (Postfix) with ESMTP id 0388248AA7 for ; Tue, 4 Nov 2025 13:39:57 +0100 (CET) Received: from mails.dpdk.org (localhost [127.0.0.1]) by mails.dpdk.org (Postfix) with ESMTP id EFC8F40285; Tue, 4 Nov 2025 13:39:56 +0100 (CET) Received: from mail-pl1-f227.google.com (mail-pl1-f227.google.com [209.85.214.227]) by mails.dpdk.org (Postfix) with ESMTP id 6C34E40285 for ; Tue, 4 Nov 2025 13:39:56 +0100 (CET) Received: by mail-pl1-f227.google.com with SMTP id d9443c01a7336-27c369f8986so55728865ad.3 for ; Tue, 04 Nov 2025 04:39:56 -0800 (PST) DKIM-Signature: v=1; a=rsa-sha256; c=relaxed/relaxed; d=iol.unh.edu; s=unh-iol; t=1762259995; x=1762864795; darn=dpdk.org; h=references:in-reply-to:cc:to:from:subject:message-id:date:from:to :cc:subject:date:message-id:reply-to; bh=uMUvH97fVXDZqISUsyYwV7qJOo0tSx4Drp5QD8/8KWE=; b=c141E8m/uEM++F0BqCCsU3fQXSehoPw3vHG1FE4uzwgO80Ef4mKVhwe5wmxl74oTew eOwvVdqfI/0TNhFHiswQIGInUBArwRJ52ZnxoUDjyqIYVOzGlA9A7uF1Aj6qp77x+1bF gCY1nSdYwyfyLMhyZZV0H0v5JoWZx2BbsoDNU= X-Google-DKIM-Signature: v=1; a=rsa-sha256; c=relaxed/relaxed; d=1e100.net; s=20230601; t=1762259995; x=1762864795; h=references:in-reply-to:cc:to:from:subject:message-id:date :x-gm-message-state:from:to:cc:subject:date:message-id:reply-to; bh=uMUvH97fVXDZqISUsyYwV7qJOo0tSx4Drp5QD8/8KWE=; b=mrHRxm+hsw+YIB+d+V8vq506MJ6FHGhUg3lbYJBztYrz1fhPtrVM6Vz4E0vfP+QckG UYkop18kAfjV9mPqr9zp/qUhNF/oBMb4/9rT/32pCIJ6oTOutZANoHtQowE94BRL6yFN 47NFidVfQFODi7Bqs8n6phoyVWtt1ToSZoMFEL9/BxGciDQ/V5P1usFyuf5fnOzynmoN QzIn9Uo/FpQ10l9JDWK4jTWCpetm2nnJGYTLqxyK0zNMl+q4KBZRil0IPHKBL9FbXbIc OVp7r9vAvKvUOFYPN+zqKL2B4AoWt4HcWJwA5fREaWwoq82bU/T41uid7TRSVUivJ8QT xaPw== X-Gm-Message-State: AOJu0Yy57NTvinKu5GNBHyilfHgJN9OD/73x1UfUrV8vWO2DnduNyms1 O9ohDuyxEpamNoSabNIlV6SuZmJ0lpQW6xkjZ+BAKTzpgMg2dTf2zyDaJQtyMd0WJbxdzubOXOM yL1smh9vKkr4ifybNdVuxZBJHu/15P8VIooj//Fwht+RRQCvRtpINvRpSQd11 X-Gm-Gg: ASbGncvVtRwf5t39Ekc5QjXtIgir6t9uU6CfYkPZn3XDEJMoDeWjIgjATjKIfcZOI8P bGuj8/l8stTxvrPImIZ9u5hjQrQS83r7QmS6xL2vdguoyaORZERaRK3SKiGPF2vcFYeAS+j0rDB SsdEsbBZGRQwkUJ6zTXShZVgyxx13HKcO5IlsQy7Foh7UKHpc8FODt+rW9W2duGWW2QtfBVb5dP +UDH48+O7I3T0O6ywbNj1EkP1k6K9BGb/DdZFpePVHORBMmtv5/hpXcORpUneXOq2Oy9dDzGAS9 YUoQy0SDEZ0FOgnPSmfZtODfPgCeorhs18wbGY+74AHEThsJrCkbT/3Bo/YSKw56yF2ggofeJqE QUZGdKdyn X-Google-Smtp-Source: AGHT+IFGu5IR/+ZQluHAMQ8SI3YKlWxYkanXP+inxYtgE8/6KiflGSTOcLS+XqqBLjx7oDE5CEpfo9pbhCXy X-Received: by 2002:a17:902:e545:b0:295:5864:8009 with SMTP id d9443c01a7336-295586483ddmr157657825ad.44.1762259995588; Tue, 04 Nov 2025 04:39:55 -0800 (PST) Received: from postal.iol.unh.edu (postal.iol.unh.edu. [2606:4100:3880:1234::84]) by smtp-relay.gmail.com with ESMTPS id d9443c01a7336-29601a3e55bsm2330715ad.48.2025.11.04.04.39.55 (version=TLS1_2 cipher=ECDHE-ECDSA-AES128-GCM-SHA256 bits=128/128); Tue, 04 Nov 2025 04:39:55 -0800 (PST) X-Relaying-Domain: iol.unh.edu Date: Tue, 04 Nov 2025 04:39:55 -0800 (PST) Message-ID: <6909f41b.170a0220.2d2bf8.da6bSMTPIN_ADDED_MISSING@mx.google.com> Received: from [172.21.0.3] (unknown [172.18.0.240]) by postal.iol.unh.edu (Postfix) with ESMTP id AC5066051830; Tue, 4 Nov 2025 07:39:54 -0500 (EST) Subject: |SUCCESS| pw158420 [PATCH] net/fm10k: fix build with GCC 16 From: dpdklab@iol.unh.edu To: Test Report Cc: dpdk-test-reports@iol.unh.edu, Bruce Richardson In-Reply-To: <20251104111515.1728873-1-bruce.richardson@intel.com> References: <20251104111515.1728873-1-bruce.richardson@intel.com> Content-Type: text/plain X-BeenThere: test-report@dpdk.org X-Mailman-Version: 2.1.29 Precedence: list List-Id: automatic DPDK test reports List-Unsubscribe: , List-Archive: List-Post: List-Help: List-Subscribe: , Errors-To: test-report-bounces@dpdk.org Test-Label: iol-compile-amd64-testing Test-Status: SUCCESS http://dpdk.org/patch/158420 _Testing PASS_ Submitter: Bruce Richardson Date: Tuesday, November 04 2025 11:15:15 DPDK git baseline: Repo:dpdk-next-net-intel Branch: master CommitID:40de0ba36a04ef80e8a2ac90c240183fc2c6d1b4 158420 --> testing pass Upstream job id: Windows-Compile-DPDK-Native#32104 Test environment and result as below: +-------------------------------+--------------------+------------------+-------------------+-------------------------+----------------------+ | Environment | dpdk_meson_compile | dpdk_compile_ovs | dpdk_msvc_compile | dpdk_llvm_clang_compile | dpdk_mingw64_compile | +===============================+====================+==================+===================+=========================+======================+ | Ubuntu 20.04 | PASS | SKIPPED | SKIPPED | SKIPPED | SKIPPED | +-------------------------------+--------------------+------------------+-------------------+-------------------------+----------------------+ | FreeBSD 14.2 | PASS | SKIPPED | SKIPPED | SKIPPED | SKIPPED | +-------------------------------+--------------------+------------------+-------------------+-------------------------+----------------------+ | CentOS Stream 10 | PASS | SKIPPED | SKIPPED | SKIPPED | SKIPPED | +-------------------------------+--------------------+------------------+-------------------+-------------------------+----------------------+ | openSUSE Leap 15.6 | PASS | SKIPPED | SKIPPED | SKIPPED | SKIPPED | +-------------------------------+--------------------+------------------+-------------------+-------------------------+----------------------+ | Fedora Linux 42 | PASS | PASS | SKIPPED | SKIPPED | SKIPPED | +-------------------------------+--------------------+------------------+-------------------+-------------------------+----------------------+ | CentOS Stream 9 | PASS | SKIPPED | SKIPPED | SKIPPED | SKIPPED | +-------------------------------+--------------------+------------------+-------------------+-------------------------+----------------------+ | Ubuntu 24.04 | PASS | PASS | SKIPPED | SKIPPED | SKIPPED | +-------------------------------+--------------------+------------------+-------------------+-------------------------+----------------------+ | Alpine Linux 3.22.0 | PASS | SKIPPED | SKIPPED | SKIPPED | SKIPPED | +-------------------------------+--------------------+------------------+-------------------+-------------------------+----------------------+ | Ubuntu 22.04 | PASS | SKIPPED | SKIPPED | SKIPPED | SKIPPED | +-------------------------------+--------------------+------------------+-------------------+-------------------------+----------------------+ | Red Hat Enterprise Linux 8.10 | PASS | SKIPPED | SKIPPED | SKIPPED | SKIPPED | +-------------------------------+--------------------+------------------+-------------------+-------------------------+----------------------+ | Debian GNU/Linux 12 | PASS | SKIPPED | SKIPPED | SKIPPED | SKIPPED | +-------------------------------+--------------------+------------------+-------------------+-------------------------+----------------------+ | Red Hat Enterprise Linux 9.5 | PASS | SKIPPED | SKIPPED | SKIPPED | SKIPPED | +-------------------------------+--------------------+------------------+-------------------+-------------------------+----------------------+ | Windows Server 2022 | SKIPPED | SKIPPED | PASS | PASS | PASS | +-------------------------------+--------------------+------------------+-------------------+-------------------------+----------------------+ Ubuntu 20.04 Kernel: 4.19 Compiler: gcc gcc (Ubuntu 9.4.0-1ubuntu1~20.04.2) 9.4.0 FreeBSD 14.2 Kernel: 14.2-RELEASE Compiler: clang 18.1.6 CentOS Stream 10 Kernel: 5.15 Compiler: gcc gcc (GCC) 14.2.1 20250110 (Red Hat 14.2.1-8) openSUSE Leap 15.6 Kernel: 5.15 Compiler: gcc gcc (SUSE Linux) 7.5.0 Fedora Linux 42 Kernel: 5.15 Compiler: gcc gcc (GCC) 15.2.1 20250808 (Red Hat 15.2.1-1) CentOS Stream 9 Kernel: 5.15 Compiler: gcc gcc (GCC) 11.5.0 20240719 (Red Hat 11.5.0-11) Ubuntu 24.04 Kernel: 5.15 Compiler: gcc gcc (Ubuntu 13.3.0-6ubuntu2~24.04) 13.3.0 Alpine Linux 3.22.0 Kernel: 5.15 Compiler: gcc gcc (Alpine 14.2.0) 14.2.0 Ubuntu 22.04 Kernel: 5.15 Compiler: gcc gcc (Ubuntu 11.4.0-1ubuntu1~22.04) 11.4.0 Red Hat Enterprise Linux 8.10 Kernel: 5.15 Compiler: gcc gcc (GCC) 8.5.0 20210514 (Red Hat 8.5.0-22) Debian GNU/Linux 12 Kernel: 5.15 Compiler: gcc gcc (Debian 12.2.0-14+deb12u1) 12.2.0 Red Hat Enterprise Linux 9.5 Kernel: 5.15 Compiler: gcc gcc (GCC) 11.5.0 20240719 (Red Hat 11.5.0-2) Windows Server 2022 Kernel: 10.0.20348.2031 Compiler: clang 15.0.7, gcc 14.1.0 (MinGW), and MSVC VS 19.39.33521 To view detailed results, visit: https://lab.dpdk.org/results/dashboard/patchsets/34457/ UNH-IOL DPDK Community Lab To manage your email subscriptions, visit: https://lab.dpdk.org/results/dashboard/preferences/subscriptions/