From mboxrd@z Thu Jan 1 00:00:00 1970 Return-Path: Received: from mails.dpdk.org (mails.dpdk.org [217.70.189.124]) by inbox.dpdk.org (Postfix) with ESMTP id 3CE1C48AA7 for ; Tue, 4 Nov 2025 13:41:56 +0100 (CET) Received: from mails.dpdk.org (localhost [127.0.0.1]) by mails.dpdk.org (Postfix) with ESMTP id 2BF5840269; Tue, 4 Nov 2025 13:41:56 +0100 (CET) Received: from mail-oa1-f99.google.com (mail-oa1-f99.google.com [209.85.160.99]) by mails.dpdk.org (Postfix) with ESMTP id 30B0640269 for ; Tue, 4 Nov 2025 13:41:55 +0100 (CET) Received: by mail-oa1-f99.google.com with SMTP id 586e51a60fabf-3c9a42d6349so6626041fac.1 for ; Tue, 04 Nov 2025 04:41:55 -0800 (PST) DKIM-Signature: v=1; a=rsa-sha256; c=relaxed/relaxed; d=iol.unh.edu; s=unh-iol; t=1762260114; x=1762864914; darn=dpdk.org; h=references:in-reply-to:cc:to:from:subject:message-id:date:from:to :cc:subject:date:message-id:reply-to; bh=C4Mzqz2khtjjzqcrWZ8I5YSs8SF5DOuTl4t9SaAUIRU=; b=SgmP6PLRg1bczLBqZeftO2JzgCBZTpaNFDxa21yZrtHBSBy2yGRTCMk3wifxwW7utt xBZZX7awWc6MrDjRH7/K1T4dPBrn1sXsoQ8DjPc0Gz8V1ho0a4HqMYA2wkzASu0M7sjD /s9NNNdEWiAL1bpi2jQ8F7Aj/AL9Karn8wkxM= X-Google-DKIM-Signature: v=1; a=rsa-sha256; c=relaxed/relaxed; d=1e100.net; s=20230601; t=1762260114; x=1762864914; h=references:in-reply-to:cc:to:from:subject:message-id:date :x-gm-message-state:from:to:cc:subject:date:message-id:reply-to; bh=C4Mzqz2khtjjzqcrWZ8I5YSs8SF5DOuTl4t9SaAUIRU=; b=f3ROExnBPvVwvx2dC6FoNNRMHBdYSfXibIWTCjWZKB3OFfvFaN3Uv0E/bobMeviLwl XFCZMTVP6qxBsiOiv2ft145YYBCgxJ0+C5iM485xfsfjQWSiX0n68qH2oDtMmzLD7fGD zlcoPpnzy4Wg+iCsoVTVFysQ6dkh0sndKKCdzHRuM9xcajuQ3xqR+b7urqxfYdIkb0IM 9OsvhJs7njGWGL5RgldtVNEg8RSYRWqFLILx+CC51a5Vvcc1YAtWxqDXq2+cOk8DyvUS GAZJJbKcpjpMlGmgPk8FRS1FcXmLjWMEtgY3NodQGuvUuZW9+4eGoOU+oc3JDv7K9xV2 bsTg== X-Gm-Message-State: AOJu0Yw2YjYC4mW0ahrv3IHRqjivVgwVJAI4mXkokoUbZ1JV4U2Nmx5i 60EvdaXqGmcss99e/hknIn31TqCogJBMfqc8RM8C0+Cl0p1JQ82FbQWDN1wl3WGdyGD8lhvIzl0 RqP1dWQ6/KKUaoinb3BJpo7Eyk3z+oJxsoKW4+UKM1CeYbC9TWSCpGgJQt0G4 X-Gm-Gg: ASbGncs7AZAP55Fb7DDdwSSRsBwRTpn9aoYHwkroTGAfi1JIaJu878xLP8B9c4LIhqt XUDMTX2InPliG86sMxWxEIcmT3eZi4cUwwSobIwzXtUMNYRq4CabJNC9Iz8oJRaRrqBmrVD4bKR HwuijstMWkKEWtFwx2BEU3HrQXsrXsORn3wHBHOMrwR5Jq3CK28BglPefkqociBWco7A2OEHRzY lwrpI8GZoWYMB0zRUtbafquoQ3klJr/E2ApAfz3BDhicExegmSyajf3nBGugtJCeI61qY6Njar9 xbq8bf/JexPRA62OyYgTXhHxA7kApbuaIwpjtF8B988/euVE9MCMKoXi1c4ZLrZOuSQ6CE4n0Mv hSz1gce4p X-Google-Smtp-Source: AGHT+IFDU65oRwKBPNvwZ06oCFbYiIYkuRbfO1RwhIeAF6w86g7bSXRbIj5wLyIztfvq8WVeXTsrmB5KNj8z X-Received: by 2002:a05:6871:3a22:b0:344:97e4:6c73 with SMTP id 586e51a60fabf-3daccdf2975mr7280047fac.46.1762260114378; Tue, 04 Nov 2025 04:41:54 -0800 (PST) Received: from postal.iol.unh.edu (postal.iol.unh.edu. [2606:4100:3880:1234::84]) by smtp-relay.gmail.com with ESMTPS id 586e51a60fabf-3dff7761ec4sm244079fac.21.2025.11.04.04.41.54 (version=TLS1_2 cipher=ECDHE-ECDSA-AES128-GCM-SHA256 bits=128/128); Tue, 04 Nov 2025 04:41:54 -0800 (PST) X-Relaying-Domain: iol.unh.edu Date: Tue, 04 Nov 2025 04:41:54 -0800 (PST) Message-ID: <6909f492.050a0220.291e25.da92SMTPIN_ADDED_MISSING@mx.google.com> Received: from [172.21.0.3] (unknown [172.18.0.240]) by postal.iol.unh.edu (Postfix) with ESMTP id 003D06051830; Tue, 4 Nov 2025 07:41:53 -0500 (EST) Subject: |SUCCESS| pw158411 [PATCH] net/nfp: fix use after free From: dpdklab@iol.unh.edu To: Test Report Cc: dpdk-test-reports@iol.unh.edu, Stephen Hemminger In-Reply-To: <20251104052915.270245-1-stephen@networkplumber.org> References: <20251104052915.270245-1-stephen@networkplumber.org> Content-Type: text/plain X-BeenThere: test-report@dpdk.org X-Mailman-Version: 2.1.29 Precedence: list List-Id: automatic DPDK test reports List-Unsubscribe: , List-Archive: List-Post: List-Help: List-Subscribe: , Errors-To: test-report-bounces@dpdk.org Test-Label: iol-compile-arm64-testing Test-Status: SUCCESS http://dpdk.org/patch/158411 _Testing PASS_ Submitter: Stephen Hemminger Date: Tuesday, November 04 2025 05:29:15 DPDK git baseline: Repo:dpdk-next-net Branch: master CommitID:80dea84c15d0ba5b8b092db744e26319a6f23a04 158411 --> testing pass Upstream job id: Generic-DPDK-Compile-Meson#440460 Test environment and result as below: +------------------------------+--------------------+ | Environment | dpdk_meson_compile | +==============================+====================+ | Red Hat Enterprise Linux 9.5 | PASS | +------------------------------+--------------------+ | Ubuntu 20.04 | PASS | +------------------------------+--------------------+ | Debian GNU/Linux 12 | PASS | +------------------------------+--------------------+ | Fedora Linux 42 | PASS | +------------------------------+--------------------+ | Ubuntu 24.04 | PASS | +------------------------------+--------------------+ | Ubuntu 22.04 | PASS | +------------------------------+--------------------+ | CentOS Stream 9 | PASS | +------------------------------+--------------------+ | CentOS Stream 10 | PASS | +------------------------------+--------------------+ Red Hat Enterprise Linux 9.5 Kernel: 5.4 Compiler: gcc gcc (GCC) 11.5.0 20240719 (Red Hat 11.5.0-2) Ubuntu 20.04 Kernel: 5.15 Compiler: aarch64-linux-gnu-gcc gcc (Ubuntu 9.4.0-1ubuntu1~20.04.2) 9.4.0 Debian GNU/Linux 12 Kernel: 5.4 Compiler: gcc gcc (Debian 12.2.0-14+deb12u1) 12.2.0 Fedora Linux 42 Kernel: 5.4 Compiler: gcc gcc (GCC) 15.2.1 20250808 (Red Hat 15.2.1-1) Ubuntu 24.04 Kernel: 5.4 Compiler: gcc gcc (Ubuntu 13.3.0-6ubuntu2~24.04) 13.3.0 Ubuntu 22.04 Kernel: 5.4 Compiler: gcc gcc (Ubuntu 11.4.0-1ubuntu1~22.04) 11.4.0 CentOS Stream 9 Kernel: 5.4 Compiler: gcc gcc (GCC) 11.5.0 20240719 (Red Hat 11.5.0-11) CentOS Stream 10 Kernel: 5.4 Compiler: gcc gcc (GCC) 14.2.1 20250110 (Red Hat 14.2.1-8) To view detailed results, visit: https://lab.dpdk.org/results/dashboard/patchsets/34452/ UNH-IOL DPDK Community Lab To manage your email subscriptions, visit: https://lab.dpdk.org/results/dashboard/preferences/subscriptions/