From mboxrd@z Thu Jan 1 00:00:00 1970 Return-Path: Received: from mails.dpdk.org (mails.dpdk.org [217.70.189.124]) by inbox.dpdk.org (Postfix) with ESMTP id 1975248AA7 for ; Tue, 4 Nov 2025 13:51:21 +0100 (CET) Received: from mails.dpdk.org (localhost [127.0.0.1]) by mails.dpdk.org (Postfix) with ESMTP id ED21A40269; Tue, 4 Nov 2025 13:51:20 +0100 (CET) Received: from mail-yw1-f225.google.com (mail-yw1-f225.google.com [209.85.128.225]) by mails.dpdk.org (Postfix) with ESMTP id BE5AB40269 for ; Tue, 4 Nov 2025 13:51:19 +0100 (CET) Received: by mail-yw1-f225.google.com with SMTP id 00721157ae682-78488cdc20aso70513517b3.1 for ; Tue, 04 Nov 2025 04:51:19 -0800 (PST) DKIM-Signature: v=1; a=rsa-sha256; c=relaxed/relaxed; d=iol.unh.edu; s=unh-iol; t=1762260679; x=1762865479; darn=dpdk.org; h=references:in-reply-to:cc:to:from:subject:message-id:date:from:to :cc:subject:date:message-id:reply-to; bh=VnyciSR96bgHWCiRyhb7x4ieDzN7dnaS0aAsIUOipDA=; b=aJ2H0cTj5+41vcwrbrW5mLoNNct1bv4Sf/14QDTJe/lC189nLDue/8aDa/wVIXfwcV rW5XZ7LwWXSrZQ766LGpzRxqr240NYVtZ8wh6GUwNp3GU7LupT+3YDLu/x9P1BIWyHnZ /OdZkQ7qq8zHU2ChFl0bTZp8g3yCGG3OR5FZc= X-Google-DKIM-Signature: v=1; a=rsa-sha256; c=relaxed/relaxed; d=1e100.net; s=20230601; t=1762260679; x=1762865479; h=references:in-reply-to:cc:to:from:subject:message-id:date :x-gm-message-state:from:to:cc:subject:date:message-id:reply-to; bh=VnyciSR96bgHWCiRyhb7x4ieDzN7dnaS0aAsIUOipDA=; b=rxpVK+oURJp3NSXIf5sTlyS4zxpVaGQhgeCWf1cgAEc7ZmTk7jgFWqo/x6rSDeCCWr GIAGoBZ6sO0FFKVhMDVGeJ6K4UbdYLTz5dKBqTWkDdBx61Zq5si1eDui9FWF1HiU/8t6 sRSlkZMiVneq5fFRFmLu/T9dbS6QD0qXK86rg8nG43Xc9H1s4cxIjSJrctcFpcefv236 ZEsrHMUqz2MiXUPdxIOeJWqx8f2n8+kbary6aPzLzbtQcgh8JW2GhS4balbgwXsmPRNw 2+awhdMIKluLhwovyhRNROiETTwFIeUzo4MaQzuUM81pxclf9XlbP1oTusWOZvCfsQML mImA== X-Gm-Message-State: AOJu0Ywv5kWF3L+DxZ+V2DHQDdjl8/Xq6rmav6C8whDxFhHUIumIs6aG sWgr4RO4x6CuJHuuCbmp6Trf3OQtzng3Bi0GMSEtT2vf/VBbfuKdhoyLU384PalvkuvOieIvq1b caTL+lqhssKywgeWMUwUYt5MQH0qPXo9eZNEUsGredD/H X-Gm-Gg: ASbGncvKdVWg6eZjI0SbDHPU3fHv7LP5qxc2dX1Httqz3MSrKbVwICiT2j02FezhmqT qhm3vObDkd3M9RD4XiHnuuUszvafs4ed96bB9WSZmAnWc2Ci9HpcFrd+Agms65vHzTMK1SbcTLw SUw5qCK31pX+AaKH5pLF6fLXACNZqOoEgQEHuyyQuesNKsBT7vBwFMeeIXqTT8XtuB5ggA2ioi2 eTsW+iUPknFIiqcTB8CNcqU/i7EWEcUijwOnEnW+/ZuTT1QGYQvxgP9Xx9Pxs3Hvr53U9dUQUO3 E6PvSiy2rirOU7p3D4VsmWiSwueI8tgfPP2ODNPg6CcXZTRpdiSDlUeo2wHFo/aCb9MB2lLu4WR nyHSYbQJA+ssz7R4HbdvlirYa/1nuALA= X-Google-Smtp-Source: AGHT+IGFkyhEQB+LxqpFJvJ2u6PLD4kT2FzaTQ556bVmSwziEI/eFuZ8iBCv6CQwH0whbrCKrf8U3S1jArqq X-Received: by 2002:a05:690c:4883:b0:786:540c:ed21 with SMTP id 00721157ae682-786540cf1a7mr109560157b3.0.1762260679050; Tue, 04 Nov 2025 04:51:19 -0800 (PST) Received: from postal.iol.unh.edu (postal.iol.unh.edu. [132.177.123.84]) by smtp-relay.gmail.com with ESMTPS id 00721157ae682-78691dcf832sm1619907b3.16.2025.11.04.04.51.18 (version=TLS1_2 cipher=ECDHE-ECDSA-AES128-GCM-SHA256 bits=128/128); Tue, 04 Nov 2025 04:51:19 -0800 (PST) X-Relaying-Domain: iol.unh.edu Date: Tue, 04 Nov 2025 04:51:19 -0800 (PST) Message-ID: <6909f6c7.050a0220.25c5e0.8c1dSMTPIN_ADDED_MISSING@mx.google.com> Received: from [172.21.0.2] (unknown [172.18.0.240]) by postal.iol.unh.edu (Postfix) with ESMTP id AA27760003E8; Tue, 4 Nov 2025 07:51:18 -0500 (EST) Subject: |SUCCESS| pw158420 [PATCH] net/fm10k: fix build with GCC 16 From: dpdklab@iol.unh.edu To: Test Report Cc: dpdk-test-reports@iol.unh.edu, Bruce Richardson In-Reply-To: <20251104111515.1728873-1-bruce.richardson@intel.com> References: <20251104111515.1728873-1-bruce.richardson@intel.com> Content-Type: text/plain X-BeenThere: test-report@dpdk.org X-Mailman-Version: 2.1.29 Precedence: list List-Id: automatic DPDK test reports List-Unsubscribe: , List-Archive: List-Post: List-Help: List-Subscribe: , Errors-To: test-report-bounces@dpdk.org Test-Label: iol-unit-amd64-testing Test-Status: SUCCESS http://dpdk.org/patch/158420 _Testing PASS_ Submitter: Bruce Richardson Date: Tuesday, November 04 2025 11:15:15 DPDK git baseline: Repo:dpdk-next-net-intel Branch: master CommitID:40de0ba36a04ef80e8a2ac90c240183fc2c6d1b4 158420 --> testing pass Upstream job id: Generic-VM-Unit-Test-DPDK#32277 Test environment and result as below: +-------------------------------+----------------+ | Environment | dpdk_unit_test | +===============================+================+ | CentOS Stream 9 | PASS | +-------------------------------+----------------+ | Fedora Linux 41 | PASS | +-------------------------------+----------------+ | Fedora Linux 40 | PASS | +-------------------------------+----------------+ | Red Hat Enterprise Linux 9.5 | PASS | +-------------------------------+----------------+ | Red Hat Enterprise Linux 8.10 | PASS | +-------------------------------+----------------+ | Fedora Linux 42 | PASS | +-------------------------------+----------------+ | Ubuntu 22.04 | PASS | +-------------------------------+----------------+ | CentOS Stream 10 | PASS | +-------------------------------+----------------+ | Ubuntu 24.04 | PASS | +-------------------------------+----------------+ | Debian GNU/Linux 12 | PASS | +-------------------------------+----------------+ | Ubuntu 20.04 | PASS | +-------------------------------+----------------+ | Windows Server 2022 | PASS | +-------------------------------+----------------+ CentOS Stream 9 Kernel: 5.15 Compiler: gcc gcc (GCC) 11.5.0 20240719 (Red Hat 11.5.0-11) Fedora Linux 41 Kernel: 5.15 Compiler: gcc gcc (GCC) 14.3.1 20250523 (Red Hat 14.3.1-1) Fedora Linux 40 Kernel: 5.15 Compiler: clang gcc (GCC) 14.2.1 20240912 (Red Hat 14.2.1-3) Red Hat Enterprise Linux 9.5 Kernel: 5.15 Compiler: gcc gcc (GCC) 11.5.0 20240719 (Red Hat 11.5.0-2) Red Hat Enterprise Linux 8.10 Kernel: 5.15 Compiler: gcc gcc (GCC) 8.5.0 20210514 (Red Hat 8.5.0-22) Fedora Linux 42 Kernel: 5.15 Compiler: clang gcc (GCC) 15.2.1 20250808 (Red Hat 15.2.1-1) Ubuntu 22.04 Kernel: 5.15 Compiler: gcc gcc (Ubuntu 11.4.0-1ubuntu1~22.04) 11.4.0 CentOS Stream 10 Kernel: 5.15 Compiler: gcc gcc (GCC) 14.2.1 20250110 (Red Hat 14.2.1-8) Ubuntu 24.04 Kernel: 5.15 Compiler: gcc gcc (Ubuntu 13.3.0-6ubuntu2~24.04) 13.3.0 Debian GNU/Linux 12 Kernel: 5.15 Compiler: gcc gcc (Debian 12.2.0-14+deb12u1) 12.2.0 Ubuntu 20.04 Kernel: 5.15 Compiler: gcc gcc (Ubuntu 9.4.0-1ubuntu1~20.04.2) 9.4.0 Windows Server 2022 Kernel: 10.0.20348.2031 Compiler: clang 15.0.7, gcc 14.1.0 (MinGW), and MSVC VS 19.39.33521 To view detailed results, visit: https://lab.dpdk.org/results/dashboard/patchsets/34457/ UNH-IOL DPDK Community Lab To manage your email subscriptions, visit: https://lab.dpdk.org/results/dashboard/preferences/subscriptions/