From mboxrd@z Thu Jan 1 00:00:00 1970 Return-Path: Received: from mails.dpdk.org (mails.dpdk.org [217.70.189.124]) by inbox.dpdk.org (Postfix) with ESMTP id 44CA648AA8 for ; Tue, 4 Nov 2025 14:04:12 +0100 (CET) Received: from mails.dpdk.org (localhost [127.0.0.1]) by mails.dpdk.org (Postfix) with ESMTP id 2820940269; Tue, 4 Nov 2025 14:04:12 +0100 (CET) Received: from mail-il1-f225.google.com (mail-il1-f225.google.com [209.85.166.225]) by mails.dpdk.org (Postfix) with ESMTP id 3289840269 for ; Tue, 4 Nov 2025 14:04:11 +0100 (CET) Received: by mail-il1-f225.google.com with SMTP id e9e14a558f8ab-431d65ad973so22238155ab.3 for ; Tue, 04 Nov 2025 05:04:11 -0800 (PST) DKIM-Signature: v=1; a=rsa-sha256; c=relaxed/relaxed; d=iol.unh.edu; s=unh-iol; t=1762261450; x=1762866250; darn=dpdk.org; h=references:in-reply-to:cc:to:from:subject:message-id:date:from:to :cc:subject:date:message-id:reply-to; bh=f2yibFzrO6LY94vzUuPJQ3/WKMyHUrwUt4R4IK9QO9A=; b=EMQoGCfjXsizwXFZTV6cfiZMvFB5eTRESzt+JEUKNAfmwRB9+3mRuh/IdrZAaL6ge1 a2oRNYoLJzLN/08OgPns5lyVy72j2WMUtL0jqPJQV5Gu0XWfhmZh1I8KkygJYjTGjUH4 hk5MtedLgTGpD2Uv4PiOczfK0M3198Qg76goo= X-Google-DKIM-Signature: v=1; a=rsa-sha256; c=relaxed/relaxed; d=1e100.net; s=20230601; t=1762261450; x=1762866250; h=references:in-reply-to:cc:to:from:subject:message-id:date :x-gm-message-state:from:to:cc:subject:date:message-id:reply-to; bh=f2yibFzrO6LY94vzUuPJQ3/WKMyHUrwUt4R4IK9QO9A=; b=WJRbxiZxOpbxahSRO7hJ1ByqrBCig7OUZd/3114Z9khupLgMMWIjWqkAl1LhyV8kRT jg5eQzVsX1dt3m5AHknEVZLMHgZAFE6RVgDAsrWA37mp3S/Su/YodWvX31OaRsDTJq/U 0myg/RHYABDIXQ/4ujMCD/Xq+jf+PfV/ps+NoquMjfVQbp7h/7k6OT57s+4KsVYso9ls 7lcdIg/UPgH5SIdE/2V8+jJyUFg9J4B4O65Tn6BVHtmvn5wIJ7q0IRyuoSVX1S72rcwF UJaTrOGirKFrS7fdOIyP72aeXV4jeK7RXZyQN/RS5dR0p2WYqWaerkgvY6Xgelh6j6h2 AtJw== X-Gm-Message-State: AOJu0Yzd2grcytJmkfgNxwkQy7i/DHnfCKFiSOy0zFyXFhPNVo+M/ME+ nHLkkN1fu1A67BH7Qo6enLWtmK7AeJJFsimpf9Mj0r6rIkAgmgxBCYTnD4NBOu4aYWgzeG+BTpG aBlKNNZL+AI2L8yhzKaoKggBg3QB66wphJrjr240NKUap0qP5brpHFgeIMQQu X-Gm-Gg: ASbGncuMloWOe2etB5w+dklrDGcpajzyT3cpyT9RG0D0ju7go3fUX6r8fdkkokQjxnj IGGRAkoOLVQMLKCXwDRRMaONKesIqgbrqFUmMV4jWdUJQsa/B8ekdNIGQylByuBawvpgVSYlR2H G5AQHcVpjijuxDfYnFpCYioq9RlapE6j5C/CRPlCeM3LOeqZiDcoiRdGxFjmEssJPTJWJ/mvRK4 lleFOWbSsKMPpmCmPBQka1dhLP7EhoIpsgAwduZJulNl6T+HT7dvoxda7TfS3sI2DCYcmaCo/Cx ACaC20fZLHatvkuGv9JSH6ng1WmPxpKq1wXf0nlXnfrRlgwT9k9FHoJvpvD57XKvn9a50eXOGXo JVxm61zB3 X-Google-Smtp-Source: AGHT+IE+0m3dpsY5NEfLhqY5pSu/0bnYSgkixq01yisRoJtXvHm7DkG3hRH9Z3/Swwbaqw+oi4CV0rg5CFu+ X-Received: by 2002:a05:6e02:12c1:b0:42e:d74:7260 with SMTP id e9e14a558f8ab-4330d217155mr213454345ab.29.1762261450231; Tue, 04 Nov 2025 05:04:10 -0800 (PST) Received: from postal.iol.unh.edu (postal.iol.unh.edu. [2606:4100:3880:1234::84]) by smtp-relay.gmail.com with ESMTPS id e9e14a558f8ab-43335b3d9c7sm2409245ab.24.2025.11.04.05.04.10 (version=TLS1_2 cipher=ECDHE-ECDSA-AES128-GCM-SHA256 bits=128/128); Tue, 04 Nov 2025 05:04:10 -0800 (PST) X-Relaying-Domain: iol.unh.edu Date: Tue, 04 Nov 2025 05:04:10 -0800 (PST) Message-ID: <6909f9ca.050a0220.24e3dc.dcf8SMTPIN_ADDED_MISSING@mx.google.com> Received: from [172.21.0.2] (unknown [172.18.0.240]) by postal.iol.unh.edu (Postfix) with ESMTP id B6E726051830; Tue, 4 Nov 2025 08:04:09 -0500 (EST) Subject: |SUCCESS| pw158410 [PATCH] [v2,1/1] dmadev: add domain_id field to a From: dpdklab@iol.unh.edu To: Test Report Cc: dpdk-test-reports@iol.unh.edu In-Reply-To: <20251104052146.2308361-1-vattunuru@marvell.com> References: <20251104052146.2308361-1-vattunuru@marvell.com> Content-Type: text/plain X-BeenThere: test-report@dpdk.org X-Mailman-Version: 2.1.29 Precedence: list List-Id: automatic DPDK test reports List-Unsubscribe: , List-Archive: List-Post: List-Help: List-Subscribe: , Errors-To: test-report-bounces@dpdk.org Test-Label: iol-unit-arm64-testing Test-Status: SUCCESS http://dpdk.org/patch/158410 _Testing PASS_ Submitter: Vamsi Krishna Attunuru Date: Tuesday, November 04 2025 05:21:46 DPDK git baseline: Repo:dpdk Branch: master CommitID:8c4861d00aabcf54ef9d6f1df2a4cfb37c06f6c2 158410 --> testing pass Upstream job id: Generic-Unit-Test-DPDK#388273 Test environment and result as below: +------------------------------+--------------+----------------+---------------------------+------------------------------+ | Environment | lpm_autotest | dpdk_unit_test | cryptodev_sw_zuc_autotest | cryptodev_sw_snow3g_autotest | +==============================+==============+================+===========================+==============================+ | Ubuntu 20.04 | PASS | PASS | SKIPPED | SKIPPED | +------------------------------+--------------+----------------+---------------------------+------------------------------+ | CentOS Stream 10 | SKIPPED | PASS | SKIPPED | SKIPPED | +------------------------------+--------------+----------------+---------------------------+------------------------------+ | CentOS Stream 9 | SKIPPED | PASS | SKIPPED | SKIPPED | +------------------------------+--------------+----------------+---------------------------+------------------------------+ | Debian GNU/Linux 12 | SKIPPED | PASS | SKIPPED | SKIPPED | +------------------------------+--------------+----------------+---------------------------+------------------------------+ | Fedora Linux 40 | SKIPPED | PASS | SKIPPED | SKIPPED | +------------------------------+--------------+----------------+---------------------------+------------------------------+ | Fedora Linux 41 | SKIPPED | PASS | SKIPPED | SKIPPED | +------------------------------+--------------+----------------+---------------------------+------------------------------+ | Fedora Linux 42 | SKIPPED | PASS | SKIPPED | SKIPPED | +------------------------------+--------------+----------------+---------------------------+------------------------------+ | Ubuntu 22.04 | SKIPPED | PASS | SKIPPED | SKIPPED | +------------------------------+--------------+----------------+---------------------------+------------------------------+ | Red Hat Enterprise Linux 9.5 | SKIPPED | PASS | SKIPPED | SKIPPED | +------------------------------+--------------+----------------+---------------------------+------------------------------+ | Ubuntu 24.04 | SKIPPED | PASS | SKIPPED | SKIPPED | +------------------------------+--------------+----------------+---------------------------+------------------------------+ | Debian 12 (arm) | SKIPPED | SKIPPED | PASS | PASS | +------------------------------+--------------+----------------+---------------------------+------------------------------+ Ubuntu 20.04 Kernel: 5.4 Compiler: gcc gcc (Ubuntu 9.4.0-1ubuntu1~20.04.2) 9.4.0 CentOS Stream 10 Kernel: 5.4 Compiler: gcc gcc (GCC) 14.2.1 20250110 (Red Hat 14.2.1-8) CentOS Stream 9 Kernel: 5.4 Compiler: gcc gcc (GCC) 11.5.0 20240719 (Red Hat 11.5.0-11) Debian GNU/Linux 12 Kernel: 5.4 Compiler: gcc gcc (Debian 12.2.0-14+deb12u1) 12.2.0 Fedora Linux 40 Kernel: 5.4 Compiler: gcc gcc (GCC) 14.2.1 20240912 (Red Hat 14.2.1-3) Fedora Linux 41 Kernel: 5.4 Compiler: gcc gcc (GCC) 14.3.1 20250523 (Red Hat 14.3.1-1) Fedora Linux 42 Kernel: 5.4 Compiler: gcc gcc (GCC) 15.2.1 20250808 (Red Hat 15.2.1-1) Ubuntu 22.04 Kernel: 5.4 Compiler: gcc gcc (Ubuntu 11.4.0-1ubuntu1~22.04) 11.4.0 Red Hat Enterprise Linux 9.5 Kernel: 5.4 Compiler: gcc gcc (GCC) 11.5.0 20240719 (Red Hat 11.5.0-2) Ubuntu 24.04 Kernel: 5.4 Compiler: gcc gcc (Ubuntu 13.3.0-6ubuntu2~24.04) 13.3.0 Debian 12 (arm) Kernel: Depends on container host Compiler: gcc (Debian 12.2.0-14) 12.2.0 To view detailed results, visit: https://lab.dpdk.org/results/dashboard/patchsets/34453/ UNH-IOL DPDK Community Lab To manage your email subscriptions, visit: https://lab.dpdk.org/results/dashboard/preferences/subscriptions/