From mboxrd@z Thu Jan 1 00:00:00 1970 Return-Path: Received: from mails.dpdk.org (mails.dpdk.org [217.70.189.124]) by inbox.dpdk.org (Postfix) with ESMTP id 0741B48AAA for ; Tue, 4 Nov 2025 14:49:34 +0100 (CET) Received: from mails.dpdk.org (localhost [127.0.0.1]) by mails.dpdk.org (Postfix) with ESMTP id E980140269; Tue, 4 Nov 2025 14:49:33 +0100 (CET) Received: from mail-ua1-f97.google.com (mail-ua1-f97.google.com [209.85.222.97]) by mails.dpdk.org (Postfix) with ESMTP id DFEC940269 for ; Tue, 4 Nov 2025 14:49:32 +0100 (CET) Received: by mail-ua1-f97.google.com with SMTP id a1e0cc1a2514c-935356590ddso771081241.1 for ; Tue, 04 Nov 2025 05:49:32 -0800 (PST) DKIM-Signature: v=1; a=rsa-sha256; c=relaxed/relaxed; d=iol.unh.edu; s=unh-iol; t=1762264172; x=1762868972; darn=dpdk.org; h=references:in-reply-to:cc:to:from:subject:message-id:date:from:to :cc:subject:date:message-id:reply-to; bh=ld4Dsga4Hp9RwGPQiBgl7Y9ZKl16cIK0xEJOzBrFv8I=; b=DJVUvQGttXSMwY+zDqNcmSrEeUerba4dLH0kZ99YZwSRUotVUsn+VgPuEkg0JAa0nh 8nitpQd0Vw1IhpZcPzZBAvMEAGcR+rwZY17eV9Y9tIUsHfo9ByEvtnf83vHPiezAIXwM KDb3DR3hNnSXsaEpoGwDJ9ljzH4ivaACQROsI= X-Google-DKIM-Signature: v=1; a=rsa-sha256; c=relaxed/relaxed; d=1e100.net; s=20230601; t=1762264172; x=1762868972; h=references:in-reply-to:cc:to:from:subject:message-id:date :x-gm-message-state:from:to:cc:subject:date:message-id:reply-to; bh=ld4Dsga4Hp9RwGPQiBgl7Y9ZKl16cIK0xEJOzBrFv8I=; b=A5CeJgAyglJb7df1HZOLhi53V+rGvSpEN8za1h9nyIIId6Xx3iSVwTidYE0ku8Lpx/ 5W4usAFukgR9p7g1IA1/lYzlvxr86YUs/kmtW2/XCCqcCMkLpkMnVIhwMyfRil8J/M/6 /PU3C7zcHNRqbf7qztyeyJ3qZ59p3sRI58QB4Z7rtdtV79U9DQab2mH1cdAtKtkeevyL 5rblE/ngNhoFM7xFHy5bfe2XC6McaO/LbJK6PrBxLEKpaU+FzQLGKje0H6DpBVkGhL7v HJorEQe+Jtd0mvv6g76DW0H/0Yg8w+m0zqWpwHtmi/sj9z0zt9djfwcaLwcjQM6L8kL1 TBNg== X-Gm-Message-State: AOJu0YxgPLl4UdEuhGoDeLRYduunwrJzd34WWc0fW2DKdhH305L342Hg 8xNvXmA0BK/7GXUUNBqcX0NcNYMumuUEVRFDLfWZvjXsoqd/WX2fUCBaSjcpOPtHQJkZT/AWn9W xNsKlxKygRaNX/kk/T4H4y255a97yk04zLKFoF1qrFhHV X-Gm-Gg: ASbGncu36g2P48wBdKYEsCTnrYJmX32UYeubytaeYB6quiI1YsfKA7D/ZWfeFxwPkuI 1Q6cphIuBIXV8h5CIZfSLZE7vwvehoU2bh4AvwuqE2Hx5+nS1MSYqL/VYDJewtIra0iMPTKq5Pc g87cgL87/22xpCa2zcKX3H0Py7T5HRb3/AF5f8Ko5hGgbl9BQnNelt94Zz58mzLvgH4nRDGK0aq k+tvEXGIwSxTGMuAVX44lNYsNDIjpCTdHke1WSXAzb8eC3zMk4y3KJjoLVRvZnnfPSZhvmW7M7Q W/1frBUSd9AZKIl6i+GKUXVUpAOEeLOml3A4tbQMD5GbM2bgdLSu7WQeC3QnkFuAR5y+bE4m4oO NmEVML0PT/7IF93d48a3RNTOrCe1RNQ4= X-Google-Smtp-Source: AGHT+IFsTjfEp/K/QyFL3YaDoG+lRS/ASApRlEaXt8a3PgUpN3a79SdwELpboqb6Bj3sfDvt1UGxhYI7Dyn4 X-Received: by 2002:a05:6122:551:b0:559:61bb:18f1 with SMTP id 71dfb90a1353d-559769b87e8mr979923e0c.7.1762264172063; Tue, 04 Nov 2025 05:49:32 -0800 (PST) Received: from postal.iol.unh.edu (postal.iol.unh.edu. [132.177.123.84]) by smtp-relay.gmail.com with ESMTPS id 71dfb90a1353d-55973bd3e90sm295397e0c.2.2025.11.04.05.49.32 (version=TLS1_2 cipher=ECDHE-ECDSA-AES128-GCM-SHA256 bits=128/128); Tue, 04 Nov 2025 05:49:32 -0800 (PST) X-Relaying-Domain: iol.unh.edu Date: Tue, 04 Nov 2025 05:49:32 -0800 (PST) Message-ID: <690a046c.050a0220.c7adf.088fSMTPIN_ADDED_MISSING@mx.google.com> Received: from [172.21.0.3] (unknown [172.18.0.240]) by postal.iol.unh.edu (Postfix) with ESMTP id 977AE6051830; Tue, 4 Nov 2025 08:49:31 -0500 (EST) Subject: |SUCCESS| pw158410 [PATCH] [v2,1/1] dmadev: add domain_id field to a From: dpdklab@iol.unh.edu To: Test Report Cc: dpdk-test-reports@iol.unh.edu In-Reply-To: <20251104052146.2308361-1-vattunuru@marvell.com> References: <20251104052146.2308361-1-vattunuru@marvell.com> Content-Type: text/plain X-BeenThere: test-report@dpdk.org X-Mailman-Version: 2.1.29 Precedence: list List-Id: automatic DPDK test reports List-Unsubscribe: , List-Archive: List-Post: List-Help: List-Subscribe: , Errors-To: test-report-bounces@dpdk.org Test-Label: iol-compile-arm64-testing Test-Status: SUCCESS http://dpdk.org/patch/158410 _Testing PASS_ Submitter: Vamsi Krishna Attunuru Date: Tuesday, November 04 2025 05:21:46 DPDK git baseline: Repo:dpdk Branch: master CommitID:8c4861d00aabcf54ef9d6f1df2a4cfb37c06f6c2 158410 --> testing pass Upstream job id: Generic-DPDK-Compile-Meson#440485 Test environment and result as below: +------------------------------+--------------------+ | Environment | dpdk_meson_compile | +==============================+====================+ | Red Hat Enterprise Linux 9.5 | PASS | +------------------------------+--------------------+ | Ubuntu 20.04 | PASS | +------------------------------+--------------------+ | Debian GNU/Linux 12 | PASS | +------------------------------+--------------------+ | Fedora Linux 42 | PASS | +------------------------------+--------------------+ | Ubuntu 22.04 | PASS | +------------------------------+--------------------+ | Ubuntu 24.04 | PASS | +------------------------------+--------------------+ | CentOS Stream 9 | PASS | +------------------------------+--------------------+ | CentOS Stream 10 | PASS | +------------------------------+--------------------+ Red Hat Enterprise Linux 9.5 Kernel: 5.4 Compiler: gcc gcc (GCC) 11.5.0 20240719 (Red Hat 11.5.0-2) Ubuntu 20.04 Kernel: 5.15 Compiler: aarch64-linux-gnu-gcc gcc (Ubuntu 9.4.0-1ubuntu1~20.04.2) 9.4.0 Debian GNU/Linux 12 Kernel: 5.4 Compiler: gcc gcc (Debian 12.2.0-14+deb12u1) 12.2.0 Fedora Linux 42 Kernel: 5.4 Compiler: gcc gcc (GCC) 15.2.1 20250808 (Red Hat 15.2.1-1) Ubuntu 22.04 Kernel: 5.4 Compiler: gcc gcc (Ubuntu 11.4.0-1ubuntu1~22.04) 11.4.0 Ubuntu 24.04 Kernel: 5.4 Compiler: gcc gcc (Ubuntu 13.3.0-6ubuntu2~24.04) 13.3.0 CentOS Stream 9 Kernel: 5.4 Compiler: gcc gcc (GCC) 11.5.0 20240719 (Red Hat 11.5.0-11) CentOS Stream 10 Kernel: 5.4 Compiler: gcc gcc (GCC) 14.2.1 20250110 (Red Hat 14.2.1-8) To view detailed results, visit: https://lab.dpdk.org/results/dashboard/patchsets/34453/ UNH-IOL DPDK Community Lab To manage your email subscriptions, visit: https://lab.dpdk.org/results/dashboard/preferences/subscriptions/