From mboxrd@z Thu Jan 1 00:00:00 1970 Return-Path: Received: from mails.dpdk.org (mails.dpdk.org [217.70.189.124]) by inbox.dpdk.org (Postfix) with ESMTP id 2F55048AAA for ; Tue, 4 Nov 2025 14:51:16 +0100 (CET) Received: from mails.dpdk.org (localhost [127.0.0.1]) by mails.dpdk.org (Postfix) with ESMTP id 24D7840269; Tue, 4 Nov 2025 14:51:16 +0100 (CET) Received: from mail-pj1-f97.google.com (mail-pj1-f97.google.com [209.85.216.97]) by mails.dpdk.org (Postfix) with ESMTP id 047F140269 for ; Tue, 4 Nov 2025 14:51:14 +0100 (CET) Received: by mail-pj1-f97.google.com with SMTP id 98e67ed59e1d1-340c1c05feeso2801599a91.1 for ; Tue, 04 Nov 2025 05:51:14 -0800 (PST) DKIM-Signature: v=1; a=rsa-sha256; c=relaxed/relaxed; d=iol.unh.edu; s=unh-iol; t=1762264274; x=1762869074; darn=dpdk.org; h=references:in-reply-to:cc:to:from:subject:message-id:date:from:to :cc:subject:date:message-id:reply-to; bh=BQzV1jevNaF5jRTq5iwWzL16Hzwk2MZT+Vu0igFftCo=; b=WfEgTsorqpoKTVV+SUQYf+HvCHrs49zbuhEl1y4YSuQTVnQD0XN0fuij9eo94uXChj Wa6juX1cBGby14tcaDvEHhxJNQJgzxtoYn39cBr6Pjr5QMtD6Y+UP2OwVShrzvgaQ5JK zGUGaQnuv1u7ckvobppAHQU+BriQ3sXxDtCBM= X-Google-DKIM-Signature: v=1; a=rsa-sha256; c=relaxed/relaxed; d=1e100.net; s=20230601; t=1762264274; x=1762869074; h=references:in-reply-to:cc:to:from:subject:message-id:date :x-gm-message-state:from:to:cc:subject:date:message-id:reply-to; bh=BQzV1jevNaF5jRTq5iwWzL16Hzwk2MZT+Vu0igFftCo=; b=Brvfn0nmUv5GWw8WafU4m/gsNkPF7vZXJx5WUp5lHxtAISv9UN1QVdqXVK+LavIN/h Zxi4uOlTieaEM7FCNXl4p18sB6VCeEBwG2erc8tTwHxWIDJtMBMHhE0kbX+sDUwmepU5 f3yYmf7Y2HliZDFpxMH0IrdXywD/4khtXjtkUgK//siXZg2jkAojJgCvJ9mOF8JC0SrS AEM78b4AP12XD7fzImUS0F5F7b2Rz2Qcp6G7N9QiAhY+zw6DskF9nvr85kIhGJXtouPY HQow1GibAEICmN3wacXwj28KUAGQTdkyJWvuK+gI4urdaKkdUXYRNqsbuMxiUbHaGJv0 PMxA== X-Gm-Message-State: AOJu0YzuEaxl7CsVXwt/dElujksIX6FfMX4z9o0R8dXCZv6u/+kSvy0G VIAd2aMKGl7GfoPiqMzaiUx7kdKGk+u1dla7zhYki9B8FfCLXzclgrf778Jd3+eQepB30kTDgia NxzMYxxb5c6IBjPHKqsF75gagjeb6H2Ke2NrWMoIaSmpe X-Gm-Gg: ASbGncvm73J/0uwZ+Vc5/LCfLhzc1PrxGmnnKMBswAUd3f5vUU5u58cTD2BjBysbC16 quEGy8n5UoF2KOQxxmDzO8vj6X0yxGTXdvERnl+pbqkLVLmUqlaeTpH+CdZSYwq1SQxIuWB0O+p 342V3z/yIGjT8bNWflVAc4ek6Gp7ZdfRaQwKjL1+itIKjyKhMtUy6LiV45wFUeoDZq4RtOejYpM rVDoIRZAZ04IVMk1LvTjNAt+7lqAZUlTSkb3whsY7rJbwxNWkNNk/Q0q1RKmmehoSzDR27cNvOz reWqpNLp685qKt15WleAJEmWW9mjbpHqigeiL4dPewRI7614VZmTNf872lKSeu+vESH6n9mgaQA bz6kv9+lia6VA7kSALeFSP9mEs78+qg4= X-Google-Smtp-Source: AGHT+IEVEE9f8IbpHuRSqeYN88QCGm4b3PAQ33PPzyjFgZPq1phxZjO6mxes6QKSoZbJkWaZLiQrCVWD404K X-Received: by 2002:a17:90a:e7cf:b0:340:fb6a:cb4c with SMTP id 98e67ed59e1d1-340fb6acd05mr12085144a91.30.1762264274084; Tue, 04 Nov 2025 05:51:14 -0800 (PST) Received: from postal.iol.unh.edu (postal.iol.unh.edu. [132.177.123.84]) by smtp-relay.gmail.com with ESMTPS id 98e67ed59e1d1-3417a701797sm107752a91.1.2025.11.04.05.51.13 (version=TLS1_2 cipher=ECDHE-ECDSA-AES128-GCM-SHA256 bits=128/128); Tue, 04 Nov 2025 05:51:14 -0800 (PST) X-Relaying-Domain: iol.unh.edu Date: Tue, 04 Nov 2025 05:51:14 -0800 (PST) Message-ID: <690a04d2.170a0220.228bc9.5cbcSMTPIN_ADDED_MISSING@mx.google.com> Received: from [172.21.0.9] (unknown [172.18.0.240]) by postal.iol.unh.edu (Postfix) with ESMTP id 31E9F6051830; Tue, 4 Nov 2025 08:51:13 -0500 (EST) Subject: |SUCCESS| pw158418 [PATCH] vhost: fix use-after-free race during cle From: dpdklab@iol.unh.edu To: Test Report Cc: dpdk-test-reports@iol.unh.edu, Chenbo Xia , Maxime Coquelin In-Reply-To: <20251104080931.8102-1-shperetz@nvidia.com> References: <20251104080931.8102-1-shperetz@nvidia.com> Content-Type: text/plain X-BeenThere: test-report@dpdk.org X-Mailman-Version: 2.1.29 Precedence: list List-Id: automatic DPDK test reports List-Unsubscribe: , List-Archive: List-Post: List-Help: List-Subscribe: , Errors-To: test-report-bounces@dpdk.org Test-Label: iol-compile-arm64-testing Test-Status: SUCCESS http://dpdk.org/patch/158418 _Testing PASS_ Submitter: Shani Peretz Date: Tuesday, November 04 2025 08:09:31 DPDK git baseline: Repo:dpdk-next-virtio Branch: master CommitID:6b37c26a95388aa41bb5267c7c42f604fd571a38 158418 --> testing pass Upstream job id: Generic-DPDK-Compile-Meson#440500 Test environment and result as below: +------------------------------+--------------------+ | Environment | dpdk_meson_compile | +==============================+====================+ | Ubuntu 20.04 | PASS | +------------------------------+--------------------+ | Red Hat Enterprise Linux 9.5 | PASS | +------------------------------+--------------------+ | Debian GNU/Linux 12 | PASS | +------------------------------+--------------------+ | Fedora Linux 42 | PASS | +------------------------------+--------------------+ | CentOS Stream 9 | PASS | +------------------------------+--------------------+ | CentOS Stream 10 | PASS | +------------------------------+--------------------+ | Ubuntu 22.04 | PASS | +------------------------------+--------------------+ | Ubuntu 24.04 | PASS | +------------------------------+--------------------+ Ubuntu 20.04 Kernel: 5.15 Compiler: aarch64-linux-gnu-gcc gcc (Ubuntu 9.4.0-1ubuntu1~20.04.2) 9.4.0 Red Hat Enterprise Linux 9.5 Kernel: 5.4 Compiler: gcc gcc (GCC) 11.5.0 20240719 (Red Hat 11.5.0-2) Debian GNU/Linux 12 Kernel: 5.4 Compiler: gcc gcc (Debian 12.2.0-14+deb12u1) 12.2.0 Fedora Linux 42 Kernel: 5.4 Compiler: gcc gcc (GCC) 15.2.1 20250808 (Red Hat 15.2.1-1) CentOS Stream 9 Kernel: 5.4 Compiler: gcc gcc (GCC) 11.5.0 20240719 (Red Hat 11.5.0-11) CentOS Stream 10 Kernel: 5.4 Compiler: gcc gcc (GCC) 14.2.1 20250110 (Red Hat 14.2.1-8) Ubuntu 22.04 Kernel: 5.4 Compiler: gcc gcc (Ubuntu 11.4.0-1ubuntu1~22.04) 11.4.0 Ubuntu 24.04 Kernel: 5.4 Compiler: gcc gcc (Ubuntu 13.3.0-6ubuntu2~24.04) 13.3.0 To view detailed results, visit: https://lab.dpdk.org/results/dashboard/patchsets/34454/ UNH-IOL DPDK Community Lab To manage your email subscriptions, visit: https://lab.dpdk.org/results/dashboard/preferences/subscriptions/