From mboxrd@z Thu Jan 1 00:00:00 1970 Return-Path: Received: from mails.dpdk.org (mails.dpdk.org [217.70.189.124]) by inbox.dpdk.org (Postfix) with ESMTP id 7539048AAA for ; Tue, 4 Nov 2025 15:06:43 +0100 (CET) Received: from mails.dpdk.org (localhost [127.0.0.1]) by mails.dpdk.org (Postfix) with ESMTP id 7194C4028C; Tue, 4 Nov 2025 15:06:43 +0100 (CET) Received: from mail-pj1-f98.google.com (mail-pj1-f98.google.com [209.85.216.98]) by mails.dpdk.org (Postfix) with ESMTP id 539854028C for ; Tue, 4 Nov 2025 15:06:42 +0100 (CET) Received: by mail-pj1-f98.google.com with SMTP id 98e67ed59e1d1-33b9dc8d517so5120265a91.0 for ; Tue, 04 Nov 2025 06:06:42 -0800 (PST) DKIM-Signature: v=1; a=rsa-sha256; c=relaxed/relaxed; d=iol.unh.edu; s=unh-iol; t=1762265201; x=1762870001; darn=dpdk.org; h=references:in-reply-to:cc:to:from:subject:message-id:date:from:to :cc:subject:date:message-id:reply-to; bh=1rtmNmdO2E+QDZJ2HfQRzSLHZUN386BqLuPXff87gxU=; b=PJQQERoi5YeUfANj307zovqI0u0LcHH0MK1rSp/BnNItBfN2cziwLxJJanUXHClLCc Yq8wkPRO2CXyxZPqxMHe9XzoAajhSAv5adAWKmGHp1yl7zT0wa7nB4BB8pYXA9dmTGwB Oa9KOMncJA+3lG084gfg2TPEi/b+GEmw8KFaQ= X-Google-DKIM-Signature: v=1; a=rsa-sha256; c=relaxed/relaxed; d=1e100.net; s=20230601; t=1762265201; x=1762870001; h=references:in-reply-to:cc:to:from:subject:message-id:date :x-gm-message-state:from:to:cc:subject:date:message-id:reply-to; bh=1rtmNmdO2E+QDZJ2HfQRzSLHZUN386BqLuPXff87gxU=; b=aKovnpDijRZZE4WJqQ/Jo7z6rNzFoH+SoSQeWwKFY8UPKBB0D+ERwe1NsCn3dwW4B0 V+U3Fkh2KGygrFNrnFa7j9vuuohmtGw9FpvlSw+6xtM9NyjXRyrp7IsKyj6h3SwpZPlE 03kJCLC2kTXotVapt0+mNZiAEJQlTm5lw+42IL2QzINtqbErYrRuo/szChf8cuXJiENI KfOexsZsXRwe0dHaTfFQjWmEClRjntSSWj9DO5qoZcImvdr5/SrUBubT11tFiqd0Wpmg UPyFrgs//BktGl4jQej8/dS6KOfrWf5H1aQBJp/qtL6dcY8wwENRC89etLndE0SG0mHB OHaA== X-Gm-Message-State: AOJu0Yw2JSJBFEcgsQSwZQYRRusqVffWivj2fUSR2OZOBCkrJ1i9rEWy fxFDwZx51cFYPVVQIXyjDtlgEpbB4LkFnGTsLEJe2fkVq+XvfYhRTmVNM7pXRCEvHeUeQ/5SOR4 LXIhCtOZ8jgjM4IjkKbZW57eyfPPHvOmYiMKQ66ZNGQ9s X-Gm-Gg: ASbGncuGuYHVLIVvvqcg0cBMYYsdsrij82nWokhZ9dRO1nFzjfAZUB/bZuKAgpDgbwY PHoq2Av9BzyCjrLlnzheecLVvzdsrgIAKYFF/867TgUg/gwuwzCHucAKp2AYTLxIzPtwvWupl3g L23gwL1ovJOjlvYfZUApKCwV49NbWe3zMGTCcv8XKwOkIujZL+N5LVKrEz5GD2g0v9Q9HBeOJ9E qsS+4ndLAjAO6FS6f7AIVbPKShsOwd/UZe5+lfBlniNylYK5q0c9dpldzlErMiVaO4u32JWhpa0 T5pMReUyxSGmibxNgaNben0Gk4fEmF5tuTvikcjzDcarJBTFjQAWyf1RDj1Hwcvu5bqgkXZS7Nf aW5b0V0AowZNpJmhEEcfVKCfGzexxCac= X-Google-Smtp-Source: AGHT+IHWsx1KN8Q5gO8e39493oflFviR9kTeXAKY11ccZCvN5xDOtCmZlEwrXfCi6BW37QvSi9t9OcwlBOSA X-Received: by 2002:a17:90b:388d:b0:32e:d599:1f66 with SMTP id 98e67ed59e1d1-34083089300mr20318295a91.30.1762265201291; Tue, 04 Nov 2025 06:06:41 -0800 (PST) Received: from postal.iol.unh.edu (postal.iol.unh.edu. [132.177.123.84]) by smtp-relay.gmail.com with ESMTPS id 41be03b00d2f7-ba1f5990acasm149931a12.14.2025.11.04.06.06.41 (version=TLS1_2 cipher=ECDHE-ECDSA-AES128-GCM-SHA256 bits=128/128); Tue, 04 Nov 2025 06:06:41 -0800 (PST) X-Relaying-Domain: iol.unh.edu Date: Tue, 04 Nov 2025 06:06:41 -0800 (PST) Message-ID: <690a0871.630a0220.5c1b2.8544SMTPIN_ADDED_MISSING@mx.google.com> Received: from [172.21.0.2] (unknown [172.18.0.240]) by postal.iol.unh.edu (Postfix) with ESMTP id AE8206051830; Tue, 4 Nov 2025 09:06:40 -0500 (EST) Subject: |SUCCESS| pw158418 [PATCH] vhost: fix use-after-free race during cle From: dpdklab@iol.unh.edu To: Test Report Cc: dpdk-test-reports@iol.unh.edu, Chenbo Xia , Maxime Coquelin In-Reply-To: <20251104080931.8102-1-shperetz@nvidia.com> References: <20251104080931.8102-1-shperetz@nvidia.com> Content-Type: text/plain X-BeenThere: test-report@dpdk.org X-Mailman-Version: 2.1.29 Precedence: list List-Id: automatic DPDK test reports List-Unsubscribe: , List-Archive: List-Post: List-Help: List-Subscribe: , Errors-To: test-report-bounces@dpdk.org Test-Label: iol-unit-arm64-testing Test-Status: SUCCESS http://dpdk.org/patch/158418 _Testing PASS_ Submitter: Shani Peretz Date: Tuesday, November 04 2025 08:09:31 DPDK git baseline: Repo:dpdk-next-virtio Branch: master CommitID:6b37c26a95388aa41bb5267c7c42f604fd571a38 158418 --> testing pass Upstream job id: Generic-Unit-Test-DPDK#388296 Test environment and result as below: +------------------------------+----------------+---------------------------+------------------------------+--------------+ | Environment | dpdk_unit_test | cryptodev_sw_zuc_autotest | cryptodev_sw_snow3g_autotest | lpm_autotest | +==============================+================+===========================+==============================+==============+ | Ubuntu 22.04 | PASS | SKIPPED | SKIPPED | SKIPPED | +------------------------------+----------------+---------------------------+------------------------------+--------------+ | Fedora Linux 42 | PASS | SKIPPED | SKIPPED | SKIPPED | +------------------------------+----------------+---------------------------+------------------------------+--------------+ | Fedora Linux 40 | PASS | SKIPPED | SKIPPED | SKIPPED | +------------------------------+----------------+---------------------------+------------------------------+--------------+ | Fedora Linux 41 | PASS | SKIPPED | SKIPPED | SKIPPED | +------------------------------+----------------+---------------------------+------------------------------+--------------+ | CentOS Stream 10 | PASS | SKIPPED | SKIPPED | SKIPPED | +------------------------------+----------------+---------------------------+------------------------------+--------------+ | Debian GNU/Linux 12 | PASS | SKIPPED | SKIPPED | SKIPPED | +------------------------------+----------------+---------------------------+------------------------------+--------------+ | Ubuntu 24.04 | PASS | SKIPPED | SKIPPED | SKIPPED | +------------------------------+----------------+---------------------------+------------------------------+--------------+ | CentOS Stream 9 | PASS | SKIPPED | SKIPPED | SKIPPED | +------------------------------+----------------+---------------------------+------------------------------+--------------+ | Ubuntu 20.04 | PASS | SKIPPED | SKIPPED | PASS | +------------------------------+----------------+---------------------------+------------------------------+--------------+ | Red Hat Enterprise Linux 9.5 | PASS | SKIPPED | SKIPPED | SKIPPED | +------------------------------+----------------+---------------------------+------------------------------+--------------+ | Debian 12 (arm) | SKIPPED | PASS | PASS | SKIPPED | +------------------------------+----------------+---------------------------+------------------------------+--------------+ Ubuntu 22.04 Kernel: 5.4 Compiler: gcc gcc (Ubuntu 11.4.0-1ubuntu1~22.04) 11.4.0 Fedora Linux 42 Kernel: 5.4 Compiler: gcc gcc (GCC) 15.2.1 20250808 (Red Hat 15.2.1-1) Fedora Linux 40 Kernel: 5.4 Compiler: gcc gcc (GCC) 14.2.1 20240912 (Red Hat 14.2.1-3) Fedora Linux 41 Kernel: 5.4 Compiler: gcc gcc (GCC) 14.3.1 20250523 (Red Hat 14.3.1-1) CentOS Stream 10 Kernel: 5.4 Compiler: gcc gcc (GCC) 14.2.1 20250110 (Red Hat 14.2.1-8) Debian GNU/Linux 12 Kernel: 5.4 Compiler: gcc gcc (Debian 12.2.0-14+deb12u1) 12.2.0 Ubuntu 24.04 Kernel: 5.4 Compiler: gcc gcc (Ubuntu 13.3.0-6ubuntu2~24.04) 13.3.0 CentOS Stream 9 Kernel: 5.4 Compiler: gcc gcc (GCC) 11.5.0 20240719 (Red Hat 11.5.0-11) Ubuntu 20.04 Kernel: 5.4 Compiler: gcc gcc (Ubuntu 9.4.0-1ubuntu1~20.04.2) 9.4.0 Red Hat Enterprise Linux 9.5 Kernel: 5.4 Compiler: gcc gcc (GCC) 11.5.0 20240719 (Red Hat 11.5.0-2) Debian 12 (arm) Kernel: Depends on container host Compiler: gcc (Debian 12.2.0-14) 12.2.0 To view detailed results, visit: https://lab.dpdk.org/results/dashboard/patchsets/34454/ UNH-IOL DPDK Community Lab To manage your email subscriptions, visit: https://lab.dpdk.org/results/dashboard/preferences/subscriptions/