From mboxrd@z Thu Jan 1 00:00:00 1970 Return-Path: Received: from mails.dpdk.org (mails.dpdk.org [217.70.189.124]) by inbox.dpdk.org (Postfix) with ESMTP id EA1A048AAA for ; Tue, 4 Nov 2025 15:27:03 +0100 (CET) Received: from mails.dpdk.org (localhost [127.0.0.1]) by mails.dpdk.org (Postfix) with ESMTP id E6A0F40269; Tue, 4 Nov 2025 15:27:03 +0100 (CET) Received: from mail-qv1-f100.google.com (mail-qv1-f100.google.com [209.85.219.100]) by mails.dpdk.org (Postfix) with ESMTP id CF69C40269 for ; Tue, 4 Nov 2025 15:27:02 +0100 (CET) Received: by mail-qv1-f100.google.com with SMTP id 6a1803df08f44-88044caaa3eso42315536d6.3 for ; Tue, 04 Nov 2025 06:27:02 -0800 (PST) DKIM-Signature: v=1; a=rsa-sha256; c=relaxed/relaxed; d=iol.unh.edu; s=unh-iol; t=1762266422; x=1762871222; darn=dpdk.org; h=references:in-reply-to:cc:to:from:subject:message-id:date:from:to :cc:subject:date:message-id:reply-to; bh=poWZjLHdG3Y/GgzjO5pA7p5kvLG5avdkk0El2kyqyfg=; b=Vk9Hq3tyIcB53EJx96S8cQZiejjGET8ngxBSrILkl+saYCqBfNJK1c5uXyryOj3fJ0 8YR+T7Fm/NK1KsQCCEkTOj0B3F3INkmCC/gsZozU4aCJYjBi3MwFfBVPG7LQNKzvl8ia EMPpWVqaoZ9SMjXAFJeR8HdvM/vz2IPeqtSe0= X-Google-DKIM-Signature: v=1; a=rsa-sha256; c=relaxed/relaxed; d=1e100.net; s=20230601; t=1762266422; x=1762871222; h=references:in-reply-to:cc:to:from:subject:message-id:date :x-gm-message-state:from:to:cc:subject:date:message-id:reply-to; bh=poWZjLHdG3Y/GgzjO5pA7p5kvLG5avdkk0El2kyqyfg=; b=wiS4Ijrhab2biHH+7WNavg4P0m+0AelN5XbvfTTsa2zwKCVNdmISkUHorL/dV16HWe FWFJ1TyZ5mJ1fMLQsyf+2IQ5Fbq/EJhOKooVV0trYhlM1CqZHncGTDQB1qAUZwVeFYhU JCRDGPjMTBYPI0Fy5RmhAKgmmytbol6s+K2Ibjon3TM333szQC+VOFHkFT0NByAZnIwt K0NLSwWp20kFKmtgNnBsobN0oMQpHvTDPsxqYlItBTqxMICqiikV+TibTOMcnO42xa8t lu5QUppWOzVvPdqORUSyW5KjmEiHsBgfaMgcyFqSv1f8J1bTNbXQu5EHc6RZAid1FKtb rrnQ== X-Gm-Message-State: AOJu0YyVPB02lDUlGZsc2mNBuLSCrcez1hUbpUXtII8yKUOEtbQSEmW3 uFfdFZrYvHhXPIghgzGPTQzwY363R1bgp0ad6eeNVvGSkgerotlgAI6sF2T+hU5RGXlYOm+MGMj wM181nJJwjaETZOJ1FD3gcikrryC6H9EJgm3Azp/OKL29 X-Gm-Gg: ASbGnct6ny+G+4+9yz3MekaelyY8SMEQd5wB3mljCaNPj+ygg8ILMxy9Thzsths6WTA O0KLPA/YU8yNiEv84hBthkJlhbxxYqELvyS61bngesTTAKQMNAS6FHaGQpREdjViP2u69n3SdQq OJgpB0AZi1Of7XQwlbQuFdzdCKcNLVdR4E67tdCcu4PbX8FD8FYZDcBnAha/drlfZw/+ycAIfy2 NeFNVpj6xFKzUdu7Xji71T/mnVwt9nU6wMXRJEK/z42zuHsZpberQBMg/H4klHXSPbzPzH/qljb 3789ZYCaHoQfGIfXhFrhjuCB0SMlo2b18bCTXipGWBXa37m2ut4X1iTw+JL9owOMh2ADlX6FqfE 6z1I0IXLMdYMDG3+bYaIhvZOEXA3zHmM= X-Google-Smtp-Source: AGHT+IF7QyB51zSVbFe8mka1Cv0mgI/PbIIawm8M5iFnYlFyzfoqrGcvlw3XasuStHFomKrwRwo89dc2MTmP X-Received: by 2002:a05:6214:2426:b0:87b:f369:35d2 with SMTP id 6a1803df08f44-8802f4541d5mr245648446d6.39.1762266422185; Tue, 04 Nov 2025 06:27:02 -0800 (PST) Received: from postal.iol.unh.edu (postal.iol.unh.edu. [132.177.123.84]) by smtp-relay.gmail.com with ESMTPS id 6a1803df08f44-880653a7cc4sm1969266d6.11.2025.11.04.06.27.02 (version=TLS1_2 cipher=ECDHE-ECDSA-AES128-GCM-SHA256 bits=128/128); Tue, 04 Nov 2025 06:27:02 -0800 (PST) X-Relaying-Domain: iol.unh.edu Date: Tue, 04 Nov 2025 06:27:02 -0800 (PST) Message-ID: <690a0d36.050a0220.34e6c6.ac92SMTPIN_ADDED_MISSING@mx.google.com> Received: from [172.21.0.4] (unknown [172.18.0.240]) by postal.iol.unh.edu (Postfix) with ESMTP id CC1DE604D420; Tue, 4 Nov 2025 09:27:01 -0500 (EST) Subject: |SUCCESS| pw158422 [PATCH] eventdev: fix build with clang 21 From: dpdklab@iol.unh.edu To: Test Report Cc: dpdk-test-reports@iol.unh.edu, Jerin Jacob In-Reply-To: <20251104130820.2692144-1-david.marchand@redhat.com> References: <20251104130820.2692144-1-david.marchand@redhat.com> Content-Type: text/plain X-BeenThere: test-report@dpdk.org X-Mailman-Version: 2.1.29 Precedence: list List-Id: automatic DPDK test reports List-Unsubscribe: , List-Archive: List-Post: List-Help: List-Subscribe: , Errors-To: test-report-bounces@dpdk.org Test-Label: iol-unit-amd64-testing Test-Status: SUCCESS http://dpdk.org/patch/158422 _Testing PASS_ Submitter: David Marchand Date: Tuesday, November 04 2025 13:08:20 DPDK git baseline: Repo:dpdk-next-eventdev Branch: master CommitID:39b54f2dcf44ad1f91eabc7080cd5dea763607fd 158422 --> testing pass Upstream job id: Generic-VM-Unit-Test-DPDK#32279 Test environment and result as below: +-------------------------------+----------------+ | Environment | dpdk_unit_test | +===============================+================+ | CentOS Stream 9 | PASS | +-------------------------------+----------------+ | Debian GNU/Linux 12 | PASS | +-------------------------------+----------------+ | CentOS Stream 10 | PASS | +-------------------------------+----------------+ | Windows Server 2022 | PASS | +-------------------------------+----------------+ | Fedora Linux 42 | PASS | +-------------------------------+----------------+ | Ubuntu 20.04 | PASS | +-------------------------------+----------------+ | Ubuntu 22.04 | PASS | +-------------------------------+----------------+ | Red Hat Enterprise Linux 8.10 | PASS | +-------------------------------+----------------+ | Fedora Linux 41 | PASS | +-------------------------------+----------------+ | Ubuntu 24.04 | PASS | +-------------------------------+----------------+ | Red Hat Enterprise Linux 9.5 | PASS | +-------------------------------+----------------+ | Fedora Linux 40 | PASS | +-------------------------------+----------------+ CentOS Stream 9 Kernel: 5.15 Compiler: gcc gcc (GCC) 11.5.0 20240719 (Red Hat 11.5.0-11) Debian GNU/Linux 12 Kernel: 5.15 Compiler: gcc gcc (Debian 12.2.0-14+deb12u1) 12.2.0 CentOS Stream 10 Kernel: 5.15 Compiler: gcc gcc (GCC) 14.2.1 20250110 (Red Hat 14.2.1-8) Windows Server 2022 Kernel: 10.0.20348.2031 Compiler: clang 15.0.7, gcc 14.1.0 (MinGW), and MSVC VS 19.39.33521 Fedora Linux 42 Kernel: 5.15 Compiler: gcc gcc (GCC) 15.2.1 20250808 (Red Hat 15.2.1-1) Ubuntu 20.04 Kernel: 5.15 Compiler: gcc gcc (Ubuntu 9.4.0-1ubuntu1~20.04.2) 9.4.0 Ubuntu 22.04 Kernel: 5.15 Compiler: gcc gcc (Ubuntu 11.4.0-1ubuntu1~22.04) 11.4.0 Red Hat Enterprise Linux 8.10 Kernel: 5.15 Compiler: gcc gcc (GCC) 8.5.0 20210514 (Red Hat 8.5.0-22) Fedora Linux 41 Kernel: 5.15 Compiler: gcc gcc (GCC) 14.3.1 20250523 (Red Hat 14.3.1-1) Ubuntu 24.04 Kernel: 5.15 Compiler: gcc gcc (Ubuntu 13.3.0-6ubuntu2~24.04) 13.3.0 Red Hat Enterprise Linux 9.5 Kernel: 5.15 Compiler: gcc gcc (GCC) 11.5.0 20240719 (Red Hat 11.5.0-2) Fedora Linux 40 Kernel: 5.15 Compiler: clang gcc (GCC) 14.2.1 20240912 (Red Hat 14.2.1-3) To view detailed results, visit: https://lab.dpdk.org/results/dashboard/patchsets/34458/ UNH-IOL DPDK Community Lab To manage your email subscriptions, visit: https://lab.dpdk.org/results/dashboard/preferences/subscriptions/