From mboxrd@z Thu Jan 1 00:00:00 1970 Return-Path: Received: from mails.dpdk.org (mails.dpdk.org [217.70.189.124]) by inbox.dpdk.org (Postfix) with ESMTP id 52A0C48AAA for ; Tue, 4 Nov 2025 15:30:43 +0100 (CET) Received: from mails.dpdk.org (localhost [127.0.0.1]) by mails.dpdk.org (Postfix) with ESMTP id 4E88840269; Tue, 4 Nov 2025 15:30:43 +0100 (CET) Received: from mail-il1-f225.google.com (mail-il1-f225.google.com [209.85.166.225]) by mails.dpdk.org (Postfix) with ESMTP id 7AAA340269 for ; Tue, 4 Nov 2025 15:30:42 +0100 (CET) Received: by mail-il1-f225.google.com with SMTP id e9e14a558f8ab-4331e9cb748so10166675ab.1 for ; Tue, 04 Nov 2025 06:30:42 -0800 (PST) DKIM-Signature: v=1; a=rsa-sha256; c=relaxed/relaxed; d=iol.unh.edu; s=unh-iol; t=1762266642; x=1762871442; darn=dpdk.org; h=references:in-reply-to:cc:to:from:subject:message-id:date:from:to :cc:subject:date:message-id:reply-to; bh=miekcDbVFYIyIvt0zsKMyo05cia5dLF5QptB+LIb0eQ=; b=bQndORUhseztfgNPDJFlgc73FC9jR2bNyoSTdm4INTmM+fXl0cuG3vhVT62548JpHD ZNEz3u5ghGKYfezgKWAmNX43BIbg4yagTDYycrZilB/zXiMDMTlW6stJmguYZycSxRmc fCS+aontUxZ8war9dff48suvZSJEPocl0n7qM= X-Google-DKIM-Signature: v=1; a=rsa-sha256; c=relaxed/relaxed; d=1e100.net; s=20230601; t=1762266642; x=1762871442; h=references:in-reply-to:cc:to:from:subject:message-id:date :x-gm-message-state:from:to:cc:subject:date:message-id:reply-to; bh=miekcDbVFYIyIvt0zsKMyo05cia5dLF5QptB+LIb0eQ=; b=OF2U7+BOHDmMg96iO5CcVnmxHsM9kNWNJiX6eogN6SlwYGhVTeNStUl8F5lsDmtnUM VTuoVWFDNTqYb7ephztLAaCis353ptiOq77fV9/69RCXXWbZIrhJ7+VKu7svlYaxbkDj kx6o/JuEduH7FajZdwTbKYrSoiACqMN6r1DNo5F64tTtgkdbIs7TCNHOtGyDiuCthnkh MYUF226CYgWPAiYZCOJCk3kA6n2Ex0VIAD9qfT8+E73sSDlp8dioCIAQwvndzYEkdGZj 2MVCHCScsr8S6LFFgBfvEE4oOs49m/ofUSkvBoTlSZblZr1v8JadXU5RCNs42zmNRKlc Eu/w== X-Gm-Message-State: AOJu0YxHJTG3CJzbkiKfp5trHd2zVe7cIQikQnwMz2JY/0xcWJneQCUJ dIy/bl3nWWldP34Dzo4RngKtg+q3br1XYtz0OL0mI0cSL2M1hF+KJzB7hH0XUnkxW74dGjIIrz8 KtV8Akea52gQ2aAeIefW9i/q56WM8HAaZaQh2twUtuDgS X-Gm-Gg: ASbGnctU6nDcZPD3bMMuRDlWALQ8pqgku3JdQLrrJHXGy14AgRZ8CJ5m96JlTFhbgIJ YZTBvAwMCNcvjKHkya9kK3ZDYQYrzJuDGVmy9EDRypyxv4/ik0tQX+VqB0vWpnt9OHRatWePSIC SoRjX0eD9EyEgkbLI7OioSJn5eTGSZxwR/1qVUCeEQp/piz+9LEdYrlAI0VbiTWxb0++gZXWpWs 22ZQ4vfQ5R4EYhF9qojTJHNf52H9mkxeLRDZhYQre7fvbn0WQTP4dnEtLCGWpRckNbWUP876N50 n8QhlJY9VzQerE99t3OsNQzqxAibOCtls8zWGy9y85t73R/1TM5Ebo+fnxfEYdNHFFuq1yhywuI XjCiUzJzQTxrwxTLzVX2C5tZ8YTbscmg= X-Google-Smtp-Source: AGHT+IHihUeeY9UgTHmyNzwFU9pkMHnltwTETljsX9+ioaXWs2Yh08UtDOe10OD1IfLDYDQPz/CVz2qKmtmG X-Received: by 2002:a05:6e02:349b:b0:433:2823:ef9c with SMTP id e9e14a558f8ab-43337773862mr58623505ab.0.1762266641667; Tue, 04 Nov 2025 06:30:41 -0800 (PST) Received: from postal.iol.unh.edu (postal.iol.unh.edu. [132.177.123.84]) by smtp-relay.gmail.com with ESMTPS id e9e14a558f8ab-43335b2be7dsm2846705ab.22.2025.11.04.06.30.41 (version=TLS1_2 cipher=ECDHE-ECDSA-AES128-GCM-SHA256 bits=128/128); Tue, 04 Nov 2025 06:30:41 -0800 (PST) X-Relaying-Domain: iol.unh.edu Date: Tue, 04 Nov 2025 06:30:41 -0800 (PST) Message-ID: <690a0e11.050a0220.175a8a.0240SMTPIN_ADDED_MISSING@mx.google.com> Received: from [172.21.0.3] (unknown [172.18.0.240]) by postal.iol.unh.edu (Postfix) with ESMTP id E16276051830; Tue, 4 Nov 2025 09:30:40 -0500 (EST) Subject: |SUCCESS| pw158422 [PATCH] eventdev: fix build with clang 21 From: dpdklab@iol.unh.edu To: Test Report Cc: dpdk-test-reports@iol.unh.edu, Jerin Jacob In-Reply-To: <20251104130820.2692144-1-david.marchand@redhat.com> References: <20251104130820.2692144-1-david.marchand@redhat.com> Content-Type: text/plain X-BeenThere: test-report@dpdk.org X-Mailman-Version: 2.1.29 Precedence: list List-Id: automatic DPDK test reports List-Unsubscribe: , List-Archive: List-Post: List-Help: List-Subscribe: , Errors-To: test-report-bounces@dpdk.org Test-Label: iol-compile-amd64-testing Test-Status: SUCCESS http://dpdk.org/patch/158422 _Testing PASS_ Submitter: David Marchand Date: Tuesday, November 04 2025 13:08:20 DPDK git baseline: Repo:dpdk-next-eventdev Branch: master CommitID:39b54f2dcf44ad1f91eabc7080cd5dea763607fd 158422 --> testing pass Upstream job id: Windows-Compile-DPDK-Native#32106 Test environment and result as below: +-------------------------------+--------------------+-------------------------+-------------------+------------------+----------------------+ | Environment | dpdk_meson_compile | dpdk_llvm_clang_compile | dpdk_msvc_compile | dpdk_compile_ovs | dpdk_mingw64_compile | +===============================+====================+=========================+===================+==================+======================+ | Ubuntu 20.04 | PASS | SKIPPED | SKIPPED | SKIPPED | SKIPPED | +-------------------------------+--------------------+-------------------------+-------------------+------------------+----------------------+ | FreeBSD 14.2 | PASS | SKIPPED | SKIPPED | SKIPPED | SKIPPED | +-------------------------------+--------------------+-------------------------+-------------------+------------------+----------------------+ | Debian GNU/Linux 12 | PASS | SKIPPED | SKIPPED | SKIPPED | SKIPPED | +-------------------------------+--------------------+-------------------------+-------------------+------------------+----------------------+ | CentOS Stream 9 | PASS | SKIPPED | SKIPPED | SKIPPED | SKIPPED | +-------------------------------+--------------------+-------------------------+-------------------+------------------+----------------------+ | CentOS Stream 10 | PASS | SKIPPED | SKIPPED | SKIPPED | SKIPPED | +-------------------------------+--------------------+-------------------------+-------------------+------------------+----------------------+ | Fedora Linux 42 | PASS | SKIPPED | SKIPPED | PASS | SKIPPED | +-------------------------------+--------------------+-------------------------+-------------------+------------------+----------------------+ | openSUSE Leap 15.6 | PASS | SKIPPED | SKIPPED | SKIPPED | SKIPPED | +-------------------------------+--------------------+-------------------------+-------------------+------------------+----------------------+ | Red Hat Enterprise Linux 8.10 | PASS | SKIPPED | SKIPPED | SKIPPED | SKIPPED | +-------------------------------+--------------------+-------------------------+-------------------+------------------+----------------------+ | Ubuntu 24.04 | PASS | SKIPPED | SKIPPED | PASS | SKIPPED | +-------------------------------+--------------------+-------------------------+-------------------+------------------+----------------------+ | Red Hat Enterprise Linux 9.5 | PASS | SKIPPED | SKIPPED | SKIPPED | SKIPPED | +-------------------------------+--------------------+-------------------------+-------------------+------------------+----------------------+ | Alpine Linux 3.22.0 | PASS | SKIPPED | SKIPPED | SKIPPED | SKIPPED | +-------------------------------+--------------------+-------------------------+-------------------+------------------+----------------------+ | Ubuntu 22.04 | PASS | SKIPPED | SKIPPED | SKIPPED | SKIPPED | +-------------------------------+--------------------+-------------------------+-------------------+------------------+----------------------+ | Windows Server 2022 | SKIPPED | PASS | PASS | SKIPPED | PASS | +-------------------------------+--------------------+-------------------------+-------------------+------------------+----------------------+ Ubuntu 20.04 Kernel: 4.19 Compiler: gcc gcc (Ubuntu 9.4.0-1ubuntu1~20.04.2) 9.4.0 FreeBSD 14.2 Kernel: 14.2-RELEASE Compiler: clang 18.1.6 Debian GNU/Linux 12 Kernel: 5.15 Compiler: gcc gcc (Debian 12.2.0-14+deb12u1) 12.2.0 CentOS Stream 9 Kernel: 5.15 Compiler: gcc gcc (GCC) 11.5.0 20240719 (Red Hat 11.5.0-11) CentOS Stream 10 Kernel: 5.15 Compiler: gcc gcc (GCC) 14.2.1 20250110 (Red Hat 14.2.1-8) Fedora Linux 42 Kernel: 5.15 Compiler: gcc gcc (GCC) 15.2.1 20250808 (Red Hat 15.2.1-1) openSUSE Leap 15.6 Kernel: 5.15 Compiler: gcc gcc (SUSE Linux) 7.5.0 Red Hat Enterprise Linux 8.10 Kernel: 5.15 Compiler: gcc gcc (GCC) 8.5.0 20210514 (Red Hat 8.5.0-22) Ubuntu 24.04 Kernel: 5.15 Compiler: gcc gcc (Ubuntu 13.3.0-6ubuntu2~24.04) 13.3.0 Red Hat Enterprise Linux 9.5 Kernel: 5.15 Compiler: gcc gcc (GCC) 11.5.0 20240719 (Red Hat 11.5.0-2) Alpine Linux 3.22.0 Kernel: 5.15 Compiler: gcc gcc (Alpine 14.2.0) 14.2.0 Ubuntu 22.04 Kernel: 5.15 Compiler: gcc gcc (Ubuntu 11.4.0-1ubuntu1~22.04) 11.4.0 Windows Server 2022 Kernel: 10.0.20348.2031 Compiler: clang 15.0.7, gcc 14.1.0 (MinGW), and MSVC VS 19.39.33521 To view detailed results, visit: https://lab.dpdk.org/results/dashboard/patchsets/34458/ UNH-IOL DPDK Community Lab To manage your email subscriptions, visit: https://lab.dpdk.org/results/dashboard/preferences/subscriptions/