From mboxrd@z Thu Jan 1 00:00:00 1970 Return-Path: Received: from mails.dpdk.org (mails.dpdk.org [217.70.189.124]) by inbox.dpdk.org (Postfix) with ESMTP id 604F248AAA for ; Tue, 4 Nov 2025 15:30:50 +0100 (CET) Received: from mails.dpdk.org (localhost [127.0.0.1]) by mails.dpdk.org (Postfix) with ESMTP id 5C4A040269; Tue, 4 Nov 2025 15:30:50 +0100 (CET) Received: from mail-qk1-f227.google.com (mail-qk1-f227.google.com [209.85.222.227]) by mails.dpdk.org (Postfix) with ESMTP id 9201B40269 for ; Tue, 4 Nov 2025 15:30:49 +0100 (CET) Received: by mail-qk1-f227.google.com with SMTP id af79cd13be357-89e93741839so377977385a.3 for ; Tue, 04 Nov 2025 06:30:49 -0800 (PST) DKIM-Signature: v=1; a=rsa-sha256; c=relaxed/relaxed; d=iol.unh.edu; s=unh-iol; t=1762266649; x=1762871449; darn=dpdk.org; h=references:in-reply-to:cc:to:from:subject:message-id:date:from:to :cc:subject:date:message-id:reply-to; bh=LT+3o6fllNhyCqfCabTauaU1N5kCO7ehbZ5iRnjVhvE=; b=LLXv5n4Ie5rFHQ9YcuW7C/fPWE8bk294ONeagmqRFUb27YlfmP23wqsSf4dMDk+hsW pSy80XgRkVNEdVVzplyeN/9eeLYY9SuF9kbTRxNrcRDpuTfm4Kyu2KRM5je0cE1XKZZe dSaJNl+YqVBr5DMP0LgpgWLo0/OdWRSvxZ/kA= X-Google-DKIM-Signature: v=1; a=rsa-sha256; c=relaxed/relaxed; d=1e100.net; s=20230601; t=1762266649; x=1762871449; h=references:in-reply-to:cc:to:from:subject:message-id:date :x-gm-message-state:from:to:cc:subject:date:message-id:reply-to; bh=LT+3o6fllNhyCqfCabTauaU1N5kCO7ehbZ5iRnjVhvE=; b=mFvECNilhEA0zkUMw3eKyZR6kA5prz/mWBcCwL7IYTlpUQobvIprrGRSUEzmrAOGs4 4PZcAs1fxnwiTMc+dE/0BWXVAU6R0rjq0swWnJRbrJ7awAYoShJgsqcF8R8mv+hi5WpR eXDkjGPERiWb+kBibL/CEpyvQrIbdKqgLSngH14+SjWeaDRzCm1IxNTja4/PWbfaUhmk Zw/1xVg3WQYiVYX8b7jHW6QNtIbw/rsyQShpSGU3zz2uZtiGa0J7oODwH20LJNx//Q03 M6ayjbUOuXTy5yNCtBcHTzgqWoitWN5qkkzNRiHcuYLyiuOAzqbTqv9nCWrXEp/1GSXc KTbA== X-Gm-Message-State: AOJu0YwGOYmGDCXVAPRv+2gPi+ZX9fb6fq8R2L9QXhO/1hrreByC5h6Y qU9SF8PQ4jhf7en6U6ZMOGG5JuEWwEzKWOVlA7awdToq2Q9bOdRTxhixwOAynDaqzRd57VMe0p3 ljgYrxAlve9KgrqYUXJada0mbH/1oEeu4L+QHLTbunshC X-Gm-Gg: ASbGncuyoy35Ivn1uPm/oSawJBlZgg0ChLKDVGRR0qlG6xs1c9TVGoUIMfvXipHGGBH z7UYJmwC4DLwJpFu4Ej4Qhtx4NwQvq68bwrsjqKHV2mr36K4UJH3ztcIa89gTv4skz1qb0PAQ0g idLKlRkFuVQ9sg5OIV2kbYoLsmYbJPITNkA7kFF8bUnbMGEBM70NPrqfjzE0TpCB/DFc1eGdtgK 2IJuJyE5KXjpBBIgE7ef84+cM/WPcRZrjz87HRqU+Rhus2hYuMM/0YM+yLwjugDFq4eQdbADKGk 1ZpOzhzKCQb5HsSvSd2mVzrP3Q68FYDbSY/jtungAQHaKODZEo0O5yPHkZoIbvQCDVRmk/LGUEM npip93/bpUpbMHYLQu9W79kecmE7JvDo= X-Google-Smtp-Source: AGHT+IFPdDHvEC4t3RY88SYTBLRPes7o2ExLC6x5PrNu1gS8/VolngzkxOynJc1xvZDUvCAeXcVAeCsAcdlB X-Received: by 2002:a05:620a:2685:b0:89e:e474:4b0 with SMTP id af79cd13be357-8ab99f61214mr2060548785a.37.1762266646160; Tue, 04 Nov 2025 06:30:46 -0800 (PST) Received: from postal.iol.unh.edu (postal.iol.unh.edu. [132.177.123.84]) by smtp-relay.gmail.com with ESMTPS id af79cd13be357-8b0f51d431asm24638885a.1.2025.11.04.06.30.46 (version=TLS1_2 cipher=ECDHE-ECDSA-AES128-GCM-SHA256 bits=128/128); Tue, 04 Nov 2025 06:30:46 -0800 (PST) X-Relaying-Domain: iol.unh.edu Date: Tue, 04 Nov 2025 06:30:46 -0800 (PST) Message-ID: <690a0e16.050a0220.17ee1c.d70eSMTPIN_ADDED_MISSING@mx.google.com> Received: from [172.21.0.4] (unknown [172.18.0.240]) by postal.iol.unh.edu (Postfix) with ESMTP id 9C2006051830; Tue, 4 Nov 2025 09:30:45 -0500 (EST) Subject: |SUCCESS| pw158421 [PATCH] rawdev: fix build with clang 21 From: dpdklab@iol.unh.edu To: Test Report Cc: dpdk-test-reports@iol.unh.edu In-Reply-To: <20251104130808.2692053-1-david.marchand@redhat.com> References: <20251104130808.2692053-1-david.marchand@redhat.com> Content-Type: text/plain X-BeenThere: test-report@dpdk.org X-Mailman-Version: 2.1.29 Precedence: list List-Id: automatic DPDK test reports List-Unsubscribe: , List-Archive: List-Post: List-Help: List-Subscribe: , Errors-To: test-report-bounces@dpdk.org Test-Label: iol-unit-amd64-testing Test-Status: SUCCESS http://dpdk.org/patch/158421 _Testing PASS_ Submitter: David Marchand Date: Tuesday, November 04 2025 13:08:08 DPDK git baseline: Repo:dpdk Branch: master CommitID:1bdf2b3c27880f1d90df46a89d5643f20587a973 158421 --> testing pass Upstream job id: Generic-Unit-Test-DPDK#388448 Test environment and result as below: +-------------------------------+----------------+ | Environment | dpdk_unit_test | +===============================+================+ | Fedora Linux 40 | PASS | +-------------------------------+----------------+ | Ubuntu 22.04 | PASS | +-------------------------------+----------------+ | CentOS Stream 10 | PASS | +-------------------------------+----------------+ | Fedora Linux 41 | PASS | +-------------------------------+----------------+ | Ubuntu 20.04 | PASS | +-------------------------------+----------------+ | CentOS Stream 9 | PASS | +-------------------------------+----------------+ | Debian GNU/Linux 12 | PASS | +-------------------------------+----------------+ | Fedora Linux 42 | PASS | +-------------------------------+----------------+ | Red Hat Enterprise Linux 8.10 | PASS | +-------------------------------+----------------+ | Ubuntu 24.04 | PASS | +-------------------------------+----------------+ | Red Hat Enterprise Linux 9.5 | PASS | +-------------------------------+----------------+ Fedora Linux 40 Kernel: 5.15 Compiler: gcc gcc (GCC) 14.2.1 20240912 (Red Hat 14.2.1-3) Ubuntu 22.04 Kernel: 5.15 Compiler: gcc gcc (Ubuntu 11.4.0-1ubuntu1~22.04) 11.4.0 CentOS Stream 10 Kernel: 5.15 Compiler: gcc gcc (GCC) 14.2.1 20250110 (Red Hat 14.2.1-8) Fedora Linux 41 Kernel: 5.15 Compiler: clang gcc (GCC) 14.3.1 20250523 (Red Hat 14.3.1-1) Ubuntu 20.04 Kernel: 5.15 Compiler: gcc gcc (Ubuntu 9.4.0-1ubuntu1~20.04.2) 9.4.0 CentOS Stream 9 Kernel: 5.15 Compiler: gcc gcc (GCC) 11.5.0 20240719 (Red Hat 11.5.0-11) Debian GNU/Linux 12 Kernel: 5.15 Compiler: gcc gcc (Debian 12.2.0-14+deb12u1) 12.2.0 Fedora Linux 42 Kernel: 5.15 Compiler: clang gcc (GCC) 15.2.1 20250808 (Red Hat 15.2.1-1) Red Hat Enterprise Linux 8.10 Kernel: 5.15 Compiler: gcc gcc (GCC) 8.5.0 20210514 (Red Hat 8.5.0-22) Ubuntu 24.04 Kernel: 5.15 Compiler: gcc gcc (Ubuntu 13.3.0-6ubuntu2~24.04) 13.3.0 Red Hat Enterprise Linux 9.5 Kernel: 5.15 Compiler: gcc gcc (GCC) 11.5.0 20240719 (Red Hat 11.5.0-2) To view detailed results, visit: https://lab.dpdk.org/results/dashboard/patchsets/34459/ UNH-IOL DPDK Community Lab To manage your email subscriptions, visit: https://lab.dpdk.org/results/dashboard/preferences/subscriptions/