From mboxrd@z Thu Jan 1 00:00:00 1970 Return-Path: Received: from mails.dpdk.org (mails.dpdk.org [217.70.189.124]) by inbox.dpdk.org (Postfix) with ESMTP id 6BD5148AAA for ; Tue, 4 Nov 2025 15:30:57 +0100 (CET) Received: from mails.dpdk.org (localhost [127.0.0.1]) by mails.dpdk.org (Postfix) with ESMTP id 6839840269; Tue, 4 Nov 2025 15:30:57 +0100 (CET) Received: from mail-yx1-f98.google.com (mail-yx1-f98.google.com [74.125.224.98]) by mails.dpdk.org (Postfix) with ESMTP id 171AE40269 for ; Tue, 4 Nov 2025 15:30:57 +0100 (CET) Received: by mail-yx1-f98.google.com with SMTP id 956f58d0204a3-63cf0df1abbso5969709d50.2 for ; Tue, 04 Nov 2025 06:30:57 -0800 (PST) DKIM-Signature: v=1; a=rsa-sha256; c=relaxed/relaxed; d=iol.unh.edu; s=unh-iol; t=1762266656; x=1762871456; darn=dpdk.org; h=references:in-reply-to:cc:to:from:subject:message-id:date:from:to :cc:subject:date:message-id:reply-to; bh=YQeQma2aA5+IvK6Jj0qn6T1GqcjrbB6V7pAaCJlq3iQ=; b=H5YPm4l97Xw0LH0utQYfQ5T1OR0q2UzX8HZAZiJMm3dja3A5E+7ferVcxmnm9rMiK4 4Ub2l/rLmTwq2ZdULJHGZgsERddw61n1oUtHP/jIYKbwNwnmb8tTuFseBZrod3jqk0Qv KmInRHCSacB9g0vVduf2DqO3Axr2f9gn4KOGc= X-Google-DKIM-Signature: v=1; a=rsa-sha256; c=relaxed/relaxed; d=1e100.net; s=20230601; t=1762266656; x=1762871456; h=references:in-reply-to:cc:to:from:subject:message-id:date :x-gm-message-state:from:to:cc:subject:date:message-id:reply-to; bh=YQeQma2aA5+IvK6Jj0qn6T1GqcjrbB6V7pAaCJlq3iQ=; b=guTM6fy5W02KsKpJEN2IynV9USdZQzEquEsKFCjcUvPkWnISDR+Xn9XLU38osBu7ru rZRWAsbkMEQKgyJKX1TnnHeCL4AvOh6qiu5EPZ13MFf9fhg4RoRI3nAKFh3ILPRjfPYk ZSWIdL7qA1UFlCbOq9GAcY1jm/8lyG1HBzKouGBp5rEMjpZKKOOSmUbuS81I55yQprd2 mHWEZ8F8c8U4mFJgoq5KQDehCwi07Zz+YElgN0Ug0EJHA6XqUdAvkUnNpJ1Jad+udW0t DKKFofEcZLcZ8JUOFAkmHYXtTnmjM3sJkqj4tObIUemtcpeIjWptbZAnipNOijykokNg 3xqg== X-Gm-Message-State: AOJu0Yx+7wtjE79lpifcwv9IrHslXMUfZj2ymcWsyqIFqTWkS05pr2g6 qGsgsPS8S0cVTAiksc4HQCcHClpZz3LkVTRqKoxT87I09eb61TPbASqtJigbzbqqEtKSZX0OMN7 zmIT9rLvVAgRp4kb/6H1hvBRys67NRD/66U5JQOvN+Hev X-Gm-Gg: ASbGnctb4SOhEpXTeaGx9J6D335JD104m7QarWnjpTAhwt1GEJ7hFNlEUfSmRTrpN1M vYw65ci+OJF5rA7GmbklsGsQlnWGdCPm+fbg1oSaygaRJiSw0nGU8GmyLbfFK1W26k50sg/AJzd 8l9OJdnDXsonQGyRxxVaSlwJfG96IGwsCop+0QxTvUJG0R6tqVnRPMcS7X6TwOnBLRB+Ioc4I2J hGlJBmHiRQ4qIzP5JBVi36Edlu188PKSk7OIsxDzYb+jxPkkxF3o1CkXKKOnT/MVFEwafpze+Uo EP9I+PfDkCSGnEMdDykseGgEW9qDeOMUfv8BiNuD6mtaK9L5VhqwjPR0p45ea0AI2zTYD4rsm/O uAW+3U15+z5R6HjmYGhHVwSxPInrpqvs= X-Google-Smtp-Source: AGHT+IGovhFB10d8am4DlGDxxDqoQYcj+v0NFeYFuelkxGxAJViYG0gumlOp42Kghaxks+tKx6ahrnXASKz7 X-Received: by 2002:a05:690e:1554:20b0:63f:b5d8:9da0 with SMTP id 956f58d0204a3-63fb5d8a014mr5389260d50.22.1762266656210; Tue, 04 Nov 2025 06:30:56 -0800 (PST) Received: from postal.iol.unh.edu (postal.iol.unh.edu. [132.177.123.84]) by smtp-relay.gmail.com with ESMTPS id 956f58d0204a3-63fc95d927csm148713d50.9.2025.11.04.06.30.56 (version=TLS1_2 cipher=ECDHE-ECDSA-AES128-GCM-SHA256 bits=128/128); Tue, 04 Nov 2025 06:30:56 -0800 (PST) X-Relaying-Domain: iol.unh.edu Date: Tue, 04 Nov 2025 06:30:56 -0800 (PST) Message-ID: <690a0e20.050a0220.1b516b.81b5SMTPIN_ADDED_MISSING@mx.google.com> Received: from [172.21.0.2] (unknown [172.18.0.240]) by postal.iol.unh.edu (Postfix) with ESMTP id D92B16051830; Tue, 4 Nov 2025 09:30:55 -0500 (EST) Subject: |SUCCESS| pw158422 [PATCH] eventdev: fix build with clang 21 From: dpdklab@iol.unh.edu To: Test Report Cc: dpdk-test-reports@iol.unh.edu, Jerin Jacob In-Reply-To: <20251104130820.2692144-1-david.marchand@redhat.com> References: <20251104130820.2692144-1-david.marchand@redhat.com> Content-Type: text/plain X-BeenThere: test-report@dpdk.org X-Mailman-Version: 2.1.29 Precedence: list List-Id: automatic DPDK test reports List-Unsubscribe: , List-Archive: List-Post: List-Help: List-Subscribe: , Errors-To: test-report-bounces@dpdk.org Test-Label: iol-compile-amd64-testing Test-Status: SUCCESS http://dpdk.org/patch/158422 _Testing PASS_ Submitter: David Marchand Date: Tuesday, November 04 2025 13:08:20 DPDK git baseline: Repo:dpdk-next-eventdev Branch: master CommitID:39b54f2dcf44ad1f91eabc7080cd5dea763607fd 158422 --> testing pass Upstream job id: Generic-DPDK-Compile-Meson#440607 Test environment and result as below: +-------------------------------+--------------------+-------------------------+-------------------+------------------+----------------------+ | Environment | dpdk_meson_compile | dpdk_llvm_clang_compile | dpdk_msvc_compile | dpdk_compile_ovs | dpdk_mingw64_compile | +===============================+====================+=========================+===================+==================+======================+ | Ubuntu 20.04 | PASS | SKIPPED | SKIPPED | SKIPPED | SKIPPED | +-------------------------------+--------------------+-------------------------+-------------------+------------------+----------------------+ | FreeBSD 14.2 | PASS | SKIPPED | SKIPPED | SKIPPED | SKIPPED | +-------------------------------+--------------------+-------------------------+-------------------+------------------+----------------------+ | Debian GNU/Linux 12 | PASS | SKIPPED | SKIPPED | SKIPPED | SKIPPED | +-------------------------------+--------------------+-------------------------+-------------------+------------------+----------------------+ | CentOS Stream 9 | PASS | SKIPPED | SKIPPED | SKIPPED | SKIPPED | +-------------------------------+--------------------+-------------------------+-------------------+------------------+----------------------+ | CentOS Stream 10 | PASS | SKIPPED | SKIPPED | SKIPPED | SKIPPED | +-------------------------------+--------------------+-------------------------+-------------------+------------------+----------------------+ | Fedora Linux 42 | PASS | SKIPPED | SKIPPED | PASS | SKIPPED | +-------------------------------+--------------------+-------------------------+-------------------+------------------+----------------------+ | openSUSE Leap 15.6 | PASS | SKIPPED | SKIPPED | SKIPPED | SKIPPED | +-------------------------------+--------------------+-------------------------+-------------------+------------------+----------------------+ | Red Hat Enterprise Linux 8.10 | PASS | SKIPPED | SKIPPED | SKIPPED | SKIPPED | +-------------------------------+--------------------+-------------------------+-------------------+------------------+----------------------+ | Ubuntu 24.04 | PASS | SKIPPED | SKIPPED | PASS | SKIPPED | +-------------------------------+--------------------+-------------------------+-------------------+------------------+----------------------+ | Red Hat Enterprise Linux 9.5 | PASS | SKIPPED | SKIPPED | SKIPPED | SKIPPED | +-------------------------------+--------------------+-------------------------+-------------------+------------------+----------------------+ | Alpine Linux 3.22.0 | PASS | SKIPPED | SKIPPED | SKIPPED | SKIPPED | +-------------------------------+--------------------+-------------------------+-------------------+------------------+----------------------+ | Ubuntu 22.04 | PASS | SKIPPED | SKIPPED | SKIPPED | SKIPPED | +-------------------------------+--------------------+-------------------------+-------------------+------------------+----------------------+ | Windows Server 2022 | SKIPPED | PASS | PASS | SKIPPED | PASS | +-------------------------------+--------------------+-------------------------+-------------------+------------------+----------------------+ Ubuntu 20.04 Kernel: 4.19 Compiler: gcc gcc (Ubuntu 9.4.0-1ubuntu1~20.04.2) 9.4.0 FreeBSD 14.2 Kernel: 14.2-RELEASE Compiler: clang 18.1.6 Debian GNU/Linux 12 Kernel: 5.15 Compiler: gcc gcc (Debian 12.2.0-14+deb12u1) 12.2.0 CentOS Stream 9 Kernel: 5.15 Compiler: gcc gcc (GCC) 11.5.0 20240719 (Red Hat 11.5.0-11) CentOS Stream 10 Kernel: 5.15 Compiler: gcc gcc (GCC) 14.2.1 20250110 (Red Hat 14.2.1-8) Fedora Linux 42 Kernel: 5.15 Compiler: gcc gcc (GCC) 15.2.1 20250808 (Red Hat 15.2.1-1) openSUSE Leap 15.6 Kernel: 5.15 Compiler: gcc gcc (SUSE Linux) 7.5.0 Red Hat Enterprise Linux 8.10 Kernel: 5.15 Compiler: gcc gcc (GCC) 8.5.0 20210514 (Red Hat 8.5.0-22) Ubuntu 24.04 Kernel: 5.15 Compiler: gcc gcc (Ubuntu 13.3.0-6ubuntu2~24.04) 13.3.0 Red Hat Enterprise Linux 9.5 Kernel: 5.15 Compiler: gcc gcc (GCC) 11.5.0 20240719 (Red Hat 11.5.0-2) Alpine Linux 3.22.0 Kernel: 5.15 Compiler: gcc gcc (Alpine 14.2.0) 14.2.0 Ubuntu 22.04 Kernel: 5.15 Compiler: gcc gcc (Ubuntu 11.4.0-1ubuntu1~22.04) 11.4.0 Windows Server 2022 Kernel: 10.0.20348.2031 Compiler: clang 15.0.7, gcc 14.1.0 (MinGW), and MSVC VS 19.39.33521 To view detailed results, visit: https://lab.dpdk.org/results/dashboard/patchsets/34458/ UNH-IOL DPDK Community Lab To manage your email subscriptions, visit: https://lab.dpdk.org/results/dashboard/preferences/subscriptions/