From mboxrd@z Thu Jan 1 00:00:00 1970 Return-Path: Received: from mails.dpdk.org (mails.dpdk.org [217.70.189.124]) by inbox.dpdk.org (Postfix) with ESMTP id 68CCA48AAE for ; Tue, 4 Nov 2025 15:51:39 +0100 (CET) Received: from mails.dpdk.org (localhost [127.0.0.1]) by mails.dpdk.org (Postfix) with ESMTP id 64CDF40269; Tue, 4 Nov 2025 15:51:39 +0100 (CET) Received: from mail-pl1-f226.google.com (mail-pl1-f226.google.com [209.85.214.226]) by mails.dpdk.org (Postfix) with ESMTP id 5410440269 for ; Tue, 4 Nov 2025 15:51:38 +0100 (CET) Received: by mail-pl1-f226.google.com with SMTP id d9443c01a7336-294fd2ca6acso43402875ad.0 for ; Tue, 04 Nov 2025 06:51:38 -0800 (PST) DKIM-Signature: v=1; a=rsa-sha256; c=relaxed/relaxed; d=iol.unh.edu; s=unh-iol; t=1762267897; x=1762872697; darn=dpdk.org; h=references:in-reply-to:cc:to:from:subject:message-id:date:from:to :cc:subject:date:message-id:reply-to; bh=6e9Lu91VhdDaXT8xrSGQ3uc2V+4oOcm11lcpFISLVpg=; b=Jyh8K1BGSWvbLPrWT+jnqrnq3bgh+iGFHx7Oa7I48xRmP2Wz09bLlRc9scavYACg3d ZWDPeGbNSexdFTcmLp05MtG02x89cKjmDqMC5oOEoRYVi6olJMnnAIGFJF4whfbigDNR jvd8rXEqy9H3hv9UUPmvoFTuRdD+tGknhpswo= X-Google-DKIM-Signature: v=1; a=rsa-sha256; c=relaxed/relaxed; d=1e100.net; s=20230601; t=1762267897; x=1762872697; h=references:in-reply-to:cc:to:from:subject:message-id:date :x-gm-message-state:from:to:cc:subject:date:message-id:reply-to; bh=6e9Lu91VhdDaXT8xrSGQ3uc2V+4oOcm11lcpFISLVpg=; b=AGFJp/yZF8ltj339xjSLsNQAyE5CUgIB1i9P3bJfaDIqd8e0pLpeU1YBJ/0OxYXaGe 2SO8n1DN0sSvJ6wD9Wxdw7dpN/JQD/vlzMpCWP6ikvH2DtZbfOL/znGxOuT6hYyfsyeT QU1AG39CB6kaljgvNQ+KxiggRVI1WUG8f2f6UpLc3PMdmnw+qWznozLnCNbGa1h9mb2U 5WwhFoGt737msLRvKPSd69/9FzM3lt+hH4wnrb1T68TIjZ993f3g9p6jSqyfaQ2tC5Az a8z4hoQOz3JHD0T0OoD3YoZFLIghP52eWJyzKK9Atc0RLC9puLqqeKbCq70v0SGfkYST 4gCQ== X-Gm-Message-State: AOJu0YwRPE3JgWClrJ2poXJ2R2jilfCvgFdXacBtwMt5cUWUgg8LVzZt oda4KivIh8ehPNrVVFqsk/odOD5YHpxSgMJSy0i+BQgXYbdlgKe76L9lcgGpt3hQz/2InHmpyBB SIxYVBdmtuRDH2iK9Xyb8RrG3uuVnf9Ccuiljg97UI5Qn+1a6hdrDcP5+Xcpe X-Gm-Gg: ASbGnctCyewC0RBf9mqYYxLlQ8gWzY+QL0pdR0BZvM74oY2dAvwOQuynmEmbDj8z+4z ZPLc1mFZvbV6E154cxLHIyHSVmyoSuJfVCNiLx56WDp7IMSSE2Uehn+dZTudUs1jmJGPuExn0v0 L0Ke4YqmZ4te8WiJEPR9CjT8Wx2i1a2HfbzQaCM747zUWGjxS89HKV0Xs+NCPOYBbfhYVvKOxCc akmHU11qoGB5jP8WmAzla+54ayuQvDSe1skuL8+6pDdZ/ZuLeYbcP2Un6iAUukEJ/96DApXRmG0 1wrSacdf57yZRsWEpUbZ56ZPtDpDhXywmz7Fbm8mPySnuqPQhaURR9k06wcDvzCCagToxtNGINE hx+C/OTAX X-Google-Smtp-Source: AGHT+IFPF8fYfUEZdYnqtm7o9WYSlc7rVKufq/BmjFHqDCbMA8e7PIZZ56E/K4js7PNBRFKEoqCiqDYXm11i X-Received: by 2002:a17:902:ce8b:b0:295:5da6:5ff7 with SMTP id d9443c01a7336-295f946fc18mr45710475ad.15.1762267897451; Tue, 04 Nov 2025 06:51:37 -0800 (PST) Received: from postal.iol.unh.edu (postal.iol.unh.edu. [2606:4100:3880:1234::84]) by smtp-relay.gmail.com with ESMTPS id d9443c01a7336-2960195fe7bsm2587205ad.1.2025.11.04.06.51.37 (version=TLS1_2 cipher=ECDHE-ECDSA-AES128-GCM-SHA256 bits=128/128); Tue, 04 Nov 2025 06:51:37 -0800 (PST) X-Relaying-Domain: iol.unh.edu Date: Tue, 04 Nov 2025 06:51:37 -0800 (PST) Message-ID: <690a12f9.170a0220.df4b2.e25eSMTPIN_ADDED_MISSING@mx.google.com> Received: from [172.21.0.2] (unknown [172.18.0.240]) by postal.iol.unh.edu (Postfix) with ESMTP id AFBF26051830; Tue, 4 Nov 2025 09:51:36 -0500 (EST) Subject: |SUCCESS| pw158422 [PATCH] eventdev: fix build with clang 21 From: dpdklab@iol.unh.edu To: Test Report Cc: dpdk-test-reports@iol.unh.edu, Jerin Jacob In-Reply-To: <20251104130820.2692144-1-david.marchand@redhat.com> References: <20251104130820.2692144-1-david.marchand@redhat.com> Content-Type: text/plain X-BeenThere: test-report@dpdk.org X-Mailman-Version: 2.1.29 Precedence: list List-Id: automatic DPDK test reports List-Unsubscribe: , List-Archive: List-Post: List-Help: List-Subscribe: , Errors-To: test-report-bounces@dpdk.org Test-Label: iol-unit-amd64-testing Test-Status: SUCCESS http://dpdk.org/patch/158422 _Testing PASS_ Submitter: David Marchand Date: Tuesday, November 04 2025 13:08:20 DPDK git baseline: Repo:dpdk-next-eventdev Branch: master CommitID:39b54f2dcf44ad1f91eabc7080cd5dea763607fd 158422 --> testing pass Upstream job id: Generic-VM-Unit-Test-DPDK#32280 Test environment and result as below: +-------------------------------+----------------+ | Environment | dpdk_unit_test | +===============================+================+ | CentOS Stream 9 | PASS | +-------------------------------+----------------+ | Debian GNU/Linux 12 | PASS | +-------------------------------+----------------+ | CentOS Stream 10 | PASS | +-------------------------------+----------------+ | Windows Server 2022 | PASS | +-------------------------------+----------------+ | Fedora Linux 42 | PASS | +-------------------------------+----------------+ | Ubuntu 20.04 | PASS | +-------------------------------+----------------+ | Ubuntu 22.04 | PASS | +-------------------------------+----------------+ | Red Hat Enterprise Linux 8.10 | PASS | +-------------------------------+----------------+ | Fedora Linux 41 | PASS | +-------------------------------+----------------+ | Ubuntu 24.04 | PASS | +-------------------------------+----------------+ | Red Hat Enterprise Linux 9.5 | PASS | +-------------------------------+----------------+ | Fedora Linux 40 | PASS | +-------------------------------+----------------+ CentOS Stream 9 Kernel: 5.15 Compiler: gcc gcc (GCC) 11.5.0 20240719 (Red Hat 11.5.0-11) Debian GNU/Linux 12 Kernel: 5.15 Compiler: gcc gcc (Debian 12.2.0-14+deb12u1) 12.2.0 CentOS Stream 10 Kernel: 5.15 Compiler: gcc gcc (GCC) 14.2.1 20250110 (Red Hat 14.2.1-8) Windows Server 2022 Kernel: 10.0.20348.2031 Compiler: clang 15.0.7, gcc 14.1.0 (MinGW), and MSVC VS 19.39.33521 Fedora Linux 42 Kernel: 5.15 Compiler: gcc gcc (GCC) 15.2.1 20250808 (Red Hat 15.2.1-1) Ubuntu 20.04 Kernel: 5.15 Compiler: gcc gcc (Ubuntu 9.4.0-1ubuntu1~20.04.2) 9.4.0 Ubuntu 22.04 Kernel: 5.15 Compiler: gcc gcc (Ubuntu 11.4.0-1ubuntu1~22.04) 11.4.0 Red Hat Enterprise Linux 8.10 Kernel: 5.15 Compiler: gcc gcc (GCC) 8.5.0 20210514 (Red Hat 8.5.0-22) Fedora Linux 41 Kernel: 5.15 Compiler: gcc gcc (GCC) 14.3.1 20250523 (Red Hat 14.3.1-1) Ubuntu 24.04 Kernel: 5.15 Compiler: gcc gcc (Ubuntu 13.3.0-6ubuntu2~24.04) 13.3.0 Red Hat Enterprise Linux 9.5 Kernel: 5.15 Compiler: gcc gcc (GCC) 11.5.0 20240719 (Red Hat 11.5.0-2) Fedora Linux 40 Kernel: 5.15 Compiler: clang gcc (GCC) 14.2.1 20240912 (Red Hat 14.2.1-3) To view detailed results, visit: https://lab.dpdk.org/results/dashboard/patchsets/34458/ UNH-IOL DPDK Community Lab To manage your email subscriptions, visit: https://lab.dpdk.org/results/dashboard/preferences/subscriptions/