From mboxrd@z Thu Jan 1 00:00:00 1970 Return-Path: Received: from mails.dpdk.org (mails.dpdk.org [217.70.189.124]) by inbox.dpdk.org (Postfix) with ESMTP id 9757B48AAF for ; Tue, 4 Nov 2025 16:10:01 +0100 (CET) Received: from mails.dpdk.org (localhost [127.0.0.1]) by mails.dpdk.org (Postfix) with ESMTP id 90AC340269; Tue, 4 Nov 2025 16:10:01 +0100 (CET) Received: from mail-pl1-f228.google.com (mail-pl1-f228.google.com [209.85.214.228]) by mails.dpdk.org (Postfix) with ESMTP id AE85440269 for ; Tue, 4 Nov 2025 16:10:00 +0100 (CET) Received: by mail-pl1-f228.google.com with SMTP id d9443c01a7336-295df6ad56cso17228405ad.3 for ; Tue, 04 Nov 2025 07:10:00 -0800 (PST) DKIM-Signature: v=1; a=rsa-sha256; c=relaxed/relaxed; d=iol.unh.edu; s=unh-iol; t=1762269000; x=1762873800; darn=dpdk.org; h=references:in-reply-to:cc:to:from:subject:message-id:date:from:to :cc:subject:date:message-id:reply-to; bh=AAcu+SJQPHIJ0CLAaxnfXGQeisBDWdW3J9O/XjOYoQc=; b=CBmLe2A/5CzcV6uPCKtBUZvKtbLkWSTnVWvJb+LltMFWanqXzGZ9mlymhTnclspcSI +MEl4TLEF8p+wqUcpvxkSppPbaVovioH6VzBNnE8tF8CVnk3h1ab7sDRN4mOghOZPPl8 povPJyqOxUyrvxmdlL1Be+/dY0inPg3xIkeBE= X-Google-DKIM-Signature: v=1; a=rsa-sha256; c=relaxed/relaxed; d=1e100.net; s=20230601; t=1762269000; x=1762873800; h=references:in-reply-to:cc:to:from:subject:message-id:date :x-gm-message-state:from:to:cc:subject:date:message-id:reply-to; bh=AAcu+SJQPHIJ0CLAaxnfXGQeisBDWdW3J9O/XjOYoQc=; b=arFH0VFr27vXKALujTOn7tplPMTUCw3dzzCff3WGjSMrlUkQhOdFUZxzdHxLFP3xi0 suezkkvAaYsLTPW7d0WDLPOqLZSCbk+6Ynx1NqBCM4/ONKyj+AhBqFsUUV1aubLfYlDD uITOhKjATuC/T+A32GOd4TiFTU4B427V4b4hbjwmCIwfNf0+Z1Wbta/KyD3BtooOknai 3pE6XZfrK4DuaQXvtRHEfWWuwYz4Jo9RVwbPgM9tq5sKzJKrD36+6eKlRtGvQrjjDfSE yBN+wK8erk0mmhA5XieLOJMsInBzZ5oMLOMhBah6E5nfAoZCwDTPUwTbSSKq/RNMqtGs VB7g== X-Gm-Message-State: AOJu0YxT+N9euG08pk8vsigLgMF0mx7DQYIsQ6vPvcDqb6I9yvbPN3/p NYWR4zY6syJnqulZHWPW8BsC04FayGJ6yn6izQZHNFx6KOhR7kJxPgmPizGfPJQ5KBrUGR9VgRM 5pgqLdZJPJ/SlHX4nOI+XSkHGmz1SNzkmcug03oqvF4tG X-Gm-Gg: ASbGncvxi1WbsmBdDhdQn4BXgBdr5J86QFReFcrrAwVWGdHi03Uv21+qy06vV3aFUFq 1JaAsgW1d2vWzCqYd+eRzfO4wqhhjrvnVhJrpsUryglzvdrcvRwpaMSlreaPXybVEsv6fof6LbJ m0B3gil7x/O/nax4x7BfrTOK6S0YvSfAHBmNOXjc3MKDCzy7tbsguNaroBzHtRLeFtCd2B7TjFd hE2+e6+ojZ8H5ZX0tI0s6lpn/XUJVpyQLHA8oH0Tb8ghM9mHB1Ip6gKVj9Hq2rnXuFL4xMlXeLt 1TzUON5OhPr8EOF/8ZYYsu629mMMJPxsY7Q/Aatp8Lc/VBd+x+tXP6GBFvJ/U5dgRfLYSGiT/dM 2rDNxYkdctsFMXPy/0aCEWpyzz8B287U= X-Google-Smtp-Source: AGHT+IEznyDfcfMU50T5fSOnuBTMVJLmaAPu7qbc2eo5GH068QTY9rDa2HxC8KSXbtbg9l/E7OTuuEPvjtMB X-Received: by 2002:a17:903:1103:b0:290:dd1f:3d60 with SMTP id d9443c01a7336-2951a49de0amr183045665ad.51.1762268999661; Tue, 04 Nov 2025 07:09:59 -0800 (PST) Received: from postal.iol.unh.edu (postal.iol.unh.edu. [132.177.123.84]) by smtp-relay.gmail.com with ESMTPS id 98e67ed59e1d1-341597071c2sm341534a91.0.2025.11.04.07.09.59 (version=TLS1_2 cipher=ECDHE-ECDSA-AES128-GCM-SHA256 bits=128/128); Tue, 04 Nov 2025 07:09:59 -0800 (PST) X-Relaying-Domain: iol.unh.edu Date: Tue, 04 Nov 2025 07:09:59 -0800 (PST) Message-ID: <690a1747.170a0220.6ba0b.2f7fSMTPIN_ADDED_MISSING@mx.google.com> Received: from [172.21.0.2] (unknown [172.18.0.240]) by postal.iol.unh.edu (Postfix) with ESMTP id CD8706050A61; Tue, 4 Nov 2025 10:09:58 -0500 (EST) Subject: |SUCCESS| pw158419 [PATCH] [v2] mbuf: dump Tx offload metadata From: dpdklab@iol.unh.edu To: Test Report Cc: dpdk-test-reports@iol.unh.edu In-Reply-To: <20251104100214.1818660-1-david.marchand@redhat.com> References: <20251104100214.1818660-1-david.marchand@redhat.com> Content-Type: text/plain X-BeenThere: test-report@dpdk.org X-Mailman-Version: 2.1.29 Precedence: list List-Id: automatic DPDK test reports List-Unsubscribe: , List-Archive: List-Post: List-Help: List-Subscribe: , Errors-To: test-report-bounces@dpdk.org Test-Label: iol-compile-arm64-testing Test-Status: SUCCESS http://dpdk.org/patch/158419 _Testing PASS_ Submitter: David Marchand Date: Tuesday, November 04 2025 10:02:14 DPDK git baseline: Repo:dpdk Branch: master CommitID:8c4861d00aabcf54ef9d6f1df2a4cfb37c06f6c2 158419 --> testing pass Upstream job id: Generic-DPDK-Compile-Meson#440568 Test environment and result as below: +------------------------------+--------------------+ | Environment | dpdk_meson_compile | +==============================+====================+ | Ubuntu 20.04 | PASS | +------------------------------+--------------------+ | Ubuntu 24.04 | PASS | +------------------------------+--------------------+ | Red Hat Enterprise Linux 9.5 | PASS | +------------------------------+--------------------+ | Fedora Linux 42 | PASS | +------------------------------+--------------------+ | CentOS Stream 10 | PASS | +------------------------------+--------------------+ | CentOS Stream 9 | PASS | +------------------------------+--------------------+ | Ubuntu 22.04 | PASS | +------------------------------+--------------------+ | Debian GNU/Linux 12 | PASS | +------------------------------+--------------------+ Ubuntu 20.04 Kernel: 5.15 Compiler: aarch64-linux-gnu-gcc gcc (Ubuntu 9.4.0-1ubuntu1~20.04.2) 9.4.0 Ubuntu 24.04 Kernel: 5.4 Compiler: gcc gcc (Ubuntu 13.3.0-6ubuntu2~24.04) 13.3.0 Red Hat Enterprise Linux 9.5 Kernel: 5.4 Compiler: gcc gcc (GCC) 11.5.0 20240719 (Red Hat 11.5.0-2) Fedora Linux 42 Kernel: 5.4 Compiler: clang gcc (GCC) 15.2.1 20250808 (Red Hat 15.2.1-1) CentOS Stream 10 Kernel: 5.4 Compiler: gcc gcc (GCC) 14.2.1 20250110 (Red Hat 14.2.1-8) CentOS Stream 9 Kernel: 5.4 Compiler: gcc gcc (GCC) 11.5.0 20240719 (Red Hat 11.5.0-11) Ubuntu 22.04 Kernel: 5.4 Compiler: gcc gcc (Ubuntu 11.4.0-1ubuntu1~22.04) 11.4.0 Debian GNU/Linux 12 Kernel: 5.4 Compiler: gcc gcc (Debian 12.2.0-14+deb12u1) 12.2.0 To view detailed results, visit: https://lab.dpdk.org/results/dashboard/patchsets/34456/ UNH-IOL DPDK Community Lab To manage your email subscriptions, visit: https://lab.dpdk.org/results/dashboard/preferences/subscriptions/