From mboxrd@z Thu Jan 1 00:00:00 1970 Return-Path: Received: from mails.dpdk.org (mails.dpdk.org [217.70.189.124]) by inbox.dpdk.org (Postfix) with ESMTP id 08A4048AAF for ; Tue, 4 Nov 2025 16:13:47 +0100 (CET) Received: from mails.dpdk.org (localhost [127.0.0.1]) by mails.dpdk.org (Postfix) with ESMTP id 0339D40609; Tue, 4 Nov 2025 16:13:47 +0100 (CET) Received: from mail-io1-f100.google.com (mail-io1-f100.google.com [209.85.166.100]) by mails.dpdk.org (Postfix) with ESMTP id 1A6F440613 for ; Tue, 4 Nov 2025 16:13:46 +0100 (CET) Received: by mail-io1-f100.google.com with SMTP id ca18e2360f4ac-88703c873d5so199669039f.3 for ; Tue, 04 Nov 2025 07:13:46 -0800 (PST) DKIM-Signature: v=1; a=rsa-sha256; c=relaxed/relaxed; d=iol.unh.edu; s=unh-iol; t=1762269225; x=1762874025; darn=dpdk.org; h=references:in-reply-to:cc:to:from:subject:message-id:date:from:to :cc:subject:date:message-id:reply-to; bh=CGG24ooMXCdwlhfMjWooNFgdinaCq+mBqRtb3qOXHVU=; b=aMq6qiREGAdTmx8p634qf7IcCyEgyiHRVQ/AWm66dT02L5pvXe06btyb0bqOPKqfdI SSO4C4914C0DpykCohPx/h52QmD0DY9dvNTdGisSjcKQeW18EIJt90+KJ10l0zthOBD6 ZmDVBH72vnr6SZw2jwk4u2UAZJkdg8/hlEBf0= X-Google-DKIM-Signature: v=1; a=rsa-sha256; c=relaxed/relaxed; d=1e100.net; s=20230601; t=1762269225; x=1762874025; h=references:in-reply-to:cc:to:from:subject:message-id:date :x-gm-message-state:from:to:cc:subject:date:message-id:reply-to; bh=CGG24ooMXCdwlhfMjWooNFgdinaCq+mBqRtb3qOXHVU=; b=emrga7mV8qqgmcVYFpFhe8ttAh8NCC2LRUkWdne+9OfZ+GfE21fyLvaxx491XXvu11 w+GZeDuCEyPj5UJDec0d0vyEDsOftkObZwSlbRka7qel1BoCP7q6f2Wh+nKcq8FHJHhO mnhp/XnnQQ4xoQalj2zaH8HVUeyFbq7YtBWRxzgRHooCUIUkE4am0Br6NliCWsMp4Ybk krR5aTV/Fb/0m18pthVDe2v9shCFhW690YKd7/loGUfLTH39I3zTZAZuClIzM7FCUAEg 5ZxCR4+Pf1gRSFE7IJ/WTv1auFmIg5/M27INdmkKoWbSOwVBoyglHF+onWJ1qnA+o988 bK0A== X-Gm-Message-State: AOJu0YzSQUEmVNwOIlyka2X81MeirmwqPLHDq0R32G9+R3LTzqpD+ux8 ixYarolgnG5d5pWHXOcAlkI0X0oEFD7RGE2tZjK6khfAM6IPs1Hw1TD8WFLu8X6WW+K4TY0wmjM 1FGHhOmebbaWyr5upB3ABKyHbEN2eTQWPz+vhg5fvW2gP X-Gm-Gg: ASbGnctYNkMA71JbM+oQiv00fLS3EBkDE0Wl+E8oS/xLBEVSXnASziuJdSK+ZDAvqkQ tNsHgNT2x4tub2NTBcH2dMBUxT+2BHbj//QJJXFfuS9ctTZpUgw3LVrzBkr7O2Ba76JZ0QEPO3g Y84HGKnP8lzxAM9ETv2BVegpZmxwmCAk7dDr1dbLoco9vzgbmIywDdMTo76aQm8TNNAC2FTui0A Zx0kEWco5mhyZhVs1bWxqPdcNJ0wiANxWSFskUZ4OBlMM4W3zyH4ExQgAN68xBlWWEBoQ16Niaz lPvR0j/RB5FfY5Uimq+NTAa8DsNNj7gDj6avTPo8VLUvzMzrQ9H1ZlEgdiAYHBJnH7GeA6tB2Uj 83Ev1Ba8Y/C99LGZ3d9zFz+FUDJ3PzoE= X-Google-Smtp-Source: AGHT+IHpAN+GYr/fGAOezoKygpbV94hLm+p8uY1gkwBLzgwSV+Ze7zGtQa3vLFibl0JEwd0u3yUY2f5nu1DQ X-Received: by 2002:a05:6e02:11:b0:433:29a9:32db with SMTP id e9e14a558f8ab-43329a9337amr107463545ab.24.1762269225257; Tue, 04 Nov 2025 07:13:45 -0800 (PST) Received: from postal.iol.unh.edu (postal.iol.unh.edu. [132.177.123.84]) by smtp-relay.gmail.com with ESMTPS id 8926c6da1cb9f-5b7225aad90sm359978173.10.2025.11.04.07.13.45 (version=TLS1_2 cipher=ECDHE-ECDSA-AES128-GCM-SHA256 bits=128/128); Tue, 04 Nov 2025 07:13:45 -0800 (PST) X-Relaying-Domain: iol.unh.edu Date: Tue, 04 Nov 2025 07:13:45 -0800 (PST) Message-ID: <690a1829.050a0220.27cc85.3e04SMTPIN_ADDED_MISSING@mx.google.com> Received: from [172.21.0.3] (unknown [172.18.0.240]) by postal.iol.unh.edu (Postfix) with ESMTP id C64616050A61; Tue, 4 Nov 2025 10:13:44 -0500 (EST) Subject: |SUCCESS| pw158421 [PATCH] rawdev: fix build with clang 21 From: dpdklab@iol.unh.edu To: Test Report Cc: dpdk-test-reports@iol.unh.edu In-Reply-To: <20251104130808.2692053-1-david.marchand@redhat.com> References: <20251104130808.2692053-1-david.marchand@redhat.com> Content-Type: text/plain X-BeenThere: test-report@dpdk.org X-Mailman-Version: 2.1.29 Precedence: list List-Id: automatic DPDK test reports List-Unsubscribe: , List-Archive: List-Post: List-Help: List-Subscribe: , Errors-To: test-report-bounces@dpdk.org Test-Label: iol-compile-amd64-testing Test-Status: SUCCESS http://dpdk.org/patch/158421 _Testing PASS_ Submitter: David Marchand Date: Tuesday, November 04 2025 13:08:08 DPDK git baseline: Repo:dpdk Branch: master CommitID:1bdf2b3c27880f1d90df46a89d5643f20587a973 158421 --> testing pass Upstream job id: Windows-Compile-DPDK-Native#32107 Test environment and result as below: +-------------------------------+--------------------+------------------+-------------------+-------------------------+ | Environment | dpdk_meson_compile | dpdk_compile_ovs | dpdk_msvc_compile | dpdk_llvm_clang_compile | +===============================+====================+==================+===================+=========================+ | FreeBSD 14.2 | PASS | SKIPPED | SKIPPED | SKIPPED | +-------------------------------+--------------------+------------------+-------------------+-------------------------+ | Ubuntu 20.04 | PASS | SKIPPED | SKIPPED | SKIPPED | +-------------------------------+--------------------+------------------+-------------------+-------------------------+ | Debian GNU/Linux 12 | PASS | SKIPPED | SKIPPED | SKIPPED | +-------------------------------+--------------------+------------------+-------------------+-------------------------+ | CentOS Stream 9 | PASS | SKIPPED | SKIPPED | SKIPPED | +-------------------------------+--------------------+------------------+-------------------+-------------------------+ | CentOS Stream 10 | PASS | SKIPPED | SKIPPED | SKIPPED | +-------------------------------+--------------------+------------------+-------------------+-------------------------+ | Fedora Linux 42 | PASS | PASS | SKIPPED | SKIPPED | +-------------------------------+--------------------+------------------+-------------------+-------------------------+ | Red Hat Enterprise Linux 9.5 | PASS | SKIPPED | SKIPPED | SKIPPED | +-------------------------------+--------------------+------------------+-------------------+-------------------------+ | Red Hat Enterprise Linux 8.10 | PASS | SKIPPED | SKIPPED | SKIPPED | +-------------------------------+--------------------+------------------+-------------------+-------------------------+ | openSUSE Leap 15.6 | PASS | SKIPPED | SKIPPED | SKIPPED | +-------------------------------+--------------------+------------------+-------------------+-------------------------+ | Ubuntu 24.04 | PASS | PASS | SKIPPED | SKIPPED | +-------------------------------+--------------------+------------------+-------------------+-------------------------+ | Alpine Linux 3.22.0 | PASS | SKIPPED | SKIPPED | SKIPPED | +-------------------------------+--------------------+------------------+-------------------+-------------------------+ | Ubuntu 22.04 | PASS | SKIPPED | SKIPPED | SKIPPED | +-------------------------------+--------------------+------------------+-------------------+-------------------------+ | Windows Server 2022 | SKIPPED | SKIPPED | PASS | PASS | +-------------------------------+--------------------+------------------+-------------------+-------------------------+ FreeBSD 14.2 Kernel: 14.2-RELEASE Compiler: clang 18.1.6 Ubuntu 20.04 Kernel: 4.19 Compiler: gcc gcc (Ubuntu 9.4.0-1ubuntu1~20.04.2) 9.4.0 Debian GNU/Linux 12 Kernel: 5.15 Compiler: gcc gcc (Debian 12.2.0-14+deb12u1) 12.2.0 CentOS Stream 9 Kernel: 5.15 Compiler: gcc gcc (GCC) 11.5.0 20240719 (Red Hat 11.5.0-11) CentOS Stream 10 Kernel: 5.15 Compiler: gcc gcc (GCC) 14.2.1 20250110 (Red Hat 14.2.1-8) Fedora Linux 42 Kernel: 5.15 Compiler: clang gcc (GCC) 15.2.1 20250808 (Red Hat 15.2.1-1) Red Hat Enterprise Linux 9.5 Kernel: 5.15 Compiler: gcc gcc (GCC) 11.5.0 20240719 (Red Hat 11.5.0-2) Red Hat Enterprise Linux 8.10 Kernel: 5.15 Compiler: gcc gcc (GCC) 8.5.0 20210514 (Red Hat 8.5.0-22) openSUSE Leap 15.6 Kernel: 5.15 Compiler: gcc gcc (SUSE Linux) 7.5.0 Ubuntu 24.04 Kernel: 5.15 Compiler: gcc gcc (Ubuntu 13.3.0-6ubuntu2~24.04) 13.3.0 Alpine Linux 3.22.0 Kernel: 5.15 Compiler: gcc gcc (Alpine 14.2.0) 14.2.0 Ubuntu 22.04 Kernel: 5.15 Compiler: gcc gcc (Ubuntu 11.4.0-1ubuntu1~22.04) 11.4.0 Windows Server 2022 Kernel: 10.0.20348.2031 Compiler: clang 15.0.7, gcc 14.1.0 (MinGW), and MSVC VS 19.39.33521 To view detailed results, visit: https://lab.dpdk.org/results/dashboard/patchsets/34459/ UNH-IOL DPDK Community Lab To manage your email subscriptions, visit: https://lab.dpdk.org/results/dashboard/preferences/subscriptions/