From mboxrd@z Thu Jan 1 00:00:00 1970 Return-Path: Received: from mails.dpdk.org (mails.dpdk.org [217.70.189.124]) by inbox.dpdk.org (Postfix) with ESMTP id 1C6EE48AAF for ; Tue, 4 Nov 2025 16:23:37 +0100 (CET) Received: from mails.dpdk.org (localhost [127.0.0.1]) by mails.dpdk.org (Postfix) with ESMTP id E30E040269; Tue, 4 Nov 2025 16:23:36 +0100 (CET) Received: from mail-io1-f98.google.com (mail-io1-f98.google.com [209.85.166.98]) by mails.dpdk.org (Postfix) with ESMTP id 9771F40269 for ; Tue, 4 Nov 2025 16:23:35 +0100 (CET) Received: by mail-io1-f98.google.com with SMTP id ca18e2360f4ac-945a6c8721aso232970139f.0 for ; Tue, 04 Nov 2025 07:23:35 -0800 (PST) DKIM-Signature: v=1; a=rsa-sha256; c=relaxed/relaxed; d=iol.unh.edu; s=unh-iol; t=1762269815; x=1762874615; darn=dpdk.org; h=references:in-reply-to:cc:to:from:subject:message-id:date:from:to :cc:subject:date:message-id:reply-to; bh=K3QFr0j6leVq+tkQS3DGwicImWfqA8uZN5+S02GpwyQ=; b=bMWdumAYcABrQTg0Wr3Wrwzo0hL961B9Pap1IKC3lkUaDfkWdFF30PK0S5w89rzWjv X9xXhOaiVV1Xhy7njFLYmjWjXOitoXQ4GId6e8mmdA8QLAS9za+5MvN5mZ1NEEljhuie utlhV9RCga8jktWR+g0WBJDKX1TVgQmbBWa/0= X-Google-DKIM-Signature: v=1; a=rsa-sha256; c=relaxed/relaxed; d=1e100.net; s=20230601; t=1762269815; x=1762874615; h=references:in-reply-to:cc:to:from:subject:message-id:date :x-gm-message-state:from:to:cc:subject:date:message-id:reply-to; bh=K3QFr0j6leVq+tkQS3DGwicImWfqA8uZN5+S02GpwyQ=; b=PzU+77SdtDphEDT0HyHWr5BEu5yfzz7lGpyztf0uc7pNAyuJJbPrXmEX2jYoMnGGiV cnZJ4JdzdaFyW6aW7GLAhRn2OQ//e/0OeYHveLfU2bIp7Ftmw2N4pBuPk38rjL0+eM/r +NR2o2uaGLbvd8nIN8xrSvegfcLJDogeEWKkY1W7wGjZPWrovFK/ThcVSm6el8IlYyKM gDjmHPbapqJyKjATMmmskqlFIRNN8R/JuJ4TjrWIO2TTPsxCuyxlBXHBTU8ndgChgbg1 +og18XZFard1DyaO6zfu+eQW51pIvD/ko9WqWlDX51tCr2T4AHY9N3YUQMoNwynJJGBN BvVg== X-Gm-Message-State: AOJu0YwrXTp9oQsnSn6z9O15QAGWai/QQSvgtwXrASS7l7HQchAsSSsJ yZfsbXEHDpnZmCrTOuewEy/+n4n47lY7yuMJHlighpQ1TmDR2BiPhdqTAwAdtNE+rFZ5XTpRfQn V6mZh7d8ajDTH0PY8twqwasy0gn9ErWFZZucQ/WtGDWJPnCwQVdy+1zJGSKyq X-Gm-Gg: ASbGncvrTJMovBJ6IQr8jVyOlXw4bYt7xXn+87kw+7ZEODwO/kyweloBcEoCma6BivK 2XyKyMcNo5hTYxRq71iKLw12uE39jO5NaH4wMHwu3hVuMwT7w3bh4UEroy3i/OJvS8MGcKNDZh/ SwMc5dDp9rrUSqiMAZsSJcXWYVtV3lyacwU9orTmjc9NpzmRJ1lWMKYDg9ZNIeWA8feSOu3ay79 0IGNq1wmtHeV++o1Jk11VCDvx3mkRX8erLFZ6NQFk222w4vGwCIzg6fLOXLJoR1TOna6yl96/Kh QXiaqUPqKxT8JO4d7giJC8qtO2fZCSBnxFb14Ip1lOffK1HdSyh9cea/FADUEXjnKadtjdh06/W so/6+WZJJ X-Google-Smtp-Source: AGHT+IFrVsk0/p2bkT6UkE83Gjnz4U1s81Tox+zIW1xRUSowerME2OnGsArSlNcQc4Gmxm2OEP/VL1Zfy7Q7 X-Received: by 2002:a05:6e02:16cc:b0:430:b4ca:2696 with SMTP id e9e14a558f8ab-4330d09f17cmr237951695ab.0.1762269814907; Tue, 04 Nov 2025 07:23:34 -0800 (PST) Received: from postal.iol.unh.edu (postal.iol.unh.edu. [2606:4100:3880:1234::84]) by smtp-relay.gmail.com with ESMTPS id 8926c6da1cb9f-5b72dd18b9bsm148749173.14.2025.11.04.07.23.34 (version=TLS1_2 cipher=ECDHE-ECDSA-AES128-GCM-SHA256 bits=128/128); Tue, 04 Nov 2025 07:23:34 -0800 (PST) X-Relaying-Domain: iol.unh.edu Date: Tue, 04 Nov 2025 07:23:34 -0800 (PST) Message-ID: <690a1a76.050a0220.164a8f.7d74SMTPIN_ADDED_MISSING@mx.google.com> Received: from [172.21.0.4] (unknown [172.18.0.240]) by postal.iol.unh.edu (Postfix) with ESMTP id 39C75604D420; Tue, 4 Nov 2025 10:23:34 -0500 (EST) Subject: |SUCCESS| pw158421 [PATCH] rawdev: fix build with clang 21 From: dpdklab@iol.unh.edu To: Test Report Cc: dpdk-test-reports@iol.unh.edu In-Reply-To: <20251104130808.2692053-1-david.marchand@redhat.com> References: <20251104130808.2692053-1-david.marchand@redhat.com> Content-Type: text/plain X-BeenThere: test-report@dpdk.org X-Mailman-Version: 2.1.29 Precedence: list List-Id: automatic DPDK test reports List-Unsubscribe: , List-Archive: List-Post: List-Help: List-Subscribe: , Errors-To: test-report-bounces@dpdk.org Test-Label: iol-unit-amd64-testing Test-Status: SUCCESS http://dpdk.org/patch/158421 _Testing PASS_ Submitter: David Marchand Date: Tuesday, November 04 2025 13:08:08 DPDK git baseline: Repo:dpdk Branch: master CommitID:1bdf2b3c27880f1d90df46a89d5643f20587a973 158421 --> testing pass Upstream job id: Generic-VM-Unit-Test-DPDK#32281 Test environment and result as below: +-------------------------------+----------------+ | Environment | dpdk_unit_test | +===============================+================+ | Fedora Linux 40 | PASS | +-------------------------------+----------------+ | Ubuntu 22.04 | PASS | +-------------------------------+----------------+ | CentOS Stream 10 | PASS | +-------------------------------+----------------+ | Fedora Linux 41 | PASS | +-------------------------------+----------------+ | Ubuntu 20.04 | PASS | +-------------------------------+----------------+ | CentOS Stream 9 | PASS | +-------------------------------+----------------+ | Debian GNU/Linux 12 | PASS | +-------------------------------+----------------+ | Fedora Linux 42 | PASS | +-------------------------------+----------------+ | Red Hat Enterprise Linux 8.10 | PASS | +-------------------------------+----------------+ | Ubuntu 24.04 | PASS | +-------------------------------+----------------+ | Red Hat Enterprise Linux 9.5 | PASS | +-------------------------------+----------------+ | Windows Server 2022 | PASS | +-------------------------------+----------------+ Fedora Linux 40 Kernel: 5.15 Compiler: gcc gcc (GCC) 14.2.1 20240912 (Red Hat 14.2.1-3) Ubuntu 22.04 Kernel: 5.15 Compiler: gcc gcc (Ubuntu 11.4.0-1ubuntu1~22.04) 11.4.0 CentOS Stream 10 Kernel: 5.15 Compiler: gcc gcc (GCC) 14.2.1 20250110 (Red Hat 14.2.1-8) Fedora Linux 41 Kernel: 5.15 Compiler: clang gcc (GCC) 14.3.1 20250523 (Red Hat 14.3.1-1) Ubuntu 20.04 Kernel: 5.15 Compiler: gcc gcc (Ubuntu 9.4.0-1ubuntu1~20.04.2) 9.4.0 CentOS Stream 9 Kernel: 5.15 Compiler: gcc gcc (GCC) 11.5.0 20240719 (Red Hat 11.5.0-11) Debian GNU/Linux 12 Kernel: 5.15 Compiler: gcc gcc (Debian 12.2.0-14+deb12u1) 12.2.0 Fedora Linux 42 Kernel: 5.15 Compiler: clang gcc (GCC) 15.2.1 20250808 (Red Hat 15.2.1-1) Red Hat Enterprise Linux 8.10 Kernel: 5.15 Compiler: gcc gcc (GCC) 8.5.0 20210514 (Red Hat 8.5.0-22) Ubuntu 24.04 Kernel: 5.15 Compiler: gcc gcc (Ubuntu 13.3.0-6ubuntu2~24.04) 13.3.0 Red Hat Enterprise Linux 9.5 Kernel: 5.15 Compiler: gcc gcc (GCC) 11.5.0 20240719 (Red Hat 11.5.0-2) Windows Server 2022 Kernel: 10.0.20348.2031 Compiler: clang 15.0.7, gcc 14.1.0 (MinGW), and MSVC VS 19.39.33521 To view detailed results, visit: https://lab.dpdk.org/results/dashboard/patchsets/34459/ UNH-IOL DPDK Community Lab To manage your email subscriptions, visit: https://lab.dpdk.org/results/dashboard/preferences/subscriptions/