From mboxrd@z Thu Jan 1 00:00:00 1970 Return-Path: Received: from mails.dpdk.org (mails.dpdk.org [217.70.189.124]) by inbox.dpdk.org (Postfix) with ESMTP id 2B98748AAF for ; Tue, 4 Nov 2025 16:25:05 +0100 (CET) Received: from mails.dpdk.org (localhost [127.0.0.1]) by mails.dpdk.org (Postfix) with ESMTP id 274A640269; Tue, 4 Nov 2025 16:25:05 +0100 (CET) Received: from mail-pl1-f227.google.com (mail-pl1-f227.google.com [209.85.214.227]) by mails.dpdk.org (Postfix) with ESMTP id 8CC9540269 for ; Tue, 4 Nov 2025 16:25:03 +0100 (CET) Received: by mail-pl1-f227.google.com with SMTP id d9443c01a7336-29524abfba3so43177665ad.1 for ; Tue, 04 Nov 2025 07:25:03 -0800 (PST) DKIM-Signature: v=1; a=rsa-sha256; c=relaxed/relaxed; d=iol.unh.edu; s=unh-iol; t=1762269903; x=1762874703; darn=dpdk.org; h=references:in-reply-to:cc:to:from:subject:message-id:date:from:to :cc:subject:date:message-id:reply-to; bh=UgOCET15WRH8is5kURFTqP2uXemtk5gBHAAkGrZV8h0=; b=ZNqZ6fGviTEsbQLguliGgBd5ziCrTk9mNbh6J73wRb+VuJUVnnlJ1TWUONfG9ILwrr oPRRdlLGJ/cPOFYGPZ34ea7hScSkQG+pb+nb8FJdSrCSjAsnhRNTGsn3FBnEUguetovc kisVRnp9SrwZnein/Bo4RQIb66orx9SYPpUms= X-Google-DKIM-Signature: v=1; a=rsa-sha256; c=relaxed/relaxed; d=1e100.net; s=20230601; t=1762269903; x=1762874703; h=references:in-reply-to:cc:to:from:subject:message-id:date :x-gm-message-state:from:to:cc:subject:date:message-id:reply-to; bh=UgOCET15WRH8is5kURFTqP2uXemtk5gBHAAkGrZV8h0=; b=ZarcMlVXBC+cRId2zVF27bISMoRRMKR+9DXrMj2Fnk3u4uyPk2fhMJs0KKnkT8pkoU 98Skrl9csAougmkRP/rj6wyaWxK06B3lMTeNvnnRPqrDremxY2bglmVGyuEJHBVhFyfL 6qiMsGfWCPY+Mi6pBGC9Q9fCH9UQHyq4bvM8m1bpL9OdAAkrojNSO9ecmFNoZzdnt/SC KnAFhteg65zwASdC5GyGRYiCeCkIkmiwhLBGcZhnzsequWb3avMlL2tDZRPafXzXN6+m 5tWL6GLBLo0960POVHj+aqWiBKvmJzoPHUizBIsdHFSyUamje390RqTequUg0JCzkh97 rJfQ== X-Gm-Message-State: AOJu0YzGOquOA1PG86eAG7uoQij8TIDXoi2lYoiI1BSVXwyUG39HSqtZ p4151koPh3kfbF86CMeHC13Bddikkjn5O6biPXhHuM64rHL8QRWv1hMmn83vu7ozYPGqtjLabNB 6GKaJIZfEzlcGG3wMiHHDaRb2nPBYRYlE/g0gNWKVdLWSUkMqkJJWwyPr22Zk X-Gm-Gg: ASbGnctND8WRNE59XIfjZswkPf8vT/a0+Muf2x5Sex2p7dLdncB/Z4vjOSwQM+E31io dE/H14AJf94vIQdUJRLf/vKaEn1Kk9bsS1K3RTyQZCQeBJ2fYVg982fOArOA7QiIAmlx6yVS2zG o9Ity//1+wRmlj1NpzRRmfgDa6fkdZpD9DKszA2pDSR/kD6s2tVR5zrvcw4p8RjPxEvDznUm6f7 JBm2Jun4xBAQRI4cQKcyjJZdbQ3fmCRiMarUTfOh0jj5qvAs8ubZBk9agWu9acFpIvM0zHhDeO8 Eg50PyWnspub8DZpwAoRXVdhi58R9WcfsIM8hrhA0wUtowKmTw+hOJ2ExKBSWLZUBVy634QVysu 3GIvHVxjI X-Google-Smtp-Source: AGHT+IERWPIyb2MVWTAvkTxTnBlxXk3+u0dXPxDrfacMJT4qgzbMX7zWUYfQuCmB4/UYuJlV+a4L/0UDOrzD X-Received: by 2002:a17:902:ea0e:b0:27e:ee83:fc80 with SMTP id d9443c01a7336-2951a55346cmr195048895ad.57.1762269902506; Tue, 04 Nov 2025 07:25:02 -0800 (PST) Received: from postal.iol.unh.edu (postal.iol.unh.edu. [2606:4100:3880:1234::84]) by smtp-relay.gmail.com with ESMTPS id d9443c01a7336-2960195fe7bsm2660135ad.1.2025.11.04.07.25.02 (version=TLS1_2 cipher=ECDHE-ECDSA-AES128-GCM-SHA256 bits=128/128); Tue, 04 Nov 2025 07:25:02 -0800 (PST) X-Relaying-Domain: iol.unh.edu Date: Tue, 04 Nov 2025 07:25:02 -0800 (PST) Message-ID: <690a1ace.170a0220.df4b2.e881SMTPIN_ADDED_MISSING@mx.google.com> Received: from [172.21.0.4] (unknown [172.18.0.240]) by postal.iol.unh.edu (Postfix) with ESMTP id 93B13604D420; Tue, 4 Nov 2025 10:25:01 -0500 (EST) Subject: |SUCCESS| pw158421 [PATCH] rawdev: fix build with clang 21 From: dpdklab@iol.unh.edu To: Test Report Cc: dpdk-test-reports@iol.unh.edu In-Reply-To: <20251104130808.2692053-1-david.marchand@redhat.com> References: <20251104130808.2692053-1-david.marchand@redhat.com> Content-Type: text/plain X-BeenThere: test-report@dpdk.org X-Mailman-Version: 2.1.29 Precedence: list List-Id: automatic DPDK test reports List-Unsubscribe: , List-Archive: List-Post: List-Help: List-Subscribe: , Errors-To: test-report-bounces@dpdk.org Test-Label: iol-compile-amd64-testing Test-Status: SUCCESS http://dpdk.org/patch/158421 _Testing PASS_ Submitter: David Marchand Date: Tuesday, November 04 2025 13:08:08 DPDK git baseline: Repo:dpdk Branch: master CommitID:1bdf2b3c27880f1d90df46a89d5643f20587a973 158421 --> testing pass Upstream job id: Windows-Compile-DPDK-Native#32108 Test environment and result as below: +-------------------------------+--------------------+------------------+-------------------+-------------------------+----------------------+ | Environment | dpdk_meson_compile | dpdk_compile_ovs | dpdk_msvc_compile | dpdk_llvm_clang_compile | dpdk_mingw64_compile | +===============================+====================+==================+===================+=========================+======================+ | FreeBSD 14.2 | PASS | SKIPPED | SKIPPED | SKIPPED | SKIPPED | +-------------------------------+--------------------+------------------+-------------------+-------------------------+----------------------+ | Ubuntu 20.04 | PASS | SKIPPED | SKIPPED | SKIPPED | SKIPPED | +-------------------------------+--------------------+------------------+-------------------+-------------------------+----------------------+ | Debian GNU/Linux 12 | PASS | SKIPPED | SKIPPED | SKIPPED | SKIPPED | +-------------------------------+--------------------+------------------+-------------------+-------------------------+----------------------+ | CentOS Stream 9 | PASS | SKIPPED | SKIPPED | SKIPPED | SKIPPED | +-------------------------------+--------------------+------------------+-------------------+-------------------------+----------------------+ | CentOS Stream 10 | PASS | SKIPPED | SKIPPED | SKIPPED | SKIPPED | +-------------------------------+--------------------+------------------+-------------------+-------------------------+----------------------+ | Fedora Linux 42 | PASS | PASS | SKIPPED | SKIPPED | SKIPPED | +-------------------------------+--------------------+------------------+-------------------+-------------------------+----------------------+ | Red Hat Enterprise Linux 9.5 | PASS | SKIPPED | SKIPPED | SKIPPED | SKIPPED | +-------------------------------+--------------------+------------------+-------------------+-------------------------+----------------------+ | Red Hat Enterprise Linux 8.10 | PASS | SKIPPED | SKIPPED | SKIPPED | SKIPPED | +-------------------------------+--------------------+------------------+-------------------+-------------------------+----------------------+ | openSUSE Leap 15.6 | PASS | SKIPPED | SKIPPED | SKIPPED | SKIPPED | +-------------------------------+--------------------+------------------+-------------------+-------------------------+----------------------+ | Ubuntu 24.04 | PASS | PASS | SKIPPED | SKIPPED | SKIPPED | +-------------------------------+--------------------+------------------+-------------------+-------------------------+----------------------+ | Alpine Linux 3.22.0 | PASS | SKIPPED | SKIPPED | SKIPPED | SKIPPED | +-------------------------------+--------------------+------------------+-------------------+-------------------------+----------------------+ | Ubuntu 22.04 | PASS | SKIPPED | SKIPPED | SKIPPED | SKIPPED | +-------------------------------+--------------------+------------------+-------------------+-------------------------+----------------------+ | Windows Server 2022 | SKIPPED | SKIPPED | PASS | PASS | PASS | +-------------------------------+--------------------+------------------+-------------------+-------------------------+----------------------+ FreeBSD 14.2 Kernel: 14.2-RELEASE Compiler: clang 18.1.6 Ubuntu 20.04 Kernel: 4.19 Compiler: gcc gcc (Ubuntu 9.4.0-1ubuntu1~20.04.2) 9.4.0 Debian GNU/Linux 12 Kernel: 5.15 Compiler: gcc gcc (Debian 12.2.0-14+deb12u1) 12.2.0 CentOS Stream 9 Kernel: 5.15 Compiler: gcc gcc (GCC) 11.5.0 20240719 (Red Hat 11.5.0-11) CentOS Stream 10 Kernel: 5.15 Compiler: gcc gcc (GCC) 14.2.1 20250110 (Red Hat 14.2.1-8) Fedora Linux 42 Kernel: 5.15 Compiler: clang gcc (GCC) 15.2.1 20250808 (Red Hat 15.2.1-1) Red Hat Enterprise Linux 9.5 Kernel: 5.15 Compiler: gcc gcc (GCC) 11.5.0 20240719 (Red Hat 11.5.0-2) Red Hat Enterprise Linux 8.10 Kernel: 5.15 Compiler: gcc gcc (GCC) 8.5.0 20210514 (Red Hat 8.5.0-22) openSUSE Leap 15.6 Kernel: 5.15 Compiler: gcc gcc (SUSE Linux) 7.5.0 Ubuntu 24.04 Kernel: 5.15 Compiler: gcc gcc (Ubuntu 13.3.0-6ubuntu2~24.04) 13.3.0 Alpine Linux 3.22.0 Kernel: 5.15 Compiler: gcc gcc (Alpine 14.2.0) 14.2.0 Ubuntu 22.04 Kernel: 5.15 Compiler: gcc gcc (Ubuntu 11.4.0-1ubuntu1~22.04) 11.4.0 Windows Server 2022 Kernel: 10.0.20348.2031 Compiler: clang 15.0.7, gcc 14.1.0 (MinGW), and MSVC VS 19.39.33521 To view detailed results, visit: https://lab.dpdk.org/results/dashboard/patchsets/34459/ UNH-IOL DPDK Community Lab To manage your email subscriptions, visit: https://lab.dpdk.org/results/dashboard/preferences/subscriptions/