From mboxrd@z Thu Jan 1 00:00:00 1970 Return-Path: Received: from mails.dpdk.org (mails.dpdk.org [217.70.189.124]) by inbox.dpdk.org (Postfix) with ESMTP id E27B748AAF for ; Tue, 4 Nov 2025 16:32:48 +0100 (CET) Received: from mails.dpdk.org (localhost [127.0.0.1]) by mails.dpdk.org (Postfix) with ESMTP id C028240269; Tue, 4 Nov 2025 16:32:48 +0100 (CET) Received: from mail-vk1-f226.google.com (mail-vk1-f226.google.com [209.85.221.226]) by mails.dpdk.org (Postfix) with ESMTP id 93ED540269 for ; Tue, 4 Nov 2025 16:32:47 +0100 (CET) Received: by mail-vk1-f226.google.com with SMTP id 71dfb90a1353d-556694876eeso2267893e0c.3 for ; Tue, 04 Nov 2025 07:32:47 -0800 (PST) DKIM-Signature: v=1; a=rsa-sha256; c=relaxed/relaxed; d=iol.unh.edu; s=unh-iol; t=1762270367; x=1762875167; darn=dpdk.org; h=references:in-reply-to:cc:to:from:subject:message-id:date:from:to :cc:subject:date:message-id:reply-to; bh=lH2oK9qdf65JKv/uqMmqGXp0fM02Rf2rTC2IWAkHhE4=; b=GW5UNFKgfnS2nQ0Um4r5iUtlQnbnM4mmme1ROLY3O92m4okjQImxhHItBB95FNQtKX Sl6nJtFCwYLwytDqjmKBpfE/ZCRGYMIgJluV/gKLqtqHyepCbF1GY436Y6rExCLGsVVb 7y9/S6Z3YzgmLw3wXoEqP6CkTnIawJRIvNmAQ= X-Google-DKIM-Signature: v=1; a=rsa-sha256; c=relaxed/relaxed; d=1e100.net; s=20230601; t=1762270367; x=1762875167; h=references:in-reply-to:cc:to:from:subject:message-id:date :x-gm-message-state:from:to:cc:subject:date:message-id:reply-to; bh=lH2oK9qdf65JKv/uqMmqGXp0fM02Rf2rTC2IWAkHhE4=; b=XFc17DLuRa6OKjeIVUfOR7RBaKbdId9Hf4sUUWRqCyQwGtC18nnM2nmXENrqBfwLiL nHBKC98huwl2RtN4zKpcqzMAvb3FvInR/mG8RTPIhEPDIB0ZR8UNjVmMaEaJIfW9Crv8 6ApT8h6pfrk2r7P1PX5WIm/R9kasYw98i/L+T1g3S8YjhpPCeMauM9krncvRzIZtPm+n UMPg7peFkZCBfHx20+15vFYTBRC38DQBXEoUUGXQs1PBse2CoBKiP4C2M3TubGFA0quu KR+U7E38lscP34DhIlveDIkZVyHUU0vV0cUkAyMFPt0FTMeS5poS8hA6QAmvxUcJL/Uh aN7A== X-Gm-Message-State: AOJu0YzrRDyZqB1BQfFMd7tq0JUsp1wj5j9eEj4W7Sq+dww2J4U953LH KXZVsFC1xhYcUQZDu8O85ribf3NS/W376r69mZXt6aGWpNCma+5Auf2EO+qRTO3fTOYYkmeZBxM FFiNWgblzQhwLCCpKrRf2Ubb3k6hFtnkmCqKbvZETYdT94an9Y7rYlxdScN62 X-Gm-Gg: ASbGncuUOKz9N2y9BpBTkzamHxKAgGmfmG3B1GoFi0X47HIFxSgi4Tb3rKz/9om7gfT nOioZJk65IMd2lKuOKXgr0BwO9Q9WVOUjcleb1dWMXdSTOsnqXOZde6O3EijapSFjKx72QQbgYQ ffuckyOVpDSQ3GufGK78xm1+TK2W1ud6GVjKQCVvIUuZtvkt/KAmxwZLCHPQX7GTSfbs2aBUwhu mnWQ9nj5emTEoK6e0McLYFmbllEgqz+/wB93oAKabB6+s7G/iTxmBSK+XnVsCVav8l9MrSDqnrz scn5QQA33a6M/eT/Y/9Oof6ID13IkQrCn4JqHL8FTPchPWaTGNpTrnQ0ZZ5rbjGZeciwr8yEPQN 8ZnFXhGxG X-Google-Smtp-Source: AGHT+IFzCsxeuMTbWWAUcbRdLU2tzmaYZMVPOfCwxs41IjGGtMUsnmrU3ZHCpFCQd6WXQHJ641J5JCxpcJtW X-Received: by 2002:a05:6122:4f9f:b0:559:6960:be0d with SMTP id 71dfb90a1353d-5596960c746mr2749419e0c.13.1762270366964; Tue, 04 Nov 2025 07:32:46 -0800 (PST) Received: from postal.iol.unh.edu (postal.iol.unh.edu. [2606:4100:3880:1234::84]) by smtp-relay.gmail.com with ESMTPS id 71dfb90a1353d-55973c90567sm311618e0c.7.2025.11.04.07.32.46 (version=TLS1_2 cipher=ECDHE-ECDSA-AES128-GCM-SHA256 bits=128/128); Tue, 04 Nov 2025 07:32:46 -0800 (PST) X-Relaying-Domain: iol.unh.edu Date: Tue, 04 Nov 2025 07:32:46 -0800 (PST) Message-ID: <690a1c9e.050a0220.3953b5.10e6SMTPIN_ADDED_MISSING@mx.google.com> Received: from [172.21.0.2] (unknown [172.18.0.240]) by postal.iol.unh.edu (Postfix) with ESMTP id 9A8186051830; Tue, 4 Nov 2025 10:32:46 -0500 (EST) Subject: |SUCCESS| pw158421 [PATCH] rawdev: fix build with clang 21 From: dpdklab@iol.unh.edu To: Test Report Cc: dpdk-test-reports@iol.unh.edu In-Reply-To: <20251104130808.2692053-1-david.marchand@redhat.com> References: <20251104130808.2692053-1-david.marchand@redhat.com> Content-Type: text/plain X-BeenThere: test-report@dpdk.org X-Mailman-Version: 2.1.29 Precedence: list List-Id: automatic DPDK test reports List-Unsubscribe: , List-Archive: List-Post: List-Help: List-Subscribe: , Errors-To: test-report-bounces@dpdk.org Test-Label: iol-unit-amd64-testing Test-Status: SUCCESS http://dpdk.org/patch/158421 _Testing PASS_ Submitter: David Marchand Date: Tuesday, November 04 2025 13:08:08 DPDK git baseline: Repo:dpdk Branch: master CommitID:1bdf2b3c27880f1d90df46a89d5643f20587a973 158421 --> testing pass Upstream job id: Generic-VM-Unit-Test-DPDK#32282 Test environment and result as below: +-------------------------------+----------------+ | Environment | dpdk_unit_test | +===============================+================+ | Fedora Linux 40 | PASS | +-------------------------------+----------------+ | Ubuntu 22.04 | PASS | +-------------------------------+----------------+ | CentOS Stream 10 | PASS | +-------------------------------+----------------+ | Fedora Linux 41 | PASS | +-------------------------------+----------------+ | Ubuntu 20.04 | PASS | +-------------------------------+----------------+ | CentOS Stream 9 | PASS | +-------------------------------+----------------+ | Debian GNU/Linux 12 | PASS | +-------------------------------+----------------+ | Fedora Linux 42 | PASS | +-------------------------------+----------------+ | Red Hat Enterprise Linux 8.10 | PASS | +-------------------------------+----------------+ | Ubuntu 24.04 | PASS | +-------------------------------+----------------+ | Red Hat Enterprise Linux 9.5 | PASS | +-------------------------------+----------------+ | Windows Server 2022 | PASS | +-------------------------------+----------------+ Fedora Linux 40 Kernel: 5.15 Compiler: gcc gcc (GCC) 14.2.1 20240912 (Red Hat 14.2.1-3) Ubuntu 22.04 Kernel: 5.15 Compiler: gcc gcc (Ubuntu 11.4.0-1ubuntu1~22.04) 11.4.0 CentOS Stream 10 Kernel: 5.15 Compiler: gcc gcc (GCC) 14.2.1 20250110 (Red Hat 14.2.1-8) Fedora Linux 41 Kernel: 5.15 Compiler: clang gcc (GCC) 14.3.1 20250523 (Red Hat 14.3.1-1) Ubuntu 20.04 Kernel: 5.15 Compiler: gcc gcc (Ubuntu 9.4.0-1ubuntu1~20.04.2) 9.4.0 CentOS Stream 9 Kernel: 5.15 Compiler: gcc gcc (GCC) 11.5.0 20240719 (Red Hat 11.5.0-11) Debian GNU/Linux 12 Kernel: 5.15 Compiler: gcc gcc (Debian 12.2.0-14+deb12u1) 12.2.0 Fedora Linux 42 Kernel: 5.15 Compiler: clang gcc (GCC) 15.2.1 20250808 (Red Hat 15.2.1-1) Red Hat Enterprise Linux 8.10 Kernel: 5.15 Compiler: gcc gcc (GCC) 8.5.0 20210514 (Red Hat 8.5.0-22) Ubuntu 24.04 Kernel: 5.15 Compiler: gcc gcc (Ubuntu 13.3.0-6ubuntu2~24.04) 13.3.0 Red Hat Enterprise Linux 9.5 Kernel: 5.15 Compiler: gcc gcc (GCC) 11.5.0 20240719 (Red Hat 11.5.0-2) Windows Server 2022 Kernel: 10.0.20348.2031 Compiler: clang 15.0.7, gcc 14.1.0 (MinGW), and MSVC VS 19.39.33521 To view detailed results, visit: https://lab.dpdk.org/results/dashboard/patchsets/34459/ UNH-IOL DPDK Community Lab To manage your email subscriptions, visit: https://lab.dpdk.org/results/dashboard/preferences/subscriptions/