From mboxrd@z Thu Jan 1 00:00:00 1970 Return-Path: Received: from mails.dpdk.org (mails.dpdk.org [217.70.189.124]) by inbox.dpdk.org (Postfix) with ESMTP id 5640F48AB1 for ; Tue, 4 Nov 2025 17:13:41 +0100 (CET) Received: from mails.dpdk.org (localhost [127.0.0.1]) by mails.dpdk.org (Postfix) with ESMTP id 3100D4028C; Tue, 4 Nov 2025 17:13:41 +0100 (CET) Received: from mail-oi1-f228.google.com (mail-oi1-f228.google.com [209.85.167.228]) by mails.dpdk.org (Postfix) with ESMTP id CBD344028C for ; Tue, 4 Nov 2025 17:13:39 +0100 (CET) Received: by mail-oi1-f228.google.com with SMTP id 5614622812f47-44fe4bf7887so117465b6e.0 for ; Tue, 04 Nov 2025 08:13:39 -0800 (PST) DKIM-Signature: v=1; a=rsa-sha256; c=relaxed/relaxed; d=iol.unh.edu; s=unh-iol; t=1762272819; x=1762877619; darn=dpdk.org; h=references:in-reply-to:cc:to:from:subject:message-id:date:from:to :cc:subject:date:message-id:reply-to; bh=gFP2zKM/iQ9kMlJD0bj5ofn2Q8d3luMc9r8dZcMSVU4=; b=dHRj+xmh1dcQ68uzDkB31LSnuayMhkiVeMoDIDV9dHmFX/bkcHhSpD8Nafnybktkaw J/brQQlWox6qR7mkik86zuTysL2MdCm6DGcepezDJfumh7efJdyHjnmlugQBfjlKt16L bv/RtB+HtymN/Hc+diPoZbZHsRRHJ2dIXMDko= X-Google-DKIM-Signature: v=1; a=rsa-sha256; c=relaxed/relaxed; d=1e100.net; s=20230601; t=1762272819; x=1762877619; h=references:in-reply-to:cc:to:from:subject:message-id:date :x-gm-message-state:from:to:cc:subject:date:message-id:reply-to; bh=gFP2zKM/iQ9kMlJD0bj5ofn2Q8d3luMc9r8dZcMSVU4=; b=vncpFpKkCXdv43e4nTabKJpgLtKPzP5ShPyylviRMk0/h+tvtCm3WKlZW1u/QB5o+U hsKgaAjQQ69JeNZxFIlk74lkoZ7h+4mPfewy6y6UwCpvgYERKiRh14sr2+ycT0nAfyiC n2aMZskaTB6bzB6S+2kkKGT4mPBbS7lz6axz3bowKDeTCBdGnnqqY709g2D24v57V3kX oPnPUtWPLABUctZVYwzrBfuTs2lOSKPreSohB1gNg5LX5neblLKrRchnBMdoaDu390iF HMEfgJAtIRyFUjDm9l6orpff8OOnYB2x2SgH//FLnZ3dpub7BbY85UWvG9AD40ZUjVAa 1TIQ== X-Gm-Message-State: AOJu0YybvlykHvcIxj0bqJjXwHD3IEpffT3n8URcPrCbZ8aZ8T/2iVBH TrTYVf62x/KC9YYH2ph3dxP0KFvSj4FgaROaJSvtTiquTCnxQDlaNGwOOqPIFYhh9b02Mw9nZ1R zJE9hVHrQ0+SmoDMzylQLEXemot0pWwVmXYbSH4J/AcQ/cBLm1pJASEBai5gw X-Gm-Gg: ASbGncsrnDujMXFf949eLciXTQPcaSbaS8V/BouDb4Hb23ZrEAcar66B5fAGBX274/E mwVm5JloBks8IvfNnvONrQeZhxN9OLzV/BVkmL92Jlmofu4rt5pmLoeAsJHwQP0/eObyARDsWis i+BdIQPLouETAxeUh+hkH6+1Hpgf5LzojoxPkeczaeySExpLu2WoeIh9nipLxD4dSZk7qZCT6/L vMI3dPq2w1Eyr1+TnIXh5QptB2gYf7iOzApyUnzFW6w76UhcRjo4UC2QsahvXtbrY+HovY2JPep QINNNnA/y66XXMGRpIwZTEedJDLnSyEo8RqJdsv7W7X7ghpKuN3/2/BqjZxu/Zu/qiPD90/ahV9 SsQz83WGe X-Google-Smtp-Source: AGHT+IH1lDMyj+QkPzciCHRylgr2IVsUCQZIMZ+B+nYCfE4rGm2Zo2oZTzzuNys2eGi6MX5UdjPqoEMLrPrX X-Received: by 2002:a05:6808:3846:b0:441:8f74:f39 with SMTP id 5614622812f47-44f96082b1dmr8415001b6e.67.1762272819047; Tue, 04 Nov 2025 08:13:39 -0800 (PST) Received: from postal.iol.unh.edu (postal.iol.unh.edu. [2606:4100:3880:1234::84]) by smtp-relay.gmail.com with ESMTPS id 006d021491bc7-656ad44a3eesm169088eaf.2.2025.11.04.08.13.38 (version=TLS1_2 cipher=ECDHE-ECDSA-AES128-GCM-SHA256 bits=128/128); Tue, 04 Nov 2025 08:13:39 -0800 (PST) X-Relaying-Domain: iol.unh.edu Date: Tue, 04 Nov 2025 08:13:39 -0800 (PST) Message-ID: <690a2633.050a0220.177682.91acSMTPIN_ADDED_MISSING@mx.google.com> Received: from [172.21.0.2] (unknown [172.18.0.240]) by postal.iol.unh.edu (Postfix) with ESMTP id 890F5604D420; Tue, 4 Nov 2025 11:13:38 -0500 (EST) Subject: |SUCCESS| pw158423 [PATCH] [v2] net/ixgbe: add E610 NIC speed suppor From: dpdklab@iol.unh.edu To: Test Report Cc: dpdk-test-reports@iol.unh.edu, Bruce Richardson In-Reply-To: <20251104150113.729184-1-shaiq.wani@intel.com> References: <20251104150113.729184-1-shaiq.wani@intel.com> Content-Type: text/plain X-BeenThere: test-report@dpdk.org X-Mailman-Version: 2.1.29 Precedence: list List-Id: automatic DPDK test reports List-Unsubscribe: , List-Archive: List-Post: List-Help: List-Subscribe: , Errors-To: test-report-bounces@dpdk.org Test-Label: iol-compile-amd64-testing Test-Status: SUCCESS http://dpdk.org/patch/158423 _Testing PASS_ Submitter: Shaiq Wani Date: Tuesday, November 04 2025 15:01:13 DPDK git baseline: Repo:dpdk-next-net-intel Branch: master CommitID:8e643757cffa481f010280c86e15d8a4a820e639 158423 --> testing pass Upstream job id: Windows-Compile-DPDK-Native#32110 Test environment and result as below: +-------------------------------+-------------------------+-------------------+--------------------+------------------+----------------------+ | Environment | dpdk_llvm_clang_compile | dpdk_msvc_compile | dpdk_meson_compile | dpdk_compile_ovs | dpdk_mingw64_compile | +===============================+=========================+===================+====================+==================+======================+ | Windows Server 2022 | PASS | PASS | SKIPPED | SKIPPED | PASS | +-------------------------------+-------------------------+-------------------+--------------------+------------------+----------------------+ | FreeBSD 14.2 | SKIPPED | SKIPPED | PASS | SKIPPED | SKIPPED | +-------------------------------+-------------------------+-------------------+--------------------+------------------+----------------------+ | Fedora Linux 42 | SKIPPED | SKIPPED | PASS | PASS | SKIPPED | +-------------------------------+-------------------------+-------------------+--------------------+------------------+----------------------+ | CentOS Stream 9 | SKIPPED | SKIPPED | PASS | SKIPPED | SKIPPED | +-------------------------------+-------------------------+-------------------+--------------------+------------------+----------------------+ | CentOS Stream 10 | SKIPPED | SKIPPED | PASS | SKIPPED | SKIPPED | +-------------------------------+-------------------------+-------------------+--------------------+------------------+----------------------+ | Ubuntu 24.04 | SKIPPED | SKIPPED | PASS | PASS | SKIPPED | +-------------------------------+-------------------------+-------------------+--------------------+------------------+----------------------+ | Ubuntu 22.04 | SKIPPED | SKIPPED | PASS | SKIPPED | SKIPPED | +-------------------------------+-------------------------+-------------------+--------------------+------------------+----------------------+ | Red Hat Enterprise Linux 8.10 | SKIPPED | SKIPPED | PASS | SKIPPED | SKIPPED | +-------------------------------+-------------------------+-------------------+--------------------+------------------+----------------------+ | Red Hat Enterprise Linux 9.5 | SKIPPED | SKIPPED | PASS | SKIPPED | SKIPPED | +-------------------------------+-------------------------+-------------------+--------------------+------------------+----------------------+ | openSUSE Leap 15.6 | SKIPPED | SKIPPED | PASS | SKIPPED | SKIPPED | +-------------------------------+-------------------------+-------------------+--------------------+------------------+----------------------+ | Debian GNU/Linux 12 | SKIPPED | SKIPPED | PASS | SKIPPED | SKIPPED | +-------------------------------+-------------------------+-------------------+--------------------+------------------+----------------------+ | Ubuntu 20.04 | SKIPPED | SKIPPED | PASS | SKIPPED | SKIPPED | +-------------------------------+-------------------------+-------------------+--------------------+------------------+----------------------+ | Alpine Linux 3.22.0 | SKIPPED | SKIPPED | PASS | SKIPPED | SKIPPED | +-------------------------------+-------------------------+-------------------+--------------------+------------------+----------------------+ Windows Server 2022 Kernel: 10.0.20348.2031 Compiler: clang 15.0.7, gcc 14.1.0 (MinGW), and MSVC VS 19.39.33521 FreeBSD 14.2 Kernel: 14.2-RELEASE Compiler: clang 18.1.6 Fedora Linux 42 Kernel: 5.15 Compiler: clang gcc (GCC) 15.2.1 20250808 (Red Hat 15.2.1-1) CentOS Stream 9 Kernel: 5.15 Compiler: gcc gcc (GCC) 11.5.0 20240719 (Red Hat 11.5.0-11) CentOS Stream 10 Kernel: 5.15 Compiler: gcc gcc (GCC) 14.2.1 20250110 (Red Hat 14.2.1-8) Ubuntu 24.04 Kernel: 5.15 Compiler: gcc gcc (Ubuntu 13.3.0-6ubuntu2~24.04) 13.3.0 Ubuntu 22.04 Kernel: 5.15 Compiler: gcc gcc (Ubuntu 11.4.0-1ubuntu1~22.04) 11.4.0 Red Hat Enterprise Linux 8.10 Kernel: 5.15 Compiler: gcc gcc (GCC) 8.5.0 20210514 (Red Hat 8.5.0-22) Red Hat Enterprise Linux 9.5 Kernel: 5.15 Compiler: gcc gcc (GCC) 11.5.0 20240719 (Red Hat 11.5.0-2) openSUSE Leap 15.6 Kernel: 5.15 Compiler: gcc gcc (SUSE Linux) 7.5.0 Debian GNU/Linux 12 Kernel: 5.15 Compiler: gcc gcc (Debian 12.2.0-14+deb12u1) 12.2.0 Ubuntu 20.04 Kernel: 5.15 Compiler: gcc gcc (Ubuntu 9.4.0-1ubuntu1~20.04.2) 9.4.0 Alpine Linux 3.22.0 Kernel: 5.15 Compiler: gcc gcc (Alpine 14.2.0) 14.2.0 To view detailed results, visit: https://lab.dpdk.org/results/dashboard/patchsets/34460/ UNH-IOL DPDK Community Lab To manage your email subscriptions, visit: https://lab.dpdk.org/results/dashboard/preferences/subscriptions/