From mboxrd@z Thu Jan 1 00:00:00 1970 Return-Path: Received: from mails.dpdk.org (mails.dpdk.org [217.70.189.124]) by inbox.dpdk.org (Postfix) with ESMTP id 7620448AB1 for ; Tue, 4 Nov 2025 17:23:23 +0100 (CET) Received: from mails.dpdk.org (localhost [127.0.0.1]) by mails.dpdk.org (Postfix) with ESMTP id 571134028C; Tue, 4 Nov 2025 17:23:23 +0100 (CET) Received: from mail-pj1-f99.google.com (mail-pj1-f99.google.com [209.85.216.99]) by mails.dpdk.org (Postfix) with ESMTP id 661CF4028C for ; Tue, 4 Nov 2025 17:23:22 +0100 (CET) Received: by mail-pj1-f99.google.com with SMTP id 98e67ed59e1d1-33292adb180so6155600a91.3 for ; Tue, 04 Nov 2025 08:23:22 -0800 (PST) DKIM-Signature: v=1; a=rsa-sha256; c=relaxed/relaxed; d=iol.unh.edu; s=unh-iol; t=1762273401; x=1762878201; darn=dpdk.org; h=references:in-reply-to:cc:to:from:subject:message-id:date:from:to :cc:subject:date:message-id:reply-to; bh=REZW/t+vFE6z4NKGoc4bz/hGXi3lnnCBoj2Ma2F9gCk=; b=NXUi72aL1WOLZ+TR08pLnQiLvz2j8Eo0Y/tlAs08m0H9M5WUYdHLQ0FQ2deuz8aYOR OzE8BFZkm0KnE+DptTYLbOzF+2xXIG0VoNz9HfNlZ2h3DD5nDLpjyBLm9zCEfFQigwPZ VBxKHI//jqxnMtRsA8wb7eX1ov8sEXCvGVHrU= X-Google-DKIM-Signature: v=1; a=rsa-sha256; c=relaxed/relaxed; d=1e100.net; s=20230601; t=1762273401; x=1762878201; h=references:in-reply-to:cc:to:from:subject:message-id:date :x-gm-message-state:from:to:cc:subject:date:message-id:reply-to; bh=REZW/t+vFE6z4NKGoc4bz/hGXi3lnnCBoj2Ma2F9gCk=; b=bosroMKBQl8lsg+9DSWs3Fnj40tNJR2nRfrj2seVw7COeD6H1QgOdeXL25v1QafrUL Ic0v8xm3ecHLa3/WD6lLqqif7QzRg8ds5CUhFKJ+xmp/SGqtSpBt37ylbPTbqcucO94n d9udU/58d1PfIUXU3pWdSdmvtZXRTZ0AsMisr15rhSXGREw5zXjzmNFyX++/v3EkIp1u nc7AD0Bc4ojCmrXJlz6tUjMwuIw1TXm/MV+QoPLxAnAVo2J2q7H4ptGcvZhwI5Z01ukf dFf4Ps2mCyrZYoKouKI9/5lQhHDam5cBNBcVm7nAtCnIrqjki9pD48kXjDDMyK9VA0/f cEtA== X-Gm-Message-State: AOJu0YxQsfE4LWdT+2QGENcCdmhcN0fsJDJ9L+mUun0MZiW3a+NpwhgL grOJNwjtlmpTZwMUbHI5WCcnTpwn4QOPVtEOEYBtwTMeNHsQMpeVstEByYgVXarbyk14HXydZEn Ub1y44fgpoyj6eAjaPl5wR5y4fiBOqzmUdWCQG6nI+7Jt X-Gm-Gg: ASbGncvCzI3gLNvy0c/A3cJZOi1xm20ZRCJQmWMW74zMzyMu8IbWxv6jgVEewBHFm9J SBvrIVEMvdZjrsRZ8mqNHnjB1QKKyfBNP8zEzknsWKvPnZ0o6nvWhqMIMsxK7MCEZPCEKjgUCXv H5InGEc2giz1PgWUqDb983K5EhIGGXsWze09TzvVhuS4WR3UnQ/Eri5Oal3UFuwNLlZ5EnmmUff /T9nxeaIAqDHCSLqt0s0VkuQJG31TJTkEDTBIz4Okxnu2btOua5D1M3resbY+psMbrr3366Bkvf hnht7SzOwu+hrg8thUDZGBvbpO//Uhu7+jW1JNZB9Co8qO917MJaAKIpAFiQHe5V+dRkkIqdzbS Shiyh0VA05oPqPhklJn7r7dgCmh1TWIE= X-Google-Smtp-Source: AGHT+IHvsEFtzGXAA9NlOwZYVJ4klfFzdNI/TD/WmoDWxrkHlnvJMaNEJuLZrwh8usmc96+ASuMn7Y34W/ky X-Received: by 2002:a17:902:d48d:b0:295:30d4:23c2 with SMTP id d9443c01a7336-2962ae37eefmr1518935ad.50.1762273401426; Tue, 04 Nov 2025 08:23:21 -0800 (PST) Received: from postal.iol.unh.edu (postal.iol.unh.edu. [132.177.123.84]) by smtp-relay.gmail.com with ESMTPS id d9443c01a7336-29601976f29sm2685355ad.15.2025.11.04.08.23.21 (version=TLS1_2 cipher=ECDHE-ECDSA-AES128-GCM-SHA256 bits=128/128); Tue, 04 Nov 2025 08:23:21 -0800 (PST) X-Relaying-Domain: iol.unh.edu Date: Tue, 04 Nov 2025 08:23:21 -0800 (PST) Message-ID: <690a2879.170a0220.338379.f6b2SMTPIN_ADDED_MISSING@mx.google.com> Received: from [172.21.0.4] (unknown [172.18.0.240]) by postal.iol.unh.edu (Postfix) with ESMTP id DB38C604D420; Tue, 4 Nov 2025 11:23:20 -0500 (EST) Subject: |SUCCESS| pw158423 [PATCH] [v2] net/ixgbe: add E610 NIC speed suppor From: dpdklab@iol.unh.edu To: Test Report Cc: dpdk-test-reports@iol.unh.edu, Bruce Richardson In-Reply-To: <20251104150113.729184-1-shaiq.wani@intel.com> References: <20251104150113.729184-1-shaiq.wani@intel.com> Content-Type: text/plain X-BeenThere: test-report@dpdk.org X-Mailman-Version: 2.1.29 Precedence: list List-Id: automatic DPDK test reports List-Unsubscribe: , List-Archive: List-Post: List-Help: List-Subscribe: , Errors-To: test-report-bounces@dpdk.org Test-Label: iol-unit-amd64-testing Test-Status: SUCCESS http://dpdk.org/patch/158423 _Testing PASS_ Submitter: Shaiq Wani Date: Tuesday, November 04 2025 15:01:13 DPDK git baseline: Repo:dpdk-next-net-intel Branch: master CommitID:8e643757cffa481f010280c86e15d8a4a820e639 158423 --> testing pass Upstream job id: Generic-VM-Unit-Test-DPDK#32283 Test environment and result as below: +-------------------------------+----------------+ | Environment | dpdk_unit_test | +===============================+================+ | CentOS Stream 9 | PASS | +-------------------------------+----------------+ | CentOS Stream 10 | PASS | +-------------------------------+----------------+ | Fedora Linux 40 | PASS | +-------------------------------+----------------+ | Ubuntu 24.04 | PASS | +-------------------------------+----------------+ | Debian GNU/Linux 12 | PASS | +-------------------------------+----------------+ | Fedora Linux 41 | PASS | +-------------------------------+----------------+ | Fedora Linux 42 | PASS | +-------------------------------+----------------+ | Red Hat Enterprise Linux 9.5 | PASS | +-------------------------------+----------------+ | Red Hat Enterprise Linux 8.10 | PASS | +-------------------------------+----------------+ | Ubuntu 22.04 | PASS | +-------------------------------+----------------+ | Ubuntu 20.04 | PASS | +-------------------------------+----------------+ | Windows Server 2022 | PASS | +-------------------------------+----------------+ CentOS Stream 9 Kernel: 5.15 Compiler: gcc gcc (GCC) 11.5.0 20240719 (Red Hat 11.5.0-11) CentOS Stream 10 Kernel: 5.15 Compiler: gcc gcc (GCC) 14.2.1 20250110 (Red Hat 14.2.1-8) Fedora Linux 40 Kernel: 5.15 Compiler: gcc gcc (GCC) 14.2.1 20240912 (Red Hat 14.2.1-3) Ubuntu 24.04 Kernel: 5.15 Compiler: gcc gcc (Ubuntu 13.3.0-6ubuntu2~24.04) 13.3.0 Debian GNU/Linux 12 Kernel: 5.15 Compiler: gcc gcc (Debian 12.2.0-14+deb12u1) 12.2.0 Fedora Linux 41 Kernel: 5.15 Compiler: gcc gcc (GCC) 14.3.1 20250523 (Red Hat 14.3.1-1) Fedora Linux 42 Kernel: 5.15 Compiler: gcc gcc (GCC) 15.2.1 20250808 (Red Hat 15.2.1-1) Red Hat Enterprise Linux 9.5 Kernel: 5.15 Compiler: gcc gcc (GCC) 11.5.0 20240719 (Red Hat 11.5.0-2) Red Hat Enterprise Linux 8.10 Kernel: 5.15 Compiler: gcc gcc (GCC) 8.5.0 20210514 (Red Hat 8.5.0-22) Ubuntu 22.04 Kernel: 5.15 Compiler: gcc gcc (Ubuntu 11.4.0-1ubuntu1~22.04) 11.4.0 Ubuntu 20.04 Kernel: 5.15 Compiler: gcc gcc (Ubuntu 9.4.0-1ubuntu1~20.04.2) 9.4.0 Windows Server 2022 Kernel: 10.0.20348.2031 Compiler: clang 15.0.7, gcc 14.1.0 (MinGW), and MSVC VS 19.39.33521 To view detailed results, visit: https://lab.dpdk.org/results/dashboard/patchsets/34460/ UNH-IOL DPDK Community Lab To manage your email subscriptions, visit: https://lab.dpdk.org/results/dashboard/preferences/subscriptions/