From mboxrd@z Thu Jan 1 00:00:00 1970 Return-Path: Received: from mails.dpdk.org (mails.dpdk.org [217.70.189.124]) by inbox.dpdk.org (Postfix) with ESMTP id 7AEC548AB1 for ; Tue, 4 Nov 2025 17:34:19 +0100 (CET) Received: from mails.dpdk.org (localhost [127.0.0.1]) by mails.dpdk.org (Postfix) with ESMTP id 75C664028C; Tue, 4 Nov 2025 17:34:19 +0100 (CET) Received: from mail-pf1-f228.google.com (mail-pf1-f228.google.com [209.85.210.228]) by mails.dpdk.org (Postfix) with ESMTP id 2E0E64028C for ; Tue, 4 Nov 2025 17:34:18 +0100 (CET) Received: by mail-pf1-f228.google.com with SMTP id d2e1a72fcca58-77f67ba775aso7094941b3a.3 for ; Tue, 04 Nov 2025 08:34:18 -0800 (PST) DKIM-Signature: v=1; a=rsa-sha256; c=relaxed/relaxed; d=iol.unh.edu; s=unh-iol; t=1762274057; x=1762878857; darn=dpdk.org; h=references:in-reply-to:cc:to:from:subject:message-id:date:from:to :cc:subject:date:message-id:reply-to; bh=dAj31sUc4xJF5JJC6OQ7KZQDTuHbQpKzS1Pu8Djycbo=; b=FCsZNk4FvVbGk7k+6W8AIjjRewTEw7pcOzThLhoRuunMcQ3x2LidQKHOZYjvuyrXkn fQoCVhE0rX4TrfOMQw3PlIzxgCFeXZIIqSG9JdPYCQVycSnxX3JPFujjZrPdfZ1yzzhp ee2KvMpVPJaWGlRh8h4WlF9X/nCMzN8c7HAtQ= X-Google-DKIM-Signature: v=1; a=rsa-sha256; c=relaxed/relaxed; d=1e100.net; s=20230601; t=1762274057; x=1762878857; h=references:in-reply-to:cc:to:from:subject:message-id:date :x-gm-message-state:from:to:cc:subject:date:message-id:reply-to; bh=dAj31sUc4xJF5JJC6OQ7KZQDTuHbQpKzS1Pu8Djycbo=; b=iXVLLvNVkFX3JftRYGxWoHmAe0uia0oWETYGVvFNPgJPq1OmrzjewP8HRY20ijA0xb DNx04M7PZ9Icl+/xXO6dpsolVXont1KFdhMAO3fdBtoYN2htl9MaP0xmncmADP8e04S8 GE4xuprQ2TZC5H4rqnv1WpU74q6ZiZmEeyFChciFFoKU84LtU/otdaYMRK/dtfTWEC6y TAe7y1pDuMYbbCsGeFS3qp20z7M6HB9xqenePtDpUKKaU2sQhkNNxEnsUX6H1+Nlwk/S MceiPmyrzOFalLPYSlgbT0P4zzFEUZWO1CmzQwA8Kvc1yrYTB1cc7kGlre9JPqHukx6c yK4w== X-Gm-Message-State: AOJu0Yz4zGyHpI9LIA5fn2OUmuD1Rvk63XthWKqR+X4DUAZ2z16jSP64 XNdil1UAyzX4mJ7Y1Fx3c+ptU5lxrMM36FiUWVS1xPnAQlADQjCR23yh59aluiO1o6h9r3t5Si4 OmKR0V7jnVcCKY1rIO4MJD1df8WzkELLh0TvFOGtCmY6F X-Gm-Gg: ASbGnctKCNk/C54HyUq29rVMXQvMg/wI5ri3FGz+b2ac6HQm40Hf+pcOfDyfC1FIosP atX5OwE6zGUANnguICRc9d1ZDYMofFe4dWC4FRgPc/1ZsFRITl/m7fPjQRyGIpBo9AJ4q/NUqHQ AXrIOFOyvYy95/feVuE9Uh/UbCbPHGP6mbrK/ouPaeDjqJ/634NdPm+tlxUH1KcW3Un97xa0RtX Y2+KEb4SbmMUbMqMAlJI00wiSankh7Ayj6Qu4rdbtiKXg+Umm3hhBPN8J/7Qkt/kdHvslWcj2d/ YjsThWblVrPAvC18G1VuvXmJyP0JkHVyYRvhDBjwq7aIEApOeLNia61pKdAqCbYPsYSEjycO+ez ADUa9P+CeKkkU6TB+GeYa3dv7Pb5LUvg= X-Google-Smtp-Source: AGHT+IEgLBfylOQPm7gZqMv6iaKwVrzL/GGDSb2/YNNYk7dMaMAj0R3zmYen9T8dPeXZIb8Dl6IUygL0s93e X-Received: by 2002:a05:6a20:258c:b0:33f:df99:11eb with SMTP id adf61e73a8af0-348ca15afa2mr22518780637.7.1762274057022; Tue, 04 Nov 2025 08:34:17 -0800 (PST) Received: from postal.iol.unh.edu (postal.iol.unh.edu. [132.177.123.84]) by smtp-relay.gmail.com with ESMTPS id 41be03b00d2f7-ba1f493e3fdsm180941a12.10.2025.11.04.08.34.16 (version=TLS1_2 cipher=ECDHE-ECDSA-AES128-GCM-SHA256 bits=128/128); Tue, 04 Nov 2025 08:34:17 -0800 (PST) X-Relaying-Domain: iol.unh.edu Date: Tue, 04 Nov 2025 08:34:17 -0800 (PST) Message-ID: <690a2b09.050a0220.221f66.a069SMTPIN_ADDED_MISSING@mx.google.com> Received: from [172.21.0.5] (unknown [172.18.0.240]) by postal.iol.unh.edu (Postfix) with ESMTP id 45CAB6051830; Tue, 4 Nov 2025 11:34:16 -0500 (EST) Subject: |SUCCESS| pw158423 [PATCH] [v2] net/ixgbe: add E610 NIC speed suppor From: dpdklab@iol.unh.edu To: Test Report Cc: dpdk-test-reports@iol.unh.edu, Bruce Richardson In-Reply-To: <20251104150113.729184-1-shaiq.wani@intel.com> References: <20251104150113.729184-1-shaiq.wani@intel.com> Content-Type: text/plain X-BeenThere: test-report@dpdk.org X-Mailman-Version: 2.1.29 Precedence: list List-Id: automatic DPDK test reports List-Unsubscribe: , List-Archive: List-Post: List-Help: List-Subscribe: , Errors-To: test-report-bounces@dpdk.org Test-Label: iol-unit-amd64-testing Test-Status: SUCCESS http://dpdk.org/patch/158423 _Testing PASS_ Submitter: Shaiq Wani Date: Tuesday, November 04 2025 15:01:13 DPDK git baseline: Repo:dpdk-next-net-intel Branch: master CommitID:8e643757cffa481f010280c86e15d8a4a820e639 158423 --> testing pass Upstream job id: Generic-VM-Unit-Test-DPDK#32284 Test environment and result as below: +-------------------------------+----------------+ | Environment | dpdk_unit_test | +===============================+================+ | CentOS Stream 9 | PASS | +-------------------------------+----------------+ | CentOS Stream 10 | PASS | +-------------------------------+----------------+ | Fedora Linux 40 | PASS | +-------------------------------+----------------+ | Ubuntu 24.04 | PASS | +-------------------------------+----------------+ | Debian GNU/Linux 12 | PASS | +-------------------------------+----------------+ | Fedora Linux 41 | PASS | +-------------------------------+----------------+ | Fedora Linux 42 | PASS | +-------------------------------+----------------+ | Red Hat Enterprise Linux 9.5 | PASS | +-------------------------------+----------------+ | Red Hat Enterprise Linux 8.10 | PASS | +-------------------------------+----------------+ | Ubuntu 22.04 | PASS | +-------------------------------+----------------+ | Ubuntu 20.04 | PASS | +-------------------------------+----------------+ | Windows Server 2022 | PASS | +-------------------------------+----------------+ CentOS Stream 9 Kernel: 5.15 Compiler: gcc gcc (GCC) 11.5.0 20240719 (Red Hat 11.5.0-11) CentOS Stream 10 Kernel: 5.15 Compiler: gcc gcc (GCC) 14.2.1 20250110 (Red Hat 14.2.1-8) Fedora Linux 40 Kernel: 5.15 Compiler: gcc gcc (GCC) 14.2.1 20240912 (Red Hat 14.2.1-3) Ubuntu 24.04 Kernel: 5.15 Compiler: gcc gcc (Ubuntu 13.3.0-6ubuntu2~24.04) 13.3.0 Debian GNU/Linux 12 Kernel: 5.15 Compiler: gcc gcc (Debian 12.2.0-14+deb12u1) 12.2.0 Fedora Linux 41 Kernel: 5.15 Compiler: gcc gcc (GCC) 14.3.1 20250523 (Red Hat 14.3.1-1) Fedora Linux 42 Kernel: 5.15 Compiler: gcc gcc (GCC) 15.2.1 20250808 (Red Hat 15.2.1-1) Red Hat Enterprise Linux 9.5 Kernel: 5.15 Compiler: gcc gcc (GCC) 11.5.0 20240719 (Red Hat 11.5.0-2) Red Hat Enterprise Linux 8.10 Kernel: 5.15 Compiler: gcc gcc (GCC) 8.5.0 20210514 (Red Hat 8.5.0-22) Ubuntu 22.04 Kernel: 5.15 Compiler: gcc gcc (Ubuntu 11.4.0-1ubuntu1~22.04) 11.4.0 Ubuntu 20.04 Kernel: 5.15 Compiler: gcc gcc (Ubuntu 9.4.0-1ubuntu1~20.04.2) 9.4.0 Windows Server 2022 Kernel: 10.0.20348.2031 Compiler: clang 15.0.7, gcc 14.1.0 (MinGW), and MSVC VS 19.39.33521 To view detailed results, visit: https://lab.dpdk.org/results/dashboard/patchsets/34460/ UNH-IOL DPDK Community Lab To manage your email subscriptions, visit: https://lab.dpdk.org/results/dashboard/preferences/subscriptions/