From mboxrd@z Thu Jan 1 00:00:00 1970 Return-Path: Received: from mails.dpdk.org (mails.dpdk.org [217.70.189.124]) by inbox.dpdk.org (Postfix) with ESMTP id 8A06048AB1 for ; Tue, 4 Nov 2025 17:45:01 +0100 (CET) Received: from mails.dpdk.org (localhost [127.0.0.1]) by mails.dpdk.org (Postfix) with ESMTP id 745D64028C; Tue, 4 Nov 2025 17:45:01 +0100 (CET) Received: from mail-yx1-f98.google.com (mail-yx1-f98.google.com [74.125.224.98]) by mails.dpdk.org (Postfix) with ESMTP id 95B254028C for ; Tue, 4 Nov 2025 17:45:00 +0100 (CET) Received: by mail-yx1-f98.google.com with SMTP id 956f58d0204a3-63f945d2060so4026105d50.3 for ; Tue, 04 Nov 2025 08:45:00 -0800 (PST) DKIM-Signature: v=1; a=rsa-sha256; c=relaxed/relaxed; d=iol.unh.edu; s=unh-iol; t=1762274700; x=1762879500; darn=dpdk.org; h=references:in-reply-to:cc:to:from:subject:message-id:date:from:to :cc:subject:date:message-id:reply-to; bh=CMGpUlZ/aotTuDIfuBkFExqDkchsbGl6ZuOjgmi3LjA=; b=JZdWym69/Bbx8JJU29h7t7m0inuJBHP+ctK5m36QtB0z+lvyYRQYpkfhd9ZNQlWj68 P8nSXBzr5LeWJvtpWmwzSM4/iu0jmGs7DxLUTHfblqBQQ0KCmwF/4MW8fr201dPvjNNP Q6JkbZuYe3wGkRZoSvfCyt3qcwcVWrez4+NFs= X-Google-DKIM-Signature: v=1; a=rsa-sha256; c=relaxed/relaxed; d=1e100.net; s=20230601; t=1762274700; x=1762879500; h=references:in-reply-to:cc:to:from:subject:message-id:date :x-gm-message-state:from:to:cc:subject:date:message-id:reply-to; bh=CMGpUlZ/aotTuDIfuBkFExqDkchsbGl6ZuOjgmi3LjA=; b=tUcobhakJJVL26Fz5YdCi5zNRn+Z8HjbVnZ9m+na8qRcUV+YltmQ5qToalRfLcvhBh 7ulc/pY64/lZcLyZZQ8+N+uTlyShrYjZF/MogxxszbFiPQwFkjC3VvUqJRFK9uxXUIf6 LteeUuaDh6ZDTm2geO+Z0vf4qhk75k1rAvYDoFpq2NPVne2LCAD68xLVvgkUZmyMqa/6 cOxkSlHiT+PpyjbHj0rMEmxWcug5u/7SjGn7Ajt4uIPlhc1zwx7/ypIyEaGVG3pVIkMm dPQCfE1fPYyH7NXgKSmcw4Dg2SFg3TTjjY5la+F26sLx/avc572FLN9NH20/OuvqsQWa fUCw== X-Gm-Message-State: AOJu0Yw050eraWTHj0ONJOwPEnhl8VTw5NIE3R03hj14/XK9aMgYz4zS M+Hi9gp91s79zeO7+GyDJ1LrT1DdIEJJOQSQMt2uOYRqWb59bFa6N2TOUlmMqiwOUgRErfpbRf/ UaIqYsNMS7qNCzCgy78vHOCaI3NiJKlWhoB1zLIAJCxuH X-Gm-Gg: ASbGncv91fBFWfj8z6dyYGxDCHRbtfCMkfuhD5H6P3XPadejZWluyzVIUmwotq2RjRc QZsItNuggI92osLX4xvj4b3p3U7+0oz70/JKH3lLIyb3AHXAHQgSxmRNAHR9LAvn/afsOJmZcs8 Os2q9c+Y91j/Ct3qNVIjlKCjlTOD43ZmqCxSA2b4HkWVC5LZgwUMh9FD0GVzKIPdwVYDfpSbqhs +cENUe3FuxVQmR93Fj7NqqE+p6GjF9mxSPdQNKAkSmx/r8QDB0tkFCOyT8J+RsYtLg2HigbdI7O cwocF1oNQJ/1OV9AWLLsP9TWKPcWvn9CdmmXaDazUh9z8k9WlYiU+L5putAtdTw6e3lg0DHDTe2 9gYvSPGmytClwLlNAV5p8p1rrvlhWQNc= X-Google-Smtp-Source: AGHT+IGLeYPPg3PGWeXzy0IUBmJYzLbyvyww0kEvl5lJh7ZsRkJXml8judtHodRFc/hG6iWpatW4/NbF28La X-Received: by 2002:a05:690e:23c6:b0:63f:cf95:44bd with SMTP id 956f58d0204a3-63fd3590219mr75972d50.47.1762274699866; Tue, 04 Nov 2025 08:44:59 -0800 (PST) Received: from postal.iol.unh.edu (postal.iol.unh.edu. [132.177.123.84]) by smtp-relay.gmail.com with ESMTPS id 00721157ae682-78691dce93asm2141047b3.21.2025.11.04.08.44.59 (version=TLS1_2 cipher=ECDHE-ECDSA-AES128-GCM-SHA256 bits=128/128); Tue, 04 Nov 2025 08:44:59 -0800 (PST) X-Relaying-Domain: iol.unh.edu Date: Tue, 04 Nov 2025 08:44:59 -0800 (PST) Message-ID: <690a2d8b.050a0220.1f33c0.bcfdSMTPIN_ADDED_MISSING@mx.google.com> Received: from [172.21.0.2] (unknown [172.18.0.240]) by postal.iol.unh.edu (Postfix) with ESMTP id 970FC60003E8; Tue, 4 Nov 2025 11:44:59 -0500 (EST) Subject: |SUCCESS| pw158420 [PATCH] net/fm10k: fix build with GCC 16 From: dpdklab@iol.unh.edu To: Test Report Cc: dpdk-test-reports@iol.unh.edu, Bruce Richardson In-Reply-To: <20251104111515.1728873-1-bruce.richardson@intel.com> References: <20251104111515.1728873-1-bruce.richardson@intel.com> Content-Type: text/plain X-BeenThere: test-report@dpdk.org X-Mailman-Version: 2.1.29 Precedence: list List-Id: automatic DPDK test reports List-Unsubscribe: , List-Archive: List-Post: List-Help: List-Subscribe: , Errors-To: test-report-bounces@dpdk.org Test-Label: iol-compile-arm64-testing Test-Status: SUCCESS http://dpdk.org/patch/158420 _Testing PASS_ Submitter: Bruce Richardson Date: Tuesday, November 04 2025 11:15:15 DPDK git baseline: Repo:dpdk-next-net-intel Branch: master CommitID:40de0ba36a04ef80e8a2ac90c240183fc2c6d1b4 158420 --> testing pass Upstream job id: Generic-DPDK-Compile-Meson#440582 Test environment and result as below: +------------------------------+--------------------+ | Environment | dpdk_meson_compile | +==============================+====================+ | Ubuntu 20.04 | PASS | +------------------------------+--------------------+ | Red Hat Enterprise Linux 9.5 | PASS | +------------------------------+--------------------+ | CentOS Stream 10 | PASS | +------------------------------+--------------------+ | Debian GNU/Linux 12 | PASS | +------------------------------+--------------------+ | Fedora Linux 42 | PASS | +------------------------------+--------------------+ | Ubuntu 24.04 | PASS | +------------------------------+--------------------+ | CentOS Stream 9 | PASS | +------------------------------+--------------------+ | Ubuntu 22.04 | PASS | +------------------------------+--------------------+ Ubuntu 20.04 Kernel: 5.15 Compiler: aarch64-linux-gnu-gcc gcc (Ubuntu 9.4.0-1ubuntu1~20.04.2) 9.4.0 Red Hat Enterprise Linux 9.5 Kernel: 5.4 Compiler: gcc gcc (GCC) 11.5.0 20240719 (Red Hat 11.5.0-2) CentOS Stream 10 Kernel: 5.4 Compiler: gcc gcc (GCC) 14.2.1 20250110 (Red Hat 14.2.1-8) Debian GNU/Linux 12 Kernel: 5.4 Compiler: gcc gcc (Debian 12.2.0-14+deb12u1) 12.2.0 Fedora Linux 42 Kernel: 5.4 Compiler: clang gcc (GCC) 15.2.1 20250808 (Red Hat 15.2.1-1) Ubuntu 24.04 Kernel: 5.4 Compiler: gcc gcc (Ubuntu 13.3.0-6ubuntu2~24.04) 13.3.0 CentOS Stream 9 Kernel: 5.4 Compiler: gcc gcc (GCC) 11.5.0 20240719 (Red Hat 11.5.0-11) Ubuntu 22.04 Kernel: 5.4 Compiler: gcc gcc (Ubuntu 11.4.0-1ubuntu1~22.04) 11.4.0 To view detailed results, visit: https://lab.dpdk.org/results/dashboard/patchsets/34457/ UNH-IOL DPDK Community Lab To manage your email subscriptions, visit: https://lab.dpdk.org/results/dashboard/preferences/subscriptions/