From mboxrd@z Thu Jan 1 00:00:00 1970 Return-Path: Received: from mails.dpdk.org (mails.dpdk.org [217.70.189.124]) by inbox.dpdk.org (Postfix) with ESMTP id 825E848AB2 for ; Tue, 4 Nov 2025 18:17:31 +0100 (CET) Received: from mails.dpdk.org (localhost [127.0.0.1]) by mails.dpdk.org (Postfix) with ESMTP id 7CA5440653; Tue, 4 Nov 2025 18:17:31 +0100 (CET) Received: from mail-oi1-f225.google.com (mail-oi1-f225.google.com [209.85.167.225]) by mails.dpdk.org (Postfix) with ESMTP id BB12B40662 for ; Tue, 4 Nov 2025 18:17:30 +0100 (CET) Received: by mail-oi1-f225.google.com with SMTP id 5614622812f47-44fe4c3c19cso247429b6e.3 for ; Tue, 04 Nov 2025 09:17:30 -0800 (PST) DKIM-Signature: v=1; a=rsa-sha256; c=relaxed/relaxed; d=iol.unh.edu; s=unh-iol; t=1762276650; x=1762881450; darn=dpdk.org; h=references:in-reply-to:cc:to:from:subject:message-id:date:from:to :cc:subject:date:message-id:reply-to; bh=jyEHCCZOKyYzOo+URXFntA1kTCdBoMZalKi20fAnflQ=; b=d9tpuyqhZMufQ5Ui6D1LpIg4PO0KoV6iFDx7SU74+UnGumZ2ZLPRfEw3Z7vn7aVXJt VQD/VNrGV0NzO68/ml+2rNY31HHIlxMbsIOhfcCfOwm43Zw23THWKAELHDko2Fdh8teK T1B34DzIsSTIH9jtpkBM2DMlzgX+Dd69vONFA= X-Google-DKIM-Signature: v=1; a=rsa-sha256; c=relaxed/relaxed; d=1e100.net; s=20230601; t=1762276650; x=1762881450; h=references:in-reply-to:cc:to:from:subject:message-id:date :x-gm-message-state:from:to:cc:subject:date:message-id:reply-to; bh=jyEHCCZOKyYzOo+URXFntA1kTCdBoMZalKi20fAnflQ=; b=mCorHj94gfTkS2xFyvcBjLRdzlVipPfLcnvupAOvYjQMB8YnyY+sPYcmZn77x4rBH3 2OXz8H6RmMhapi2vuNvJIxfmHeEEFGfstysbV/78faDbvuAVP1xPfzOm6Dq3aZ20609A Y4cncev+siouRZwuU4o7UoEj2Xamw/h1oIrkM75x2L6JQKKKTFqhRlohF1cp2cIgGd+P hrwzA9RzWdW5uMYc3HNbZeTmFGSyf6yYlNsKSRaV3P+OZb0A3oQ+XZBFPAk9kxkUixRs 17wqzT57M08HzXa58mObBrPEi0PHvmen5wwytmbqjHYYq79zbrOc4yjBAnC3di5vt934 cAug== X-Gm-Message-State: AOJu0YzDy0ZnvrTZYolSiQluuuKDjTBTeHRvbAVKEFld0PG6Br9PtoA/ PNc+5LOe8R4jmOI5nFuuGY9wm1/n6Q4ynb99UflHnjBoI4iNRlZiAsVA9rDTCa/IsjXkpbtFWVY g80ivL8oagznMmaRUob2lMAFMkOnvmfpVKoJWjGLtmw6z X-Gm-Gg: ASbGncuxDoW7GcKSm77xcvWIa3HGqDZUGjUQb85ipk4xOSiGkGDQCSp+MubEZFaVS2K J47LrB/iZ6VmAx0hfRavtct01ii1QpGcmwwC0qScJnzkcc0TySRqvNf42ixwl4NOMuE+SWm87YQ CZytLSAmWhS0hQtWqg4eXMp3UK57Zj0qJLUynI+/uTUSO9HaRWHeqgg0kMfvhtlZwBSwyHKJ1xp vsaaNNYD4CZ5pokLyowwKeW0pZiYXAnjZTIuqxp+lRPmJJATOmKaopGnRq20Nhfx3pCSzFFrgi+ p3olD3VyKMzh3q/FsfWoQUe9KSH/vQAmLLZER9HMrzwx+PjGLgPNT5eYUp+h5xi1NJYSMRjq0eo QgL7Njt21Hzv2u4oIQ1O8tGDa7B2b/DI= X-Google-Smtp-Source: AGHT+IGljYUn54hFcuQC55iB/IG/NtstftaZD2zjpZjWomzAbmgZBcq+tN4Ppk5xXAFGYdTvCMjMhLqq7CC2 X-Received: by 2002:a05:6808:30a4:b0:44d:ae60:6606 with SMTP id 5614622812f47-44fed3048bfmr95681b6e.13.1762276649870; Tue, 04 Nov 2025 09:17:29 -0800 (PST) Received: from postal.iol.unh.edu (postal.iol.unh.edu. [132.177.123.84]) by smtp-relay.gmail.com with ESMTPS id 8926c6da1cb9f-5b7225aac75sm452143173.11.2025.11.04.09.17.29 (version=TLS1_2 cipher=ECDHE-ECDSA-AES128-GCM-SHA256 bits=128/128); Tue, 04 Nov 2025 09:17:29 -0800 (PST) X-Relaying-Domain: iol.unh.edu Date: Tue, 04 Nov 2025 09:17:29 -0800 (PST) Message-ID: <690a3529.050a0220.1b5876.8f46SMTPIN_ADDED_MISSING@mx.google.com> Received: from [172.21.0.2] (unknown [172.18.0.240]) by postal.iol.unh.edu (Postfix) with ESMTP id 605F26051830; Tue, 4 Nov 2025 12:17:29 -0500 (EST) Subject: |SUCCESS| pw158424-158428 [PATCH] [v4,5/5] bpf: replace use of VLA From: dpdklab@iol.unh.edu To: Test Report Cc: dpdk-test-reports@iol.unh.edu In-Reply-To: <20251104160843.304044-6-stephen@networkplumber.org> References: <20251104160843.304044-6-stephen@networkplumber.org> Content-Type: text/plain X-BeenThere: test-report@dpdk.org X-Mailman-Version: 2.1.29 Precedence: list List-Id: automatic DPDK test reports List-Unsubscribe: , List-Archive: List-Post: List-Help: List-Subscribe: , Errors-To: test-report-bounces@dpdk.org Test-Label: iol-compile-amd64-testing Test-Status: SUCCESS http://dpdk.org/patch/158428 _Testing PASS_ Submitter: Stephen Hemminger Date: Tuesday, November 04 2025 16:07:30 DPDK git baseline: Repo:dpdk Branch: master CommitID:1bdf2b3c27880f1d90df46a89d5643f20587a973 158424-158428 --> testing pass Upstream job id: Windows-Compile-DPDK-Native#32112 Test environment and result as below: +-------------------------------+--------------------+------------------+-------------------------+-------------------+----------------------+ | Environment | dpdk_meson_compile | dpdk_compile_ovs | dpdk_llvm_clang_compile | dpdk_msvc_compile | dpdk_mingw64_compile | +===============================+====================+==================+=========================+===================+======================+ | CentOS Stream 9 | PASS | SKIPPED | SKIPPED | SKIPPED | SKIPPED | +-------------------------------+--------------------+------------------+-------------------------+-------------------+----------------------+ | CentOS Stream 10 | PASS | SKIPPED | SKIPPED | SKIPPED | SKIPPED | +-------------------------------+--------------------+------------------+-------------------------+-------------------+----------------------+ | Debian GNU/Linux 12 | PASS | SKIPPED | SKIPPED | SKIPPED | SKIPPED | +-------------------------------+--------------------+------------------+-------------------------+-------------------+----------------------+ | Fedora Linux 42 | PASS | PASS | SKIPPED | SKIPPED | SKIPPED | +-------------------------------+--------------------+------------------+-------------------------+-------------------+----------------------+ | openSUSE Leap 15.6 | PASS | SKIPPED | SKIPPED | SKIPPED | SKIPPED | +-------------------------------+--------------------+------------------+-------------------------+-------------------+----------------------+ | Red Hat Enterprise Linux 9.5 | PASS | SKIPPED | SKIPPED | SKIPPED | SKIPPED | +-------------------------------+--------------------+------------------+-------------------------+-------------------+----------------------+ | Red Hat Enterprise Linux 8.10 | PASS | SKIPPED | SKIPPED | SKIPPED | SKIPPED | +-------------------------------+--------------------+------------------+-------------------------+-------------------+----------------------+ | Ubuntu 20.04 | PASS | SKIPPED | SKIPPED | SKIPPED | SKIPPED | +-------------------------------+--------------------+------------------+-------------------------+-------------------+----------------------+ | FreeBSD 14.2 | PASS | SKIPPED | SKIPPED | SKIPPED | SKIPPED | +-------------------------------+--------------------+------------------+-------------------------+-------------------+----------------------+ | Ubuntu 22.04 | PASS | SKIPPED | SKIPPED | SKIPPED | SKIPPED | +-------------------------------+--------------------+------------------+-------------------------+-------------------+----------------------+ | Ubuntu 24.04 | PASS | PASS | SKIPPED | SKIPPED | SKIPPED | +-------------------------------+--------------------+------------------+-------------------------+-------------------+----------------------+ | Alpine Linux 3.22.0 | PASS | SKIPPED | SKIPPED | SKIPPED | SKIPPED | +-------------------------------+--------------------+------------------+-------------------------+-------------------+----------------------+ | Windows Server 2022 | SKIPPED | SKIPPED | PASS | PASS | PASS | +-------------------------------+--------------------+------------------+-------------------------+-------------------+----------------------+ CentOS Stream 9 Kernel: 5.15 Compiler: gcc gcc (GCC) 11.5.0 20240719 (Red Hat 11.5.0-11) CentOS Stream 10 Kernel: 5.15 Compiler: gcc gcc (GCC) 14.2.1 20250110 (Red Hat 14.2.1-8) Debian GNU/Linux 12 Kernel: 5.15 Compiler: gcc gcc (Debian 12.2.0-14+deb12u1) 12.2.0 Fedora Linux 42 Kernel: 5.15 Compiler: clang gcc (GCC) 15.2.1 20250808 (Red Hat 15.2.1-1) openSUSE Leap 15.6 Kernel: 5.15 Compiler: gcc gcc (SUSE Linux) 7.5.0 Red Hat Enterprise Linux 9.5 Kernel: 5.15 Compiler: gcc gcc (GCC) 11.5.0 20240719 (Red Hat 11.5.0-2) Red Hat Enterprise Linux 8.10 Kernel: 5.15 Compiler: gcc gcc (GCC) 8.5.0 20210514 (Red Hat 8.5.0-22) Ubuntu 20.04 Kernel: 5.15 Compiler: gcc gcc (Ubuntu 9.4.0-1ubuntu1~20.04.2) 9.4.0 FreeBSD 14.2 Kernel: 14.2-RELEASE Compiler: clang 18.1.6 Ubuntu 22.04 Kernel: 5.15 Compiler: gcc gcc (Ubuntu 11.4.0-1ubuntu1~22.04) 11.4.0 Ubuntu 24.04 Kernel: 5.15 Compiler: gcc gcc (Ubuntu 13.3.0-6ubuntu2~24.04) 13.3.0 Alpine Linux 3.22.0 Kernel: 5.15 Compiler: gcc gcc (Alpine 14.2.0) 14.2.0 Windows Server 2022 Kernel: 10.0.20348.2031 Compiler: clang 15.0.7, gcc 14.1.0 (MinGW), and MSVC VS 19.39.33521 To view detailed results, visit: https://lab.dpdk.org/results/dashboard/patchsets/34461/ UNH-IOL DPDK Community Lab To manage your email subscriptions, visit: https://lab.dpdk.org/results/dashboard/preferences/subscriptions/